Workbook

Sheet Ek.3-D
J1: Ek.3-D
A2: YERLİ KATKI ORANI HESAP CETVELİ
A3: Yerli Girdi Maliyet Tutarı | E3: TL | F3: İthal Girdi Maliyet Tutarı | J3: TL
A4: Yerli Girdi | B4: Nihai Ürün Doğrudan ve Dolaylı Malzeme Giderleri Toplamı (T1) | E4: =Veriler!Y207 -> 0 | F4: İthal Girdi | G4: Nihai Ürün Doğrudan ve Dolaylı Malzeme Giderleri Toplamı (T2) | J4: =Veriler!Z207 -> 0
B5: Nihai Ürün Doğrudan ve Dolaylı İşcilik Giderleri Toplamı (T3) | E5: =Veriler!AA9 -> 0 | G5: Nihai Ürün Doğrudan ve Dolaylı İşcilik Giderleri Toplamı (T4) | J5: =Veriler!AB9 -> 0
B6: Nihai Ürün İle İlgili Genel Giderler Toplamı (T5) | E6: =Veriler!AC9 -> 0 | G6: Nihai Ürün İle İlgili Genel Giderler Toplamı (T6) | J6: =Veriler!AD9 -> 0
B7: Yerli Girdi Maliyet Tutarı (= T1+ T3+T5) | E7: =SUM(E4:E6) -> 0 | G7: İthal Girdi Maliyet Tutarı ( =T2+ T4+T6) | J7: =SUM(J4:J6) -> 0
A8: YERLİ KATKI ORANI HESAPLAMASI
A9: Teknolojik Ürün Belgesi Puanı 1
A10: Nihai Ürün Maliyet Tutarı (TL) (Yerli Girdi Maliyet Tutarı +İthal Girdi Maliyet Tutarı=T1+T2+T3+T4+T5+T6) | E10: =IFERROR(E7+J7, " ") -> 0 | F10: Nihai Ürün İçindeki İthal Girdi Maliyet Tutarı (TL) (İthal Girdi Maliyet Tutarı =T2+ T4+T6) | J10: =J7 -> 0
A12: Yerli Katkı Oranı (%) 2 (%100ü geçemez) | C12: =IFERROR(IF(Veriler!Z212>100,100,Veriler!Z212),0) -> 0 | F12: Yerli Malı Belgesi Sınıfı 3 | H12: =IFERROR(VLOOKUP(C12,Veriler!A1:B9900,2)," ")
A13: Üretici Unvanı | F13: Adı ve Soyadı | H13: Unvanı
A14: Ürün Adı
A15: Ürün Kodu (PRODTR/GTİP)
A16: Yerli Katkı Oranı Hesap Cetvelini Düzenleyen (Üretici Yetkilisi)
A17: Mali ve Teknik İnceleme | F17: Adı ve Soyadı | H17: Unvanı
A18: Yerli Katkı Oranı Hesabını Mali Yönden İnceleyen ve Doğruluğunu Teyit Eden Mali Uzman
A19: İncelemeye ibraz olunan defter ve belgelerin ilgili mevzuat hükümlerine uygun olduğu ve gerçeği yansıttığı tespit edilmiştir. Ürünün üretimi kapsamında Türkiye' den ve Türkiye dışından sağlanan hammade, malzeme, ürün, hizmet vb.ye ilişkin tüm faturalar, bedelleri, gümrük beyannameleri, sanayi sicil belgeleri ile üretici bünyesinde gerçekleştirilen faaliyetlere ilişkin kayıtlar incelenmiş ve yerli ve ithal girdiler yukarıda belirtildiği şekilde tespit edilmiştir.
A22: Yerli Katkı Oranı Hesabını Teknik Yönden İnceleyen ve Uygunluğını Teyit Eden Teknik Uzman
A23: Ürünün üretiminde kullanılan girdiler, üretim teknolojisi ve süreci göz önünde bulundurarak kontrol edilmiş ve ürünün üretimi için gerekli olan tüm girdilerin Yerki Katkı Oranı hesabına doğru oranda dahil edildiği tespit edilmiştir.

Sheet Ek.3-B
N1: Ek.3-B / 1
A2: YERLİ KATKI ORANI HESAP CETVELİ
A3: B) Nihai Ürün Doğrudan ve Dolaylı İşçilik Giderleri S / 1
A4: Sıra No | B4: Yerli Girdi | H4: Sıra No | I4: İthal Girdi
B5: işçilik | C5: a=Miktar | D5: Birim | E5: b=Fiyatı(TL) | F5: c= axb= İşçilik Maliyet Tutarı (TL) | I5: İşçilik | J5: a=Miktar | K5: Birim | L5: b=Fiyatı (Döviz cinsinden) | M5: c=Döviz Kuru | N5: d= axbxc =İşçilik Maliyet Tutarı (TL)
B6: Doğrudan | I6: Doğrudan
A7: 1 | F7: =IF(C7*E7 = 0, "", C7*E7) | H7: 1 | N7: =IF(J7*L7*M7 = 0, "", J7*L7*M7)
A8: 2 | F8: =IF(C8*E8 = 0, "", C8*E8) | H8: 2 | N8: =IF(J8*L8*M8 = 0, "", J8*L8*M8)
A9: 3 | F9: =IF(C9*E9 = 0, "", C9*E9) | H9: 3 | N9: =IF(J9*L9*M9 = 0, "", J9*L9*M9)
A10: 4 | F10: =IF(C10*E10 = 0, "", C10*E10) | H10: 4 | N10: =IF(J10*L10*M10 = 0, "", J10*L10*M10)
A11: 5 | F11: =IF(C11*E11 = 0, "", C11*E11) | H11: 5 | N11: =IF(J11*L11*M11 = 0, "", J11*L11*M11)
A12: 6 | F12: =IF(C12*E12 = 0, "", C12*E12) | H12: 6 | N12: =IF(J12*L12*M12 = 0, "", J12*L12*M12)
A13: 7 | F13: =IF(C13*E13 = 0, "", C13*E13) | H13: 7 | N13: =IF(J13*L13*M13 = 0, "", J13*L13*M13)
A14: 8 | F14: =IF(C14*E14 = 0, "", C14*E14) | H14: 8 | N14: =IF(J14*L14*M14 = 0, "", J14*L14*M14)
A15: 9 | F15: =IF(C15*E15 = 0, "", C15*E15) | H15: 9 | N15: =IF(J15*L15*M15 = 0, "", J15*L15*M15)
A16: 10 | F16: =IF(C16*E16 = 0, "", C16*E16) | H16: 10 | N16: =IF(J16*L16*M16 = 0, "", J16*L16*M16)
A17: 11 | F17: =IF(C17*E17 = 0, "", C17*E17) | H17: 11 | N17: =IF(J17*L17*M17 = 0, "", J17*L17*M17)
A18: 12 | F18: =IF(C18*E18 = 0, "", C18*E18) | H18: 12 | N18: =IF(J18*L18*M18 = 0, "", J18*L18*M18)
B19: Dolaylı | I19: Dolaylı
A20: 1 | F20: =IF(C20*E20 = 0, "", C20*E20) | H20: 1 | N20: =IF(J20*L20*M20 = 0, "", J20*L20*M20)
A21: 2 | F21: =IF(C21*E21 = 0, "", C21*E21) | H21: 2 | N21: =IF(J21*L21*M21 = 0, "", J21*L21*M21)
A22: 3 | F22: =IF(C22*E22 = 0, "", C22*E22) | H22: 3 | N22: =IF(J22*L22*M22 = 0, "", J22*L22*M22)
A23: 4 | F23: =IF(C23*E23 = 0, "", C23*E23) | H23: 4 | N23: =IF(J23*L23*M23 = 0, "", J23*L23*M23)
A24: 5 | F24: =IF(C24*E24 = 0, "", C24*E24) | H24: 5 | N24: =IF(J24*L24*M24 = 0, "", J24*L24*M24)
A25: 6 | F25: =IF(C25*E25 = 0, "", C25*E25) | H25: 6 | N25: =IF(J25*L25*M25 = 0, "", J25*L25*M25)
A26: 7 | F26: =IF(C26*E26 = 0, "", C26*E26) | H26: 7 | N26: =IF(J26*L26*M26 = 0, "", J26*L26*M26)
A27: 8 | F27: =IF(C27*E27 = 0, "", C27*E27) | H27: 8 | N27: =IF(J27*L27*M27 = 0, "", J27*L27*M27)
A28: 9 | F28: =IF(C28*E28 = 0, "", C28*E28) | H28: 9 | N28: =IF(J28*L28*M28 = 0, "", J28*L28*M28)
A29: 10 | F29: =IF(C29*E29 = 0, "", C29*E29) | H29: 10 | N29: =IF(J29*L29*M29 = 0, "", J29*L29*M29)
A30: 11 | F30: =IF(C30*E30 = 0, "", C30*E30) | H30: 11 | N30: =IF(J30*L30*M30 = 0, "", J30*L30*M30)
A31: 12 | F31: =IF(C31*E31 = 0, "", C31*E31) | H31: 12 | N31: =IF(J31*L31*M31 = 0, "", J31*L31*M31)
A32: Sayfa Toplamı (TL) T3 *(Genel Dip Toplam Ek.3-D sayfasında otomatik hesaplanacaktır.) | F32: =IF(SUM(F7:F18,F20:F31)=0," ",SUM(F7:F18,F20:F31)) | H32: Sayfa Toplamı (TL) T4 *(Genel Dip Toplam Ek.3-D sayfasında otomatik hesaplanacaktır.) | N32: =IF(SUM(N7:N18,N20:N31)=0," ",SUM(N7:N18,N20:N31))
A36: YERLİ KATKI ORANI HESAP CETVELİ
A37: B) Nihai Ürün Doğrudan ve Dolaylı İşçilik Giderleri S / 2
A38: Sıra No | B38: Yerli Girdi | H38: Sıra No | I38: İthal Girdi
B39: işçilik | C39: a=Miktar | D39: Birim | E39: b=Fiyatı(TL) | F39: c= axb= İşçilik Maliyet Tutarı (TL) | I39: İşçilik | J39: a=Miktar | K39: Birim | L39: b=Fiyatı (Döviz cinsinden) | M39: c=Döviz Kuru | N39: d= axbxc =İşçilik Maliyet Tutarı (TL)
B40: Doğrudan | I40: Doğrudan
A41: =A31+1 -> 13 | F41: =IF(C41*E41 = 0, "", C41*E41) | H41: =H31+1 -> 13 | N41: =IF(J41*L41*M41 = 0, "", J41*L41*M41)
A42: =A41+1 -> 14 | F42: =IF(C42*E42 = 0, "", C42*E42) | H42: =H41+1 -> 14 | N42: =IF(J42*L42*M42 = 0, "", J42*L42*M42)
A43: =A42+1 -> 15 | F43: =IF(C43*E43 = 0, "", C43*E43) | H43: =H42+1 -> 15 | N43: =IF(J43*L43*M43 = 0, "", J43*L43*M43)
A44: =A43+1 -> 16 | F44: =IF(C44*E44 = 0, "", C44*E44) | H44: =H43+1 -> 16 | N44: =IF(J44*L44*M44 = 0, "", J44*L44*M44)
A45: =A44+1 -> 17 | F45: =IF(C45*E45 = 0, "", C45*E45) | H45: =H44+1 -> 17 | N45: =IF(J45*L45*M45 = 0, "", J45*L45*M45)
A46: =A45+1 -> 18 | F46: =IF(C46*E46 = 0, "", C46*E46) | H46: =H45+1 -> 18 | N46: =IF(J46*L46*M46 = 0, "", J46*L46*M46)
A47: =A46+1 -> 19 | F47: =IF(C47*E47 = 0, "", C47*E47) | H47: =H46+1 -> 19 | N47: =IF(J47*L47*M47 = 0, "", J47*L47*M47)
A48: =A47+1 -> 20 | F48: =IF(C48*E48 = 0, "", C48*E48) | H48: =H47+1 -> 20 | N48: =IF(J48*L48*M48 = 0, "", J48*L48*M48)
A49: =A48+1 -> 21 | F49: =IF(C49*E49 = 0, "", C49*E49) | H49: =H48+1 -> 21 | N49: =IF(J49*L49*M49 = 0, "", J49*L49*M49)
A50: =A49+1 -> 22 | F50: =IF(C50*E50 = 0, "", C50*E50) | H50: =H49+1 -> 22 | N50: =IF(J50*L50*M50 = 0, "", J50*L50*M50)
A51: =A50+1 -> 23 | F51: =IF(C51*E51 = 0, "", C51*E51) | H51: =H50+1 -> 23 | N51: =IF(J51*L51*M51 = 0, "", J51*L51*M51)
A52: =A51+1 -> 24 | F52: =IF(C52*E52 = 0, "", C52*E52) | H52: =H51+1 -> 24 | N52: =IF(J52*L52*M52 = 0, "", J52*L52*M52)
B53: Dolaylı | I53: Dolaylı
A54: =A31+1 -> 13 | F54: =IF(C54*E54 = 0, "", C54*E54) | H54: =H31+1 -> 13 | N54: =IF(J54*L54*M54 = 0, "", J54*L54*M54)
A55: =A54+1 -> 14 | F55: =IF(C55*E55 = 0, "", C55*E55) | H55: =H54+1 -> 14 | N55: =IF(J55*L55*M55 = 0, "", J55*L55*M55)
A56: =A55+1 -> 15 | F56: =IF(C56*E56 = 0, "", C56*E56) | H56: =H55+1 -> 15 | N56: =IF(J56*L56*M56 = 0, "", J56*L56*M56)
A57: =A56+1 -> 16 | F57: =IF(C57*E57 = 0, "", C57*E57) | H57: =H56+1 -> 16 | N57: =IF(J57*L57*M57 = 0, "", J57*L57*M57)
A58: =A57+1 -> 17 | F58: =IF(C58*E58 = 0, "", C58*E58) | H58: =H57+1 -> 17 | N58: =IF(J58*L58*M58 = 0, "", J58*L58*M58)
A59: =A58+1 -> 18 | F59: =IF(C59*E59 = 0, "", C59*E59) | H59: =H58+1 -> 18 | N59: =IF(J59*L59*M59 = 0, "", J59*L59*M59)
A60: =A59+1 -> 19 | F60: =IF(C60*E60 = 0, "", C60*E60) | H60: =H59+1 -> 19 | N60: =IF(J60*L60*M60 = 0, "", J60*L60*M60)
A61: =A60+1 -> 20 | F61: =IF(C61*E61 = 0, "", C61*E61) | H61: =H60+1 -> 20 | N61: =IF(J61*L61*M61 = 0, "", J61*L61*M61)
A62: =A61+1 -> 21 | F62: =IF(C62*E62 = 0, "", C62*E62) | H62: =H61+1 -> 21 | N62: =IF(J62*L62*M62 = 0, "", J62*L62*M62)
A63: =A62+1 -> 22 | F63: =IF(C63*E63 = 0, "", C63*E63) | H63: =H62+1 -> 22 | N63: =IF(J63*L63*M63 = 0, "", J63*L63*M63)
A64: =A63+1 -> 23 | F64: =IF(C64*E64 = 0, "", C64*E64) | H64: =H63+1 -> 23 | N64: =IF(J64*L64*M64 = 0, "", J64*L64*M64)
A65: =A64+1 -> 24 | F65: =IF(C65*E65 = 0, "", C65*E65) | H65: =H64+1 -> 24 | N65: =IF(J65*L65*M65 = 0, "", J65*L65*M65)
A66: Sayfa Toplamı (TL) T3 *(Genel Dip Toplam Ek.3-D sayfasında otomatik hesaplanacaktır.) | F66: =IF(SUM(F41:F52,F54:F65)=0," ",SUM(F41:F52,F54:F65)) | H66: Sayfa Toplamı (TL) T4 *(Genel Dip Toplam Ek.3-D sayfasında otomatik hesaplanacaktır.) | N66: =IF(SUM(N41:N52,N54:N65)=0," ",SUM(N41:N52,N54:N65))
A70: YERLİ KATKI ORANI HESAP CETVELİ
A71: B) Nihai Ürün Doğrudan ve Dolaylı İşçilik Giderleri S / 3
A72: Sıra No | B72: Yerli Girdi | H72: Sıra No | I72: İthal Girdi
B73: işçilik | C73: a=Miktar | D73: Birim | E73: b=Fiyatı(TL) | F73: c= axb= İşçilik Maliyet Tutarı (TL) | I73: İşçilik | J73: a=Miktar | K73: Birim | L73: b=Fiyatı (Döviz cinsinden) | M73: c=Döviz Kuru | N73: d= axbxc =İşçilik Maliyet Tutarı (TL)
B74: Doğrudan | I74: Doğrudan
A75: =A65+1 -> 25 | F75: =IF(C75*E75 = 0, "", C75*E75) | H75: =H65+1 -> 25 | N75: =IF(J75*L75*M75 = 0, "", J75*L75*M75)
A76: =A75+1 -> 26 | F76: =IF(C76*E76 = 0, "", C76*E76) | H76: =H75+1 -> 26 | N76: =IF(J76*L76*M76 = 0, "", J76*L76*M76)
A77: =A76+1 -> 27 | F77: =IF(C77*E77 = 0, "", C77*E77) | H77: =H76+1 -> 27 | N77: =IF(J77*L77*M77 = 0, "", J77*L77*M77)
A78: =A77+1 -> 28 | F78: =IF(C78*E78 = 0, "", C78*E78) | H78: =H77+1 -> 28 | N78: =IF(J78*L78*M78 = 0, "", J78*L78*M78)
A79: =A78+1 -> 29 | F79: =IF(C79*E79 = 0, "", C79*E79) | H79: =H78+1 -> 29 | N79: =IF(J79*L79*M79 = 0, "", J79*L79*M79)
A80: =A79+1 -> 30 | F80: =IF(C80*E80 = 0, "", C80*E80) | H80: =H79+1 -> 30 | N80: =IF(J80*L80*M80 = 0, "", J80*L80*M80)
A81: =A80+1 -> 31 | F81: =IF(C81*E81 = 0, "", C81*E81) | H81: =H80+1 -> 31 | N81: =IF(J81*L81*M81 = 0, "", J81*L81*M81)
A82: =A81+1 -> 32 | F82: =IF(C82*E82 = 0, "", C82*E82) | H82: =H81+1 -> 32 | N82: =IF(J82*L82*M82 = 0, "", J82*L82*M82)
A83: =A82+1 -> 33 | F83: =IF(C83*E83 = 0, "", C83*E83) | H83: =H82+1 -> 33 | N83: =IF(J83*L83*M83 = 0, "", J83*L83*M83)
A84: =A83+1 -> 34 | F84: =IF(C84*E84 = 0, "", C84*E84) | H84: =H83+1 -> 34 | N84: =IF(J84*L84*M84 = 0, "", J84*L84*M84)
A85: =A84+1 -> 35 | F85: =IF(C85*E85 = 0, "", C85*E85) | H85: =H84+1 -> 35 | N85: =IF(J85*L85*M85 = 0, "", J85*L85*M85)
A86: =A85+1 -> 36 | H86: =H85+1 -> 36 | N86: =IF(J86*L86*M86 = 0, "", J86*L86*M86)
B87: Dolaylı | I87: Dolaylı
A88: =A65+1 -> 25 | F88: =IF(C88*E88 = 0, "", C88*E88) | H88: =H65+1 -> 25 | N88: =IF(J88*L88*M88 = 0, "", J88*L88*M88)
A89: =A88+1 -> 26 | F89: =IF(C89*E89 = 0, "", C89*E89) | H89: =H88+1 -> 26 | N89: =IF(J89*L89*M89 = 0, "", J89*L89*M89)
A90: =A89+1 -> 27 | F90: =IF(C90*E90 = 0, "", C90*E90) | H90: =H89+1 -> 27 | N90: =IF(J90*L90*M90 = 0, "", J90*L90*M90)
A91: =A90+1 -> 28 | F91: =IF(C91*E91 = 0, "", C91*E91) | H91: =H90+1 -> 28 | N91: =IF(J91*L91*M91 = 0, "", J91*L91*M91)
A92: =A91+1 -> 29 | F92: =IF(C92*E92 = 0, "", C92*E92) | H92: =H91+1 -> 29 | N92: =IF(J92*L92*M92 = 0, "", J92*L92*M92)
A93: =A92+1 -> 30 | F93: =IF(C93*E93 = 0, "", C93*E93) | H93: =H92+1 -> 30 | N93: =IF(J93*L93*M93 = 0, "", J93*L93*M93)
A94: =A93+1 -> 31 | F94: =IF(C94*E94 = 0, "", C94*E94) | H94: =H93+1 -> 31 | N94: =IF(J94*L94*M94 = 0, "", J94*L94*M94)
A95: =A94+1 -> 32 | F95: =IF(C95*E95 = 0, "", C95*E95) | H95: =H94+1 -> 32 | N95: =IF(J95*L95*M95 = 0, "", J95*L95*M95)
A96: =A95+1 -> 33 | F96: =IF(C96*E96 = 0, "", C96*E96) | H96: =H95+1 -> 33 | N96: =IF(J96*L96*M96 = 0, "", J96*L96*M96)
A97: =A96+1 -> 34 | F97: =IF(C97*E97 = 0, "", C97*E97) | H97: =H96+1 -> 34 | N97: =IF(J97*L97*M97 = 0, "", J97*L97*M97)
A98: =A97+1 -> 35 | F98: =IF(C98*E98 = 0, "", C98*E98) | H98: =H97+1 -> 35 | N98: =IF(J98*L98*M98 = 0, "", J98*L98*M98)
A99: =A98+1 -> 36 | F99: =IF(C99*E99 = 0, "", C99*E99) | H99: =H98+1 -> 36 | N99: =IF(J99*L99*M99 = 0, "", J99*L99*M99)
A100: Sayfa Toplamı (TL) T3 *(Genel Dip Toplam Ek.3-D sayfasında otomatik hesaplanacaktır.) | F100: =IF(SUM(F75:F86,F88:F99)=0," ",SUM(F75:F86,F88:F99)) | H100: Sayfa Toplamı (TL) T4 *(Genel Dip Toplam Ek.3-D sayfasında otomatik hesaplanacaktır.) | N100: =IF(SUM(N75:N86,N88:N99)=0," ",SUM(N75:N86,N88:N99))
A104: YERLİ KATKI ORANI HESAP CETVELİ
A105: B) Nihai Ürün Doğrudan ve Dolaylı İşçilik Giderleri S / 4
A106: Sıra No | B106: Yerli Girdi | H106: Sıra No | I106: İthal Girdi
B107: işçilik | C107: a=Miktar | D107: Birim | E107: b=Fiyatı(TL) | F107: c= axb= İşçilik Maliyet Tutarı (TL) | I107: İşçilik | J107: a=Miktar | K107: Birim | L107: b=Fiyatı (Döviz cinsinden) | M107: c=Döviz Kuru | N107: d= axbxc =İşçilik Maliyet Tutarı (TL)
B108: Doğrudan | I108: Doğrudan
A109: =A99+1 -> 37 | F109: =IF(C109*E109 = 0, "", C109*E109) | H109: =H99+1 -> 37 | N109: =IF(J109*L109*M109 = 0, "", J109*L109*M109)
...

Sheet Ek.3-C
N1: Ek.3-C / 1
A2: YERLİ KATKI ORANI HESAP CETVELİ
A3: C) Nihai Ürün İle İlgili Genel Giderler S / 1
A4: Sıra No | B4: Yerli Girdi | H4: Sıra No | I4: İthal Girdi*
B5: Genel Gider Türü | C5: a=Miktar | D5: Birim | E5: b=Fiyatı(TL) | F5: c= axb= Genel Gider Tutarı (TL) | I5: Genel Gider Türü | J5: a=Miktar | K5: Birim | L5: b=Fiyatı (Döviz cinsinden) | M5: c=Döviz Kuru | N5: d= axbxc= Genel Gider Tutarı (TL)
A6: 1 | F6: =IF(C6*E6 = 0, "", C6*E6) | H6: 1 | N6: =IF(J6*L6*M6 = 0, "", J6*L6*M6)
A7: 2 | F7: =IF(C7*E7 = 0, "", C7*E7) | H7: 2 | N7: =IF(J7*L7*M7 = 0, "", J7*L7*M7)
A8: 3 | F8: =IF(C8*E8 = 0, "", C8*E8) | H8: 3 | N8: =IF(J8*L8*M8 = 0, "", J8*L8*M8)
A9: 4 | F9: =IF(C9*E9 = 0, "", C9*E9) | H9: 4 | N9: =IF(J9*L9*M9 = 0, "", J9*L9*M9)
A10: 5 | F10: =IF(C10*E10 = 0, "", C10*E10) | H10: 5 | N10: =IF(J10*L10*M10 = 0, "", J10*L10*M10)
A11: 6 | F11: =IF(C11*E11 = 0, "", C11*E11) | H11: 6 | N11: =IF(J11*L11*M11 = 0, "", J11*L11*M11)
A12: 7 | F12: =IF(C12*E12 = 0, "", C12*E12) | H12: 7 | N12: =IF(J12*L12*M12 = 0, "", J12*L12*M12)
A13: 8 | F13: =IF(C13*E13 = 0, "", C13*E13) | H13: 8 | N13: =IF(J13*L13*M13 = 0, "", J13*L13*M13)
A14: 9 | F14: =IF(C14*E14 = 0, "", C14*E14) | H14: 9 | N14: =IF(J14*L14*M14 = 0, "", J14*L14*M14)
A15: 10 | F15: =IF(C15*E15 = 0, "", C15*E15) | H15: 10 | N15: =IF(J15*L15*M15 = 0, "", J15*L15*M15)
A16: 11 | F16: =IF(C16*E16 = 0, "", C16*E16) | H16: 11 | N16: =IF(J16*L16*M16 = 0, "", J16*L16*M16)
A17: 12 | F17: =IF(C17*E17 = 0, "", C17*E17) | H17: 12 | N17: =IF(J17*L17*M17 = 0, "", J17*L17*M17)
... A30: 25 | F30: =IF(C30*E30 = 0, "", C30*E30) | H30: 25 | N30: =IF(J30*L30*M30 = 0, "", J30*L30*M30)
A31: Sayfa Toplamı (TL) T5 *(Genel Dip Toplam Ek.3-D sayfasında otomatik hesaplanacaktır.) | F31: =IF(SUM(F6:F30)=0, " ", SUM(F6:F30)) | H31: Sayfa Toplamı (TL) T6 *(Genel Dip Toplam Ek.3-D sayfasında otomatik hesaplanacaktır.) | N31: =IF(SUM(N6:N30)=0, " ", SUM(N6:N30))
N34: Ek.3-C / 2
A35: YERLİ KATKI ORANI HESAP CETVELİ
A36: C) Nihai Ürün İle İlgili Genel Giderler S / 2
A37: Sıra No | B37: Yerli Girdi | H37: Sıra No | I37: İthal Girdi*
B38: Genel Gider Türü | C38: a=Miktar | D38: Birim | E38: b=Fiyatı(TL) | F38: c= axb= Genel Gider Tutarı (TL) | I38: Genel Gider Türü | J38: a=Miktar | K38: Birim | L38: b=Fiyatı (Döviz cinsinden) | M38: c=Döviz Kuru | N38: d= axbxc= Genel Gider Tutarı (TL)
A39: 26 | F39: =IF(C39*E39 = 0, "", C39*E39) | H39: 26 | N39: =IF(J39*L39*M39 = 0, "", J39*L39*M39)
A40: 27 | F40: =IF(C40*E40 = 0, "", C40*E40) | H40: 27 | N40: =IF(J40*L40*M40 = 0, "", J40*L40*M40)
A41: 28 | F41: =IF(C41*E41 = 0, "", C41*E41) | H41: 28 | N41: =IF(J41*L41*M41 = 0, "", J41*L41*M41)
A42: 29 | F42: =IF(C42*E42 = 0, "", C42*E42) | H42: 29 | N42: =IF(J42*L42*M42 = 0, "", J42*L42*M42)
A43: 30 | F43: =IF(C43*E43 = 0, "", C43*E43) | H43: 30 | N43: =IF(J43*L43*M43 = 0, "", J43*L43*M43)
A44: 31 | F44: =IF(C44*E44 = 0, "", C44*E44) | H44: 31 | N44: =IF(J44*L44*M44 = 0, "", J44*L44*M44)
A45: 32 | F45: =IF(C45*E45 = 0, "", C45*E45) | H45: 32 | N45: =IF(J45*L45*M45 = 0, "", J45*L45*M45)
A46: 33 | F46: =IF(C46*E46 = 0, "", C46*E46) | H46: 33 | N46: =IF(J46*L46*M46 = 0, "", J46*L46*M46)
A47: 34 | F47: =IF(C47*E47 = 0, "", C47*E47) | H47: 34 | N47: =IF(J47*L47*M47 = 0, "", J47*L47*M47)
A48: 35 | F48: =IF(C48*E48 = 0, "", C48*E48) | H48: 35 | N48: =IF(J48*L48*M48 = 0, "", J48*L48*M48)
A49: 36 | F49: =IF(C49*E49 = 0, "", C49*E49) | H49: 36 | N49: =IF(J49*L49*M49 = 0, "", J49*L49*M49)
A50: 37 | F50: =IF(C50*E50 = 0, "", C50*E50) | H50: 37 | N50: =IF(J50*L50*M50 = 0, "", J50*L50*M50)
... A63: 50 | F63: =IF(C63*E63 = 0, "", C63*E63) | H63: 50 | N63: =IF(J63*L63*M63 = 0, "", J63*L63*M63)
A64: Sayfa Toplamı (TL) T5 *(Genel Dip Toplam Ek.3-D sayfasında otomatik hesaplanacaktır.) | F64: =IF(SUM(F39:F63)=0, " ", SUM(F39:F63)) | H64: Sayfa Toplamı (TL) T6 *(Genel Dip Toplam Ek.3-D sayfasında otomatik hesaplanacaktır.) | N64: =IF(SUM(N39:N63)=0, " ", SUM(N39:N63))
N67: Ek.3-C / 3
A68: YERLİ KATKI ORANI HESAP CETVELİ
A69: C) Nihai Ürün İle İlgili Genel Giderler S / 3
A70: Sıra No | B70: Yerli Girdi | H70: Sıra No | I70: İthal Girdi*
B71: Genel Gider Türü | C71: a=Miktar | D71: Birim | E71: b=Fiyatı(TL) | F71: c= axb= Genel Gider Tutarı (TL) | I71: Genel Gider Türü | J71: a=Miktar | K71: Birim | L71: b=Fiyatı (Döviz cinsinden) | M71: c=Döviz Kuru | N71: d= axbxc= Genel Gider Tutarı (TL)
A72: 51 | F72: =IF(C72*E72 = 0, "", C72*E72) | H72: 51 | N72: =IF(J72*L72*M72 = 0, "", J72*L72*M72)
A73: 52 | F73: =IF(C73*E73 = 0, "", C73*E73) | H73: 52 | N73: =IF(J73*L73*M73 = 0, "", J73*L73*M73)
A74: 53 | F74: =IF(C74*E74 = 0, "", C74*E74) | H74: 53 | N74: =IF(J74*L74*M74 = 0, "", J74*L74*M74)
A75: 54 | F75: =IF(C75*E75 = 0, "", C75*E75) | H75: 54 | N75: =IF(J75*L75*M75 = 0, "", J75*L75*M75)
A76: 55 | F76: =IF(C76*E76 = 0, "", C76*E76) | H76: 55 | N76: =IF(J76*L76*M76 = 0, "", J76*L76*M76)
A77: 56 | F77: =IF(C77*E77 = 0, "", C77*E77) | H77: 56 | N77: =IF(J77*L77*M77 = 0, "", J77*L77*M77)
A78: 57 | F78: =IF(C78*E78 = 0, "", C78*E78) | H78: 57 | N78: =IF(J78*L78*M78 = 0, "", J78*L78*M78)
A79: 58 | F79: =IF(C79*E79 = 0, "", C79*E79) | H79: 58 | N79: =IF(J79*L79*M79 = 0, "", J79*L79*M79)
A80: 59 | F80: =IF(C80*E80 = 0, "", C80*E80) | H80: 59 | N80: =IF(J80*L80*M80 = 0, "", J80*L80*M80)
A81: 60 | F81: =IF(C81*E81 = 0, "", C81*E81) | H81: 60 | N81: =IF(J81*L81*M81 = 0, "", J81*L81*M81)
A82: 61 | F82: =IF(C82*E82 = 0, "", C82*E82) | H82: 61 | N82: =IF(J82*L82*M82 = 0, "", J82*L82*M82)
A83: 62 | F83: =IF(C83*E83 = 0, "", C83*E83) | H83: 62 | N83: =IF(J83*L83*M83 = 0, "", J83*L83*M83)
... A96: 75 | F96: =IF(C96*E96 = 0, "", C96*E96) | H96: 75 | N96: =IF(J96*L96*M96 = 0, "", J96*L96*M96)
A97: Sayfa Toplamı (TL) T5 *(Genel Dip Toplam Ek.3-D sayfasında otomatik hesaplanacaktır.) | F97: =IF(SUM(F72:F96)=0, " ", SUM(F72:F96)) | H97: Sayfa Toplamı (TL) T6 *(Genel Dip Toplam Ek.3-D sayfasında otomatik hesaplanacaktır.) | N97: =IF(SUM(N72:N96)=0, " ", SUM(N72:N96))
N100: Ek.3-C / 4
A101: YERLİ KATKI ORANI HESAP CETVELİ
A102: C) Nihai Ürün İle İlgili Genel Giderler S / 4
A103: Sıra No | B103: Yerli Girdi | H103: Sıra No | I103: İthal Girdi*
B104: Genel Gider Türü | C104: a=Miktar | D104: Birim | E104: b=Fiyatı(TL) | F104: c= axb= Genel Gider Tutarı (TL) | I104: Genel Gider Türü | J104: a=Miktar | K104: Birim | L104: b=Fiyatı (Döviz cinsinden) | M104: c=Döviz Kuru | N104: d= axbxc= Genel Gider Tutarı (TL)
A105: 76 | F105: =IF(C105*E105 = 0, "", C105*E105) | H105: 76 | N105: =IF(J105*L105*M105 = 0, "", J105*L105*M105)
A106: 77 | F106: =IF(C106*E106 = 0, "", C106*E106) | H106: 77 | N106: =IF(J106*L106*M106 = 0, "", J106*L106*M106)
A107: 78 | F107: =IF(C107*E107 = 0, "", C107*E107) | H107: 78 | N107: =IF(J107*L107*M107 = 0, "", J107*L107*M107)
A108: 79 | F108: =IF(C108*E108 = 0, "", C108*E108) | H108: 79 | N108: =IF(J108*L108*M108 = 0, "", J108*L108*M108)
A109: 80 | F109: =IF(C109*E109 = 0, "", C109*E109) | H109: 80 | N109: =IF(J109*L109*M109 = 0, "", J109*L109*M109)
A110: 81 | F110: =IF(C110*E110 = 0, "", C110*E110) | H110: 81 | N110: =IF(J110*L110*M110 = 0, "", J110*L110*M110)
A111: 82 | F111: =IF(C111*E111 = 0, "", C111*E111) | H111: 82 | N111: =IF(J111*L111*M111 = 0, "", J111*L111*M111)
A112: 83 | F112: =IF(C112*E112 = 0, "", C112*E112) | H112: 83 | N112: =IF(J112*L112*M112 = 0, "", J112*L112*M112)
A113: 84 | F113: =IF(C113*E113 = 0, "", C113*E113) | H113: 84 | N113: =IF(J113*L113*M113 = 0, "", J113*L113*M113)
A114: 85 | F114: =IF(C114*E114 = 0, "", C114*E114) | H114: 85 | N114: =IF(J114*L114*M114 = 0, "", J114*L114*M114)
A115: 86 | F115: =IF(C115*E115 = 0, "", C115*E115) | H115: 86 | N115: =IF(J115*L115*M115 = 0, "", J115*L115*M115)
A116: 87 | F116: =IF(C116*E116 = 0, "", C116*E116) | H116: 87 | N116: =IF(J116*L116*M116 = 0, "", J116*L116*M116)
... A129: 100 | F129: =IF(C129*E129 = 0, "", C129*E129) | H129: 100 | N129: =IF(J129*L129*M129 = 0, "", J129*L129*M129)
A130: Sayfa Toplamı (TL) T5 *(Genel Dip Toplam Ek.3-D sayfasında otomatik hesaplanacaktır.) | F130: =IF(SUM(F105:F129)=0, " ", SUM(F105:F129)) | H130: Sayfa Toplamı (TL) T6 *(Genel Dip Toplam Ek.3-D sayfasında otomatik hesaplanacaktır.) | N130: =IF(SUM(N105:N129)=0, " ", SUM(N105:N129))

Sheet Ek.3-A
A1: YERLİ KATKI ORANI HESAP CETVELİ
A2: A) Nihai Ürün Doğrudan ve Dolaylı Malzeme Giderleri | U2: S | V2: 1
A3: Sıra No | B3: Malzeme adı / Faturadaki Ürün Adı | D3: Üretici Unvanı | E3: PRODTR Kodu (Yerli girdiler için) | F3: GTİP Kodu (İthal girdiler için) | G3: Gtip Katsayısı | H3: Miktar | I3: Birim | J3: Fiyatı (TL/Döviz) | K3: Döviz Kuru (TL ise 1 alınız) | L3: Fatura Tutarı (TL) | M3: Girdi Maliyet Yüzdesi (%) | N3: Girdi yüzdesi %0,5 altında olan girdiler için %10 sınır kontrolü | O3: Girdi yüzdesi %0,5 altında olan girdiler için %10 sınır kontrolü | P3: SSB/ Müstahsil (E/H) | Q3: YKO (%) (Manuel girilmeli) | R3: Geçerli Yerli Oranı (%) | S3: Yerli Maliyet Tutarı (T1) | T3: Yerli Maliyet Tutarı (T1) | U3: Yerli Maliyet Tutarı (T1) | V3: İthal Maliyet Tutarı (T2)
B4: Doğrudan Girdi (Dolaylı girdiniz varsa en son 201. sayfaya doldurunuz)
A5: 1 | G5: =IF(AND(F5<>"",V5<>"",L5<>0),V5/L5,"") | L5: =IF(AND(H5<>0, J5<>0, K5<>0), H5*J5*K5, "") | M5: =IF(L5="", "", L5/Veriler!$X$1) | N5: =IF(F5<>"", "İthal Girdi", IF(Veriler!T5="", "", IF(Veriler!S5="H", "%0,5 üzerindedir", IF(Veriler!T5>0.1, "%10 sınırı aşılmıştır.", "Uygun")))) -> %0,5 üzerindedir | O5: =IF(M5=""," ",N5) | R5: =IFERROR(IF(AND(T5<>"",L5<>"",L5<>0,T5<>0),T5/L5,"")," ") | S5: =IFERROR(IF(M5<=0.005,IF(F5="",L5,0),IF(F5<>"",0,IF(P5="",0,IF(P5="H",0,IF(Q5<Veriler!$G$2,L5*Veriler!$G$2,L5*Q5)))))," ") -> 0 | T5: =IF(Veriler!T5<=0.1, S5, IF(AND(Veriler!T5>0.1, F5="", P5="E"), IF(Q5>Veriler!$G$2, Q5*S5, IF(Q5<Veriler!$G$2, Veriler!$G$2*S5, Q5*S5)), 0)) -> 0 | U5: =IF(T5=0," ",T5) | V5: =IFERROR(IF(O5="%10 sınırı aşılmıştır.",L5-T5,IFERROR(IF(F5="",IF(S5=1,0,IF(L5-S5=0,"",L5-S5)),IF(Veriler!M5="",L5,IF(L5*Veriler!M5=0,"",L5*Veriler!M5))),L5)),0)
A6: 2 | G6: =IF(AND(F6<>"",V6<>"",L6<>0),V6/L6,"") | L6: =IF(AND(H6<>0, J6<>0, K6<>0), H6*J6*K6, "") | M6: =IF(L6="", "", L6/Veriler!$X$1) | N6: =IF(F6<>"", "İthal Girdi", IF(Veriler!T6="", "", IF(Veriler!S6="H", "%0,5 üzerindedir", IF(Veriler!T6>0.1, "%10 sınırı aşılmıştır.", "Uygun")))) -> %0,5 üzerindedir | O6: =IF(M6=""," ",N6) | R6: =IFERROR(IF(AND(T6<>"",L6<>"",L6<>0,T6<>0),T6/L6,"")," ") | S6: =IFERROR(IF(M6<=0.005,IF(F6="",L6,0),IF(F6<>"",0,IF(P6="",0,IF(P6="H",0,IF(Q6<Veriler!$G$2,L6*Veriler!$G$2,L6*Q6)))))," ") -> 0 | T6: =IF(Veriler!T6<=0.1, S6, IF(AND(Veriler!T6>0.1, F6="", P6="E"), IF(Q6>Veriler!$G$2, Q6*S6, IF(Q6<Veriler!$G$2, Veriler!$G$2*S6, Q6*S6)), 0)) -> 0 | U6: =IF(T6=0," ",T6) | V6: =IFERROR(IF(O6="%10 sınırı aşılmıştır.",L6-T6,IFERROR(IF(F6="",IF(S6=1,0,IF(L6-S6=0,"",L6-S6)),IF(Veriler!M6="",L6,IF(L6*Veriler!M6=0,"",L6*Veriler!M6))),L6)),0)
A7: 3 | G7: =IF(AND(F7<>"",V7<>"",L7<>0),V7/L7,"") | L7: =IF(AND(H7<>0, J7<>0, K7<>0), H7*J7*K7, "") | M7: =IF(L7="", "", L7/Veriler!$X$1) | N7: =IF(F7<>"", "İthal Girdi", IF(Veriler!T7="", "", IF(Veriler!S7="H", "%0,5 üzerindedir", IF(Veriler!T7>0.1, "%10 sınırı aşılmıştır.", "Uygun")))) -> %0,5 üzerindedir | O7: =IF(M7=""," ",N7) | R7: =IFERROR(IF(AND(T7<>"",L7<>"",L7<>0,T7<>0),T7/L7,"")," ") | S7: =IFERROR(IF(M7<=0.005,IF(F7="",L7,0),IF(F7<>"",0,IF(P7="",0,IF(P7="H",0,IF(Q7<Veriler!$G$2,L7*Veriler!$G$2,L7*Q7)))))," ") -> 0 | T7: =IF(Veriler!T7<=0.1, S7, IF(AND(Veriler!T7>0.1, F7="", P7="E"), IF(Q7>Veriler!$G$2, Q7*S7, IF(Q7<Veriler!$G$2, Veriler!$G$2*S7, Q7*S7)), 0)) -> 0 | U7: =IF(T7=0," ",T7) | V7: =IFERROR(IF(O7="%10 sınırı aşılmıştır.",L7-T7,IFERROR(IF(F7="",IF(S7=1,0,IF(L7-S7=0,"",L7-S7)),IF(Veriler!M7="",L7,IF(L7*Veriler!M7=0,"",L7*Veriler!M7))),L7)),0)
A8: 4 | G8: =IF(AND(F8<>"",V8<>"",L8<>0),V8/L8,"") | L8: =IF(AND(H8<>0, J8<>0, K8<>0), H8*J8*K8, "") | M8: =IF(L8="", "", L8/Veriler!$X$1) | N8: =IF(F8<>"", "İthal Girdi", IF(Veriler!T8="", "", IF(Veriler!S8="H", "%0,5 üzerindedir", IF(Veriler!T8>0.1, "%10 sınırı aşılmıştır.", "Uygun")))) -> %0,5 üzerindedir | O8: =IF(M8=""," ",N8) | R8: =IFERROR(IF(AND(T8<>"",L8<>"",L8<>0,T8<>0),T8/L8,"")," ") | S8: =IFERROR(IF(M8<=0.005,IF(F8="",L8,0),IF(F8<>"",0,IF(P8="",0,IF(P8="H",0,IF(Q8<Veriler!$G$2,L8*Veriler!$G$2,L8*Q8)))))," ") -> 0 | T8: =IF(Veriler!T8<=0.1, S8, IF(AND(Veriler!T8>0.1, F8="", P8="E"), IF(Q8>Veriler!$G$2, Q8*S8, IF(Q8<Veriler!$G$2, Veriler!$G$2*S8, Q8*S8)), 0)) -> 0 | U8: =IF(T8=0," ",T8) | V8: =IFERROR(IF(O8="%10 sınırı aşılmıştır.",L8-T8,IFERROR(IF(F8="",IF(S8=1,0,IF(L8-S8=0,"",L8-S8)),IF(Veriler!M8="",L8,IF(L8*Veriler!M8=0,"",L8*Veriler!M8))),L8)),0)
A9: 5 | G9: =IF(AND(F9<>"",V9<>"",L9<>0),V9/L9,"") | L9: =IF(AND(H9<>0, J9<>0, K9<>0), H9*J9*K9, "") | M9: =IF(L9="", "", L9/Veriler!$X$1) | N9: =IF(F9<>"", "İthal Girdi", IF(Veriler!T9="", "", IF(Veriler!S9="H", "%0,5 üzerindedir", IF(Veriler!T9>0.1, "%10 sınırı aşılmıştır.", "Uygun")))) -> %0,5 üzerindedir | O9: =IF(M9=""," ",N9) | R9: =IFERROR(IF(AND(T9<>"",L9<>"",L9<>0,T9<>0),T9/L9,"")," ") | S9: =IFERROR(IF(M9<=0.005,IF(F9="",L9,0),IF(F9<>"",0,IF(P9="",0,IF(P9="H",0,IF(Q9<Veriler!$G$2,L9*Veriler!$G$2,L9*Q9)))))," ") -> 0 | T9: =IF(Veriler!T9<=0.1, S9, IF(AND(Veriler!T9>0.1, F9="", P9="E"), IF(Q9>Veriler!$G$2, Q9*S9, IF(Q9<Veriler!$G$2, Veriler!$G$2*S9, Q9*S9)), 0)) -> 0 | U9: =IF(T9=0," ",T9) | V9: =IFERROR(IF(O9="%10 sınırı aşılmıştır.",L9-T9,IFERROR(IF(F9="",IF(S9=1,0,IF(L9-S9=0,"",L9-S9)),IF(Veriler!M9="",L9,IF(L9*Veriler!M9=0,"",L9*Veriler!M9))),L9)),0)
A10: 6 | G10: =IF(AND(F10<>"",V10<>"",L10<>0),V10/L10,"") | L10: =IF(AND(H10<>0, J10<>0, K10<>0), H10*J10*K10, "") | M10: =IF(L10="", "", L10/Veriler!$X$1) | N10: =IF(F10<>"", "İthal Girdi", IF(Veriler!T10="", "", IF(Veriler!S10="H", "%0,5 üzerindedir", IF(Veriler!T10>0.1, "%10 sınırı aşılmıştır.", "Uygun")))) -> %0,5 üzerindedir | O10: =IF(M10=""," ",N10) | R10: =IFERROR(IF(AND(T10<>"",L10<>"",L10<>0,T10<>0),T10/L10,"")," ") | S10: =IFERROR(IF(M10<=0.005,IF(F10="",L10,0),IF(F10<>"",0,IF(P10="",0,IF(P10="H",0,IF(Q10<Veriler!$G$2,L10*Veriler!$G$2,L10*Q10)))))," ") -> 0 | T10: =IF(Veriler!T10<=0.1, S10, IF(AND(Veriler!T10>0.1, F10="", P10="E"), IF(Q10>Veriler!$G$2, Q10*S10, IF(Q10<Veriler!$G$2, Veriler!$G$2*S10, Q10*S10)), 0)) -> 0 | U10: =IF(T10=0," ",T10) | V10: =IFERROR(IF(O10="%10 sınırı aşılmıştır.",L10-T10,IFERROR(IF(F10="",IF(S10=1,0,IF(L10-S10=0,"",L10-S10)),IF(Veriler!M10="",L10,IF(L10*Veriler!M10=0,"",L10*Veriler!M10))),L10)),0)
A11: 7 | G11: =IF(AND(F11<>"",V11<>"",L11<>0),V11/L11,"") | L11: =IF(AND(H11<>0, J11<>0, K11<>0), H11*J11*K11, "") | M11: =IF(L11="", "", L11/Veriler!$X$1) | N11: =IF(F11<>"", "İthal Girdi", IF(Veriler!T11="", "", IF(Veriler!S11="H", "%0,5 üzerindedir", IF(Veriler!T11>0.1, "%10 sınırı aşılmıştır.", "Uygun")))) -> %0,5 üzerindedir | O11: =IF(M11=""," ",N11) | R11: =IFERROR(IF(AND(T11<>"",L11<>"",L11<>0,T11<>0),T11/L11,"")," ") | S11: =IFERROR(IF(M11<=0.005,IF(F11="",L11,0),IF(F11<>"",0,IF(P11="",0,IF(P11="H",0,IF(Q11<Veriler!$G$2,L11*Veriler!$G$2,L11*Q11)))))," ") -> 0 | T11: =IF(Veriler!T11<=0.1, S11, IF(AND(Veriler!T11>0.1, F11="", P11="E"), IF(Q11>Veriler!$G$2, Q11*S11, IF(Q11<Veriler!$G$2, Veriler!$G$2*S11, Q11*S11)), 0)) -> 0 | U11: =IF(T11=0," ",T11) | V11: =IFERROR(IF(O11="%10 sınırı aşılmıştır.",L11-T11,IFERROR(IF(F11="",IF(S11=1,0,IF(L11-S11=0,"",L11-S11)),IF(Veriler!M11="",L11,IF(L11*Veriler!M11=0,"",L11*Veriler!M11))),L11)),0)
A12: 8 | G12: =IF(AND(F12<>"",V12<>"",L12<>0),V12/L12,"") | L12: =IF(AND(H12<>0, J12<>0, K12<>0), H12*J12*K12, "") | M12: =IF(L12="", "", L12/Veriler!$X$1) | N12: =IF(F12<>"", "İthal Girdi", IF(Veriler!T12="", "", IF(Veriler!S12="H", "%0,5 üzerindedir", IF(Veriler!T12>0.1, "%10 sınırı aşılmıştır.", "Uygun")))) -> %0,5 üzerindedir | O12: =IF(M12=""," ",N12) | R12: =IFERROR(IF(AND(T12<>"",L12<>"",L12<>0,T12<>0),T12/L12,"")," ") | S12: =IFERROR(IF(M12<=0.005,IF(F12="",L12,0),IF(F12<>"",0,IF(P12="",0,IF(P12="H",0,IF(Q12<Veriler!$G$2,L12*Veriler!$G$2,L12*Q12)))))," ") -> 0 | T12: =IF(Veriler!T12<=0.1, S12, IF(AND(Veriler!T12>0.1, F12="", P12="E"), IF(Q12>Veriler!$G$2, Q12*S12, IF(Q12<Veriler!$G$2, Veriler!$G$2*S12, Q12*S12)), 0)) -> 0 | U12: =IF(T12=0," ",T12) | V12: =IFERROR(IF(O12="%10 sınırı aşılmıştır.",L12-T12,IFERROR(IF(F12="",IF(S12=1,0,IF(L12-S12=0,"",L12-S12)),IF(Veriler!M12="",L12,IF(L12*Veriler!M12=0,"",L12*Veriler!M12))),L12)),0)
A13: 9 | G13: =IF(AND(F13<>"",V13<>"",L13<>0),V13/L13,"") | L13: =IF(AND(H13<>0, J13<>0, K13<>0), H13*J13*K13, "") | M13: =IF(L13="", "", L13/Veriler!$X$1) | N13: =IF(F13<>"", "İthal Girdi", IF(Veriler!T13="", "", IF(Veriler!S13="H", "%0,5 üzerindedir", IF(Veriler!T13>0.1, "%10 sınırı aşılmıştır.", "Uygun")))) -> %0,5 üzerindedir | O13: =IF(M13=""," ",N13) | R13: =IFERROR(IF(AND(T13<>"",L13<>"",L13<>0,T13<>0),T13/L13,"")," ") | S13: =IFERROR(IF(M13<=0.005,IF(F13="",L13,0),IF(F13<>"",0,IF(P13="",0,IF(P13="H",0,IF(Q13<Veriler!$G$2,L13*Veriler!$G$2,L13*Q13)))))," ") -> 0 | T13: =IF(Veriler!T13<=0.1, S13, IF(AND(Veriler!T13>0.1, F13="", P13="E"), IF(Q13>Veriler!$G$2, Q13*S13, IF(Q13<Veriler!$G$2, Veriler!$G$2*S13, Q13*S13)), 0)) -> 0 | U13: =IF(T13=0," ",T13) | V13: =IFERROR(IF(O13="%10 sınırı aşılmıştır.",L13-T13,IFERROR(IF(F13="",IF(S13=1,0,IF(L13-S13=0,"",L13-S13)),IF(Veriler!M13="",L13,IF(L13*Veriler!M13=0,"",L13*Veriler!M13))),L13)),0)
A14: 10 | G14: =IF(AND(F14<>"",V14<>"",L14<>0),V14/L14,"") | L14: =IF(AND(H14<>0, J14<>0, K14<>0), H14*J14*K14, "") | M14: =IF(L14="", "", L14/Veriler!$X$1) | N14: =IF(F14<>"", "İthal Girdi", IF(Veriler!T14="", "", IF(Veriler!S14="H", "%0,5 üzerindedir", IF(Veriler!T14>0.1, "%10 sınırı aşılmıştır.", "Uygun")))) -> %0,5 üzerindedir | O14: =IF(M14=""," ",N14) | R14: =IFERROR(IF(AND(T14<>"",L14<>"",L14<>0,T14<>0),T14/L14,"")," ") | S14: =IFERROR(IF(M14<=0.005,IF(F14="",L14,0),IF(F14<>"",0,IF(P14="",0,IF(P14="H",0,IF(Q14<Veriler!$G$2,L14*Veriler!$G$2,L14*Q14)))))," ") -> 0 | T14: =IF(Veriler!T14<=0.1, S14, IF(AND(Veriler!T14>0.1, F14="", P14="E"), IF(Q14>Veriler!$G$2, Q14*S14, IF(Q14<Veriler!$G$2, Veriler!$G$2*S14, Q14*S14)), 0)) -> 0 | U14: =IF(T14=0," ",T14) | V14: =IFERROR(IF(O14="%10 sınırı aşılmıştır.",L14-T14,IFERROR(IF(F14="",IF(S14=1,0,IF(L14-S14=0,"",L14-S14)),IF(Veriler!M14="",L14,IF(L14*Veriler!M14=0,"",L14*Veriler!M14))),L14)),0)
A15: 11 | G15: =IF(AND(F15<>"",V15<>"",L15<>0),V15/L15,"") | L15: =IF(AND(H15<>0, J15<>0, K15<>0), H15*J15*K15, "") | M15: =IF(L15="", "", L15/Veriler!$X$1) | N15: =IF(F15<>"", "İthal Girdi", IF(Veriler!T15="", "", IF(Veriler!S15="H", "%0,5 üzerindedir", IF(Veriler!T15>0.1, "%10 sınırı aşılmıştır.", "Uygun")))) -> %0,5 üzerindedir | O15: =IF(M15=""," ",N15) | R15: =IFERROR(IF(AND(T15<>"",L15<>"",L15<>0,T15<>0),T15/L15,"")," ") | S15: =IFERROR(IF(M15<=0.005,IF(F15="",L15,0),IF(F15<>"",0,IF(P15="",0,IF(P15="H",0,IF(Q15<Veriler!$G$2,L15*Veriler!$G$2,L15*Q15)))))," ") -> 0 | T15: =IF(Veriler!T15<=0.1, S15, IF(AND(Veriler!T15>0.1, F15="", P15="E"), IF(Q15>Veriler!$G$2, Q15*S15, IF(Q15<Veriler!$G$2, Veriler!$G$2*S15, Q15*S15)), 0)) -> 0 | U15: =IF(T15=0," ",T15) | V15: =IFERROR(IF(O15="%10 sınırı aşılmıştır.",L15-T15,IFERROR(IF(F15="",IF(S15=1,0,IF(L15-S15=0,"",L15-S15)),IF(Veriler!M15="",L15,IF(L15*Veriler!M15=0,"",L15*Veriler!M15))),L15)),0)
A16: 12 | G16: =IF(AND(F16<>"",V16<>"",L16<>0),V16/L16,"") | L16: =IF(AND(H16<>0, J16<>0, K16<>0), H16*J16*K16, "") | M16: =IF(L16="", "", L16/Veriler!$X$1) | N16: =IF(F16<>"", "İthal Girdi", IF(Veriler!T16="", "", IF(Veriler!S16="H", "%0,5 üzerindedir", IF(Veriler!T16>0.1, "%10 sınırı aşılmıştır.", "Uygun")))) -> %0,5 üzerindedir | O16: =IF(M16=""," ",N16) | R16: =IFERROR(IF(AND(T16<>"",L16<>"",L16<>0,T16<>0),T16/L16,"")," ") | S16: =IFERROR(IF(M16<=0.005,IF(F16="",L16,0),IF(F16<>"",0,IF(P16="",0,IF(P16="H",0,IF(Q16<Veriler!$G$2,L16*Veriler!$G$2,L16*Q16)))))," ") -> 0 | T16: =IF(Veriler!T16<=0.1, S16, IF(AND(Veriler!T16>0.1, F16="", P16="E"), IF(Q16>Veriler!$G$2, Q16*S16, IF(Q16<Veriler!$G$2, Veriler!$G$2*S16, Q16*S16)), 0)) -> 0 | U16: =IF(T16=0," ",T16) | V16: =IFERROR(IF(O16="%10 sınırı aşılmıştır.",L16-T16,IFERROR(IF(F16="",IF(S16=1,0,IF(L16-S16=0,"",L16-S16)),IF(Veriler!M16="",L16,IF(L16*Veriler!M16=0,"",L16*Veriler!M16))),L16)),0)
... A18: 14 | G18: =IF(AND(F18<>"",V18<>"",L18<>0),V18/L18,"") | L18: =IF(AND(H18<>0, J18<>0, K18<>0), H18*J18*K18, "") | M18: =IF(L18="", "", L18/Veriler!$X$1) | N18: =IF(F18<>"", "İthal Girdi", IF(Veriler!T18="", "", IF(Veriler!S18="H", "%0,5 üzerindedir", IF(Veriler!T18>0.1, "%10 sınırı aşılmıştır.", "Uygun")))) -> %0,5 üzerindedir | O18: =IF(M18=""," ",N18) | R18: =IFERROR(IF(AND(T18<>"",L18<>"",L18<>0,T18<>0),T18/L18,"")," ") | S18: =IFERROR(IF(M18<=0.005,IF(F18="",L18,0),IF(F18<>"",0,IF(P18="",0,IF(P18="H",0,IF(Q18<Veriler!$G$2,L18*Veriler!$G$2,L18*Q18)))))," ") -> 0 | T18: =IF(Veriler!T18<=0.1, S18, IF(AND(Veriler!T18>0.1, F18="", P18="E"), IF(Q18>Veriler!$G$2, Q18*S18, IF(Q18<Veriler!$G$2, Veriler!$G$2*S18, Q18*S18)), 0)) -> 0 | U18: =IF(T18=0," ",T18) | V18: =IFERROR(IF(O18="%10 sınırı aşılmıştır.",L18-T18,IFERROR(IF(F18="",IF(S18=1,0,IF(L18-S18=0,"",L18-S18)),IF(Veriler!M18="",L18,IF(L18*Veriler!M18=0,"",L18*Veriler!M18))),L18)),0)
B19: Dolaylı
A20: =A18+1 -> 15 | G20: =IF(AND(F20<>"",V20<>"",L20<>0),V20/L20,"") | L20: =IF(AND(H20<>0, J20<>0, K20<>0), H20*J20*K20, "") | M20: =IF(L20="", "", L20/Veriler!$X$1) | N20: =IF(F20<>"", "İthal Girdi", IF(Veriler!T20="", "", IF(Veriler!S20="H", "%0,5 üzerindedir", IF(Veriler!T20>0.1, "%10 sınırı aşılmıştır.", "Uygun")))) -> %0,5 üzerindedir | O20: =IF(M20=""," ",N20) | R20: =IFERROR(IF(AND(T20<>"",L20<>"",L20<>0,T20<>0),T20/L20,"")," ") | S20: =IFERROR(IF(M20<=0.005,IF(F20="",L20,0),IF(F20<>"",0,IF(P20="",0,IF(P20="H",0,IF(Q20<Veriler!$G$2,L20*Veriler!$G$2,L20*Q20)))))," ") -> 0 | T20: =IF(Veriler!T20<=0.1, S20, IF(AND(Veriler!T20>0.1, F20="", P20="E"), IF(Q20>Veriler!$G$2, Q20*S20, IF(Q20<Veriler!$G$2, Veriler!$G$2*S20, Q20*S20)), 0)) -> 0 | U20: =IF(T20=0," ",T20) | V20: =IFERROR(IF(O20="%10 sınırı aşılmıştır.",L20-T20,IFERROR(IF(F20="",IF(S20=1,0,IF(L20-S20=0,"",L20-S20)),IF(Veriler!M20="",L20,IF(L20*Veriler!M20=0,"",L20*Veriler!M20))),L20)),0)
A21: =A20+1 -> 16 | G21: =IF(AND(F21<>"",V21<>"",L21<>0),V21/L21,"") | L21: =IF(AND(H21<>0, J21<>0, K21<>0), H21*J21*K21, "") | M21: =IF(L21="", "", L21/Veriler!$X$1) | N21: =IF(F21<>"", "İthal Girdi", IF(Veriler!T21="", "", IF(Veriler!S21="H", "%0,5 üzerindedir", IF(Veriler!T21>0.1, "%10 sınırı aşılmıştır.", "Uygun")))) -> %0,5 üzerindedir | O21: =IF(M21=""," ",N21) | R21: =IFERROR(IF(AND(T21<>"",L21<>"",L21<>0,T21<>0),T21/L21,"")," ") | S21: =IFERROR(IF(M21<=0.005,IF(F21="",L21,0),IF(F21<>"",0,IF(P21="",0,IF(P21="H",0,IF(Q21<Veriler!$G$2,L21*Veriler!$G$2,L21*Q21)))))," ") -> 0 | T21: =IF(Veriler!T21<=0.1, S21, IF(AND(Veriler!T21>0.1, F21="", P21="E"), IF(Q21>Veriler!$G$2, Q21*S21, IF(Q21<Veriler!$G$2, Veriler!$G$2*S21, Q21*S21)), 0)) -> 0 | U21: =IF(T21=0," ",T21) | V21: =IFERROR(IF(O21="%10 sınırı aşılmıştır.",L21-T21,IFERROR(IF(F21="",IF(S21=1,0,IF(L21-S21=0,"",L21-S21)),IF(Veriler!M21="",L21,IF(L21*Veriler!M21=0,"",L21*Veriler!M21))),L21)),0)
A22: =A21+1 -> 17 | G22: =IF(AND(F22<>"",V22<>"",L22<>0),V22/L22,"") | L22: =IF(AND(H22<>0, J22<>0, K22<>0), H22*J22*K22, "") | M22: =IF(L22="", "", L22/Veriler!$X$1) | N22: =IF(F22<>"", "İthal Girdi", IF(Veriler!T22="", "", IF(Veriler!S22="H", "%0,5 üzerindedir", IF(Veriler!T22>0.1, "%10 sınırı aşılmıştır.", "Uygun")))) -> %0,5 üzerindedir | O22: =IF(M22=""," ",N22) | R22: =IFERROR(IF(AND(T22<>"",L22<>"",L22<>0,T22<>0),T22/L22,"")," ") | S22: =IFERROR(IF(M22<=0.005,IF(F22="",L22,0),IF(F22<>"",0,IF(P22="",0,IF(P22="H",0,IF(Q22<Veriler!$G$2,L22*Veriler!$G$2,L22*Q22)))))," ") -> 0 | T22: =IF(Veriler!T22<=0.1, S22, IF(AND(Veriler!T22>0.1, F22="", P22="E"), IF(Q22>Veriler!$G$2, Q22*S22, IF(Q22<Veriler!$G$2, Veriler!$G$2*S22, Q22*S22)), 0)) -> 0 | U22: =IF(T22=0," ",T22) | V22: =IFERROR(IF(O22="%10 sınırı aşılmıştır.",L22-T22,IFERROR(IF(F22="",IF(S22=1,0,IF(L22-S22=0,"",L22-S22)),IF(Veriler!M22="",L22,IF(L22*Veriler!M22=0,"",L22*Veriler!M22))),L22)),0)
A23: =A22+1 -> 18 | G23: =IF(AND(F23<>"",V23<>"",L23<>0),V23/L23,"") | L23: =IF(AND(H23<>0, J23<>0, K23<>0), H23*J23*K23, "") | M23: =IF(L23="", "", L23/Veriler!$X$1) | N23: =IF(F23<>"", "İthal Girdi", IF(Veriler!T23="", "", IF(Veriler!S23="H", "%0,5 üzerindedir", IF(Veriler!T23>0.1, "%10 sınırı aşılmıştır.", "Uygun")))) -> %0,5 üzerindedir | O23: =IF(M23=""," ",N23) | R23: =IFERROR(IF(AND(T23<>"",L23<>"",L23<>0,T23<>0),T23/L23,"")," ") | S23: =IFERROR(IF(M23<=0.005,IF(F23="",L23,0),IF(F23<>"",0,IF(P23="",0,IF(P23="H",0,IF(Q23<Veriler!$G$2,L23*Veriler!$G$2,L23*Q23)))))," ") -> 0 | T23: =IF(Veriler!T23<=0.1, S23, IF(AND(Veriler!T23>0.1, F23="", P23="E"), IF(Q23>Veriler!$G$2, Q23*S23, IF(Q23<Veriler!$G$2, Veriler!$G$2*S23, Q23*S23)), 0)) -> 0 | U23: =IF(T23=0," ",T23) | V23: =IFERROR(IF(O23="%10 sınırı aşılmıştır.",L23-T23,IFERROR(IF(F23="",IF(S23=1,0,IF(L23-S23=0,"",L23-S23)),IF(Veriler!M23="",L23,IF(L23*Veriler!M23=0,"",L23*Veriler!M23))),L23)),0)
A24: =A23+1 -> 19 | G24: =IF(AND(F24<>"",V24<>"",L24<>0),V24/L24,"") | L24: =IF(AND(H24<>0, J24<>0, K24<>0), H24*J24*K24, "") | M24: =IF(L24="", "", L24/Veriler!$X$1) | N24: =IF(F24<>"", "İthal Girdi", IF(Veriler!T24="", "", IF(Veriler!S24="H", "%0,5 üzerindedir", IF(Veriler!T24>0.1, "%10 sınırı aşılmıştır.", "Uygun")))) -> %0,5 üzerindedir | O24: =IF(M24=""," ",N24) | R24: =IFERROR(IF(AND(T24<>"",L24<>"",L24<>0,T24<>0),T24/L24,"")," ") | S24: =IFERROR(IF(M24<=0.005,IF(F24="",L24,0),IF(F24<>"",0,IF(P24="",0,IF(P24="H",0,IF(Q24<Veriler!$G$2,L24*Veriler!$G$2,L24*Q24)))))," ") -> 0 | T24: =IF(Veriler!T24<=0.1, S24, IF(AND(Veriler!T24>0.1, F24="", P24="E"), IF(Q24>Veriler!$G$2, Q24*S24, IF(Q24<Veriler!$G$2, Veriler!$G$2*S24, Q24*S24)), 0)) -> 0 | U24: =IF(T24=0," ",T24) | V24: =IFERROR(IF(O24="%10 sınırı aşılmıştır.",L24-T24,IFERROR(IF(F24="",IF(S24=1,0,IF(L24-S24=0,"",L24-S24)),IF(Veriler!M24="",L24,IF(L24*Veriler!M24=0,"",L24*Veriler!M24))),L24)),0)
A25: =A24+1 -> 20 | G25: =IF(AND(F25<>"",V25<>"",L25<>0),V25/L25,"") | L25: =IF(AND(H25<>0, J25<>0, K25<>0), H25*J25*K25, "") | M25: =IF(L25="", "", L25/Veriler!$X$1) | N25: =IF(F25<>"", "İthal Girdi", IF(Veriler!T25="", "", IF(Veriler!S25="H", "%0,5 üzerindedir", IF(Veriler!T25>0.1, "%10 sınırı aşılmıştır.", "Uygun")))) -> %0,5 üzerindedir | O25: =IF(M25=""," ",N25) | R25: =IFERROR(IF(AND(T25<>"",L25<>"",L25<>0,T25<>0),T25/L25,"")," ") | S25: =IFERROR(IF(M25<=0.005,IF(F25="",L25,0),IF(F25<>"",0,IF(P25="",0,IF(P25="H",0,IF(Q25<Veriler!$G$2,L25*Veriler!$G$2,L25*Q25)))))," ") -> 0 | T25: =IF(Veriler!T25<=0.1, S25, IF(AND(Veriler!T25>0.1, F25="", P25="E"), IF(Q25>Veriler!$G$2, Q25*S25, IF(Q25<Veriler!$G$2, Veriler!$G$2*S25, Q25*S25)), 0)) -> 0 | U25: =IF(T25=0," ",T25) | V25: =IFERROR(IF(O25="%10 sınırı aşılmıştır.",L25-T25,IFERROR(IF(F25="",IF(S25=1,0,IF(L25-S25=0,"",L25-S25)),IF(Veriler!M25="",L25,IF(L25*Veriler!M25=0,"",L25*Veriler!M25))),L25)),0)
A26: =A25+1 -> 21 | G26: =IF(AND(F26<>"",V26<>"",L26<>0),V26/L26,"") | L26: =IF(AND(H26<>0, J26<>0, K26<>0), H26*J26*K26, "") | M26: =IF(L26="", "", L26/Veriler!$X$1) | N26: =IF(F26<>"", "İthal Girdi", IF(Veriler!T26="", "", IF(Veriler!S26="H", "%0,5 üzerindedir", IF(Veriler!T26>0.1, "%10 sınırı aşılmıştır.", "Uygun")))) -> %0,5 üzerindedir | O26: =IF(M26=""," ",N26) | R26: =IFERROR(IF(AND(T26<>"",L26<>"",L26<>0,T26<>0),T26/L26,"")," ") | S26: =IFERROR(IF(M26<=0.005,IF(F26="",L26,0),IF(F26<>"",0,IF(P26="",0,IF(P26="H",0,IF(Q26<Veriler!$G$2,L26*Veriler!$G$2,L26*Q26)))))," ") -> 0 | T26: =IF(Veriler!T26<=0.1, S26, IF(AND(Veriler!T26>0.1, F26="", P26="E"), IF(Q26>Veriler!$G$2, Q26*S26, IF(Q26<Veriler!$G$2, Veriler!$G$2*S26, Q26*S26)), 0)) -> 0 | U26: =IF(T26=0," ",T26) | V26: =IFERROR(IF(O26="%10 sınırı aşılmıştır.",L26-T26,IFERROR(IF(F26="",IF(S26=1,0,IF(L26-S26=0,"",L26-S26)),IF(Veriler!M26="",L26,IF(L26*Veriler!M26=0,"",L26*Veriler!M26))),L26)),0)
A27: =A26+1 -> 22 | G27: =IF(AND(F27<>"",V27<>"",L27<>0),V27/L27,"") | L27: =IF(AND(H27<>0, J27<>0, K27<>0), H27*J27*K27, "") | M27: =IF(L27="", "", L27/Veriler!$X$1) | N27: =IF(F27<>"", "İthal Girdi", IF(Veriler!T27="", "", IF(Veriler!S27="H", "%0,5 üzerindedir", IF(Veriler!T27>0.1, "%10 sınırı aşılmıştır.", "Uygun")))) -> %0,5 üzerindedir | O27: =IF(M27=""," ",N27) | R27: =IFERROR(IF(AND(T27<>"",L27<>"",L27<>0,T27<>0),T27/L27,"")," ") | S27: =IFERROR(IF(M27<=0.005,IF(F27="",L27,0),IF(F27<>"",0,IF(P27="",0,IF(P27="H",0,IF(Q27<Veriler!$G$2,L27*Veriler!$G$2,L27*Q27)))))," ") -> 0 | T27: =IF(Veriler!T27<=0.1, S27, IF(AND(Veriler!T27>0.1, F27="", P27="E"), IF(Q27>Veriler!$G$2, Q27*S27, IF(Q27<Veriler!$G$2, Veriler!$G$2*S27, Q27*S27)), 0)) -> 0 | U27: =IF(T27=0," ",T27) | V27: =IFERROR(IF(O27="%10 sınırı aşılmıştır.",L27-T27,IFERROR(IF(F27="",IF(S27=1,0,IF(L27-S27=0,"",L27-S27)),IF(Veriler!M27="",L27,IF(L27*Veriler!M27=0,"",L27*Veriler!M27))),L27)),0)
A28: =A27+1 -> 23 | G28: =IF(AND(F28<>"",V28<>"",L28<>0),V28/L28,"") | L28: =IF(AND(H28<>0, J28<>0, K28<>0), H28*J28*K28, "") | M28: =IF(L28="", "", L28/Veriler!$X$1) | N28: =IF(F28<>"", "İthal Girdi", IF(Veriler!T28="", "", IF(Veriler!S28="H", "%0,5 üzerindedir", IF(Veriler!T28>0.1, "%10 sınırı aşılmıştır.", "Uygun")))) -> %0,5 üzerindedir | O28: =IF(M28=""," ",N28) | R28: =IFERROR(IF(AND(T28<>"",L28<>"",L28<>0,T28<>0),T28/L28,"")," ") | S28: =IFERROR(IF(M28<=0.005,IF(F28="",L28,0),IF(F28<>"",0,IF(P28="",0,IF(P28="H",0,IF(Q28<Veriler!$G$2,L28*Veriler!$G$2,L28*Q28)))))," ") -> 0 | T28: =IF(Veriler!T28<=0.1, S28, IF(AND(Veriler!T28>0.1, F28="", P28="E"), IF(Q28>Veriler!$G$2, Q28*S28, IF(Q28<Veriler!$G$2, Veriler!$G$2*S28, Q28*S28)), 0)) -> 0 | U28: =IF(T28=0," ",T28) | V28: =IFERROR(IF(O28="%10 sınırı aşılmıştır.",L28-T28,IFERROR(IF(F28="",IF(S28=1,0,IF(L28-S28=0,"",L28-S28)),IF(Veriler!M28="",L28,IF(L28*Veriler!M28=0,"",L28*Veriler!M28))),L28)),0)
A29: =A28+1 -> 24 | G29: =IF(AND(F29<>"",V29<>"",L29<>0),V29/L29,"") | L29: =IF(AND(H29<>0, J29<>0, K29<>0), H29*J29*K29, "") | M29: =IF(L29="", "", L29/Veriler!$X$1) | N29: =IF(F29<>"", "İthal Girdi", IF(Veriler!T29="", "", IF(Veriler!S29="H", "%0,5 üzerindedir", IF(Veriler!T29>0.1, "%10 sınırı aşılmıştır.", "Uygun")))) -> %0,5 üzerindedir | O29: =IF(M29=""," ",N29) | R29: =IFERROR(IF(AND(T29<>"",L29<>"",L29<>0,T29<>0),T29/L29,"")," ") | S29: =IFERROR(IF(M29<=0.005,IF(F29="",L29,0),IF(F29<>"",0,IF(P29="",0,IF(P29="H",0,IF(Q29<Veriler!$G$2,L29*Veriler!$G$2,L29*Q29)))))," ") -> 0 | T29: =IF(Veriler!T29<=0.1, S29, IF(AND(Veriler!T29>0.1, F29="", P29="E"), IF(Q29>Veriler!$G$2, Q29*S29, IF(Q29<Veriler!$G$2, Veriler!$G$2*S29, Q29*S29)), 0)) -> 0 | U29: =IF(T29=0," ",T29) | V29: =IFERROR(IF(O29="%10 sınırı aşılmıştır.",L29-T29,IFERROR(IF(F29="",IF(S29=1,0,IF(L29-S29=0,"",L29-S29)),IF(Veriler!M29="",L29,IF(L29*Veriler!M29=0,"",L29*Veriler!M29))),L29)),0)
A30: =A29+1 -> 25 | G30: =IF(AND(F30<>"",V30<>"",L30<>0),V30/L30,"") | L30: =IF(AND(H30<>0, J30<>0, K30<>0), H30*J30*K30, "") | M30: =IF(L30="", "", L30/Veriler!$X$1) | N30: =IF(F30<>"", "İthal Girdi", IF(Veriler!T30="", "", IF(Veriler!S30="H", "%0,5 üzerindedir", IF(Veriler!T30>0.1, "%10 sınırı aşılmıştır.", "Uygun")))) -> %0,5 üzerindedir | O30: =IF(M30=""," ",N30) | R30: =IFERROR(IF(AND(T30<>"",L30<>"",L30<>0,T30<>0),T30/L30,"")," ") | S30: =IFERROR(IF(M30<=0.005,IF(F30="",L30,0),IF(F30<>"",0,IF(P30="",0,IF(P30="H",0,IF(Q30<Veriler!$G$2,L30*Veriler!$G$2,L30*Q30)))))," ") -> 0 | T30: =IF(Veriler!T30<=0.1, S30, IF(AND(Veriler!T30>0.1, F30="", P30="E"), IF(Q30>Veriler!$G$2, Q30*S30, IF(Q30<Veriler!$G$2, Veriler!$G$2*S30, Q30*S30)), 0)) -> 0 | U30: =IF(T30=0," ",T30) | V30: =IFERROR(IF(O30="%10 sınırı aşılmıştır.",L30-T30,IFERROR(IF(F30="",IF(S30=1,0,IF(L30-S30=0,"",L30-S30)),IF(Veriler!M30="",L30,IF(L30*Veriler!M30=0,"",L30*Veriler!M30))),L30)),0)
A31: =A30+1 -> 26 | G31: =IF(AND(F31<>"",V31<>"",L31<>0),V31/L31,"") | L31: =IF(AND(H31<>0, J31<>0, K31<>0), H31*J31*K31, "") | M31: =IF(L31="", "", L31/Veriler!$X$1) | N31: =IF(F31<>"", "İthal Girdi", IF(Veriler!T31="", "", IF(Veriler!S31="H", "%0,5 üzerindedir", IF(Veriler!T31>0.1, "%10 sınırı aşılmıştır.", "Uygun")))) -> %0,5 üzerindedir | O31: =IF(M31=""," ",N31) | R31: =IFERROR(IF(AND(T31<>"",L31<>"",L31<>0,T31<>0),T31/L31,"")," ") | S31: =IFERROR(IF(M31<=0.005,IF(F31="",L31,0),IF(F31<>"",0,IF(P31="",0,IF(P31="H",0,IF(Q31<Veriler!$G$2,L31*Veriler!$G$2,L31*Q31)))))," ") -> 0 | T31: =IF(Veriler!T31<=0.1, S31, IF(AND(Veriler!T31>0.1, F31="", P31="E"), IF(Q31>Veriler!$G$2, Q31*S31, IF(Q31<Veriler!$G$2, Veriler!$G$2*S31, Q31*S31)), 0)) -> 0 | U31: =IF(T31=0," ",T31) | V31: =IFERROR(IF(O31="%10 sınırı aşılmıştır.",L31-T31,IFERROR(IF(F31="",IF(S31=1,0,IF(L31-S31=0,"",L31-S31)),IF(Veriler!M31="",L31,IF(L31*Veriler!M31=0,"",L31*Veriler!M31))),L31)),0)
A32: =A31+1 -> 27 | G32: =IF(AND(F32<>"",V32<>"",L32<>0),V32/L32,"") | L32: =IF(AND(H32<>0, J32<>0, K32<>0), H32*J32*K32, "") | M32: =IF(L32="", "", L32/Veriler!$X$1) | N32: =IF(F32<>"", "İthal Girdi", IF(Veriler!T32="", "", IF(Veriler!S32="H", "%0,5 üzerindedir", IF(Veriler!T32>0.1, "%10 sınırı aşılmıştır.", "Uygun")))) -> %0,5 üzerindedir | O32: =IF(M32=""," ",N32) | R32: =IFERROR(IF(AND(T32<>"",L32<>"",L32<>0,T32<>0),T32/L32,"")," ") | S32: =IFERROR(IF(M32<=0.005,IF(F32="",L32,0),IF(F32<>"",0,IF(P32="",0,IF(P32="H",0,IF(Q32<Veriler!$G$2,L32*Veriler!$G$2,L32*Q32)))))," ") -> 0 | T32: =IF(Veriler!T32<=0.1, S32, IF(AND(Veriler!T32>0.1, F32="", P32="E"), IF(Q32>Veriler!$G$2, Q32*S32, IF(Q32<Veriler!$G$2, Veriler!$G$2*S32, Q32*S32)), 0)) -> 0 | U32: =IF(T32=0," ",T32) | V32: =IFERROR(IF(O32="%10 sınırı aşılmıştır.",L32-T32,IFERROR(IF(F32="",IF(S32=1,0,IF(L32-S32=0,"",L32-S32)),IF(Veriler!M32="",L32,IF(L32*Veriler!M32=0,"",L32*Veriler!M32))),L32)),0)
A33: =A32+1 -> 28 | G33: =IF(AND(F33<>"",V33<>"",L33<>0),V33/L33,"") | L33: =IF(AND(H33<>0, J33<>0, K33<>0), H33*J33*K33, "") | M33: =IF(L33="", "", L33/Veriler!$X$1) | N33: =IF(F33<>"", "İthal Girdi", IF(Veriler!T33="", "", IF(Veriler!S33="H", "%0,5 üzerindedir", IF(Veriler!T33>0.1, "%10 sınırı aşılmıştır.", "Uygun")))) -> %0,5 üzerindedir | O33: =IF(M33=""," ",N33) | R33: =IFERROR(IF(AND(T33<>"",L33<>"",L33<>0,T33<>0),T33/L33,"")," ") | S33: =IFERROR(IF(M33<=0.005,IF(F33="",L33,0),IF(F33<>"",0,IF(P33="",0,IF(P33="H",0,IF(Q33<Veriler!$G$2,L33*Veriler!$G$2,L33*Q33)))))," ") -> 0 | T33: =IF(Veriler!T33<=0.1, S33, IF(AND(Veriler!T33>0.1, F33="", P33="E"), IF(Q33>Veriler!$G$2, Q33*S33, IF(Q33<Veriler!$G$2, Veriler!$G$2*S33, Q33*S33)), 0)) -> 0 | U33: =IF(T33=0," ",T33) | V33: =IFERROR(IF(O33="%10 sınırı aşılmıştır.",L33-T33,IFERROR(IF(F33="",IF(S33=1,0,IF(L33-S33=0,"",L33-S33)),IF(Veriler!M33="",L33,IF(L33*Veriler!M33=0,"",L33*Veriler!M33))),L33)),0)
L34: =SUM(L5:L18,L20:L33) -> 0
S35: T1 | T35: T1 | U35: T1 | V35: T2
A36: Sayfa Toplamı (TL) *(Genel Dip Toplam Ek.3-D sayfasında otomatik hesaplanacaktır.) | S36: =SUM(S5:S18,S20:S33) -> 0 | T36: =IF(SUM(T5:T18,T20:T33)=0," ",SUM(T5:T18,T20:T33)) | U36: =IF(SUM(U5:U18,U20:U33)=0," ",SUM(U5:U18,U20:U33)) | V36: =IF(SUM(V5:V18,V20:V33)=0," ",SUM(V5:V18,V20:V33)) | X36: =SUM(U5:U18,U20:U33) -> 0 | Y36: =SUM(V5:V18,V20:V33) -> 0
A38: R03
A39: YERLİ KATKI ORANI HESAP CETVELİ
A40: A) Nihai Ürün Doğrudan ve Dolaylı Malzeme Giderleri | U40: S | V40: =V2+1 -> 2
A41: Sıra No | B41: Malzeme adı / Faturadaki Ürün Adı | D41: Üretici Unvanı | E41: PRODTR Kodu (Yerli girdiler için) | F41: GTİP Kodu (İthal girdiler için) | G41: Gtip Katsayısı | H41: Miktar | I41: Birim | J41: Fiyatı (TL/Döviz) | K41: Döviz Kuru (TL ise 1 alınız) | L41: Fatura Tutarı (TL) | M41: Girdi Maliyet Yüzdesi (%) | N41: Girdi yüzdesi %0,5 altında olan girdiler için %10 sınır kontrolü | O41: Girdi yüzdesi %0,5 altında olan girdiler için %10 sınır kontrolü | P41: SSB/ Müstahsil (E/H) | Q41: YKO (%) (Manuel girilmeli) | R41: Geçerli Yerli Oranı (%) | S41: Yerli Maliyet Tutarı (T1) | T41: Yerli Maliyet Tutarı (T1) | U41: Yerli Maliyet Tutarı (T1) | V41: İthal Maliyet Tutarı (T2)
B42: Doğrudan Girdi (Dolaylı girdiniz varsa en son 201. sayfaya doldurunuz)
A43: =A33+1 -> 29 | G43: =IF(AND(F43<>"",V43<>"",L43<>0),V43/L43,"") | L43: =IF(AND(H43<>0, J43<>0, K43<>0), H43*J43*K43, "") | M43: =IF(L43="", "", L43/Veriler!$X$1) | N43: =IF(F43<>"", "İthal Girdi", IF(Veriler!T43="", "", IF(Veriler!S43="H", "%0,5 üzerindedir", IF(Veriler!T43>0.1, "%10 sınırı aşılmıştır.", "Uygun")))) -> %0,5 üzerindedir | O43: =IF(M43=""," ",N43) | R43: =IFERROR(IF(AND(T43<>"",L43<>"",L43<>0,T43<>0),T43/L43,"")," ") | S43: =IFERROR(IF(M43<=0.005,IF(F43="",L43,0),IF(F43<>"",0,IF(P43="",0,IF(P43="H",0,IF(Q43<Veriler!$G$2,L43*Veriler!$G$2,L43*Q43)))))," ") -> 0 | T43: =IF(Veriler!T43<=0.1, S43, IF(AND(Veriler!T43>0.1, F43="", P43="E"), IF(Q43>Veriler!$G$2, Q43*S43, IF(Q43<Veriler!$G$2, Veriler!$G$2*S43, Q43*S43)), 0)) -> 0 | U43: =IF(T43=0," ",T43) | V43: =IFERROR(IF(O43="%10 sınırı aşılmıştır.",L43-T43,IFERROR(IF(F43="",IF(S43=1,0,IF(L43-S43=0,"",L43-S43)),IF(Veriler!M43="",L43,IF(L43*Veriler!M43=0,"",L43*Veriler!M43))),L43)),0)
A44: =A43+1 -> 30 | G44: =IF(AND(F44<>"",V44<>"",L44<>0),V44/L44,"") | L44: =IF(AND(H44<>0, J44<>0, K44<>0), H44*J44*K44, "") | M44: =IF(L44="", "", L44/Veriler!$X$1) | N44: =IF(F44<>"", "İthal Girdi", IF(Veriler!T44="", "", IF(Veriler!S44="H", "%0,5 üzerindedir", IF(Veriler!T44>0.1, "%10 sınırı aşılmıştır.", "Uygun")))) -> %0,5 üzerindedir | O44: =IF(M44=""," ",N44) | R44: =IFERROR(IF(AND(T44<>"",L44<>"",L44<>0,T44<>0),T44/L44,"")," ") | S44: =IFERROR(IF(M44<=0.005,IF(F44="",L44,0),IF(F44<>"",0,IF(P44="",0,IF(P44="H",0,IF(Q44<Veriler!$G$2,L44*Veriler!$G$2,L44*Q44)))))," ") -> 0 | T44: =IF(Veriler!T44<=0.1, S44, IF(AND(Veriler!T44>0.1, F44="", P44="E"), IF(Q44>Veriler!$G$2, Q44*S44, IF(Q44<Veriler!$G$2, Veriler!$G$2*S44, Q44*S44)), 0)) -> 0 | U44: =IF(T44=0," ",T44) | V44: =IFERROR(IF(O44="%10 sınırı aşılmıştır.",L44-T44,IFERROR(IF(F44="",IF(S44=1,0,IF(L44-S44=0,"",L44-S44)),IF(Veriler!M44="",L44,IF(L44*Veriler!M44=0,"",L44*Veriler!M44))),L44)),0)
A45: =A44+1 -> 31 | G45: =IF(AND(F45<>"",V45<>"",L45<>0),V45/L45,"") | L45: =IF(AND(H45<>0, J45<>0, K45<>0), H45*J45*K45, "") | M45: =IF(L45="", "", L45/Veriler!$X$1) | N45: =IF(F45<>"", "İthal Girdi", IF(Veriler!T45="", "", IF(Veriler!S45="H", "%0,5 üzerindedir", IF(Veriler!T45>0.1, "%10 sınırı aşılmıştır.", "Uygun")))) -> %0,5 üzerindedir | O45: =IF(M45=""," ",N45) | R45: =IFERROR(IF(AND(T45<>"",L45<>"",L45<>0,T45<>0),T45/L45,"")," ") | S45: =IFERROR(IF(M45<=0.005,IF(F45="",L45,0),IF(F45<>"",0,IF(P45="",0,IF(P45="H",0,IF(Q45<Veriler!$G$2,L45*Veriler!$G$2,L45*Q45)))))," ") -> 0 | T45: =IF(Veriler!T45<=0.1, S45, IF(AND(Veriler!T45>0.1, F45="", P45="E"), IF(Q45>Veriler!$G$2, Q45*S45, IF(Q45<Veriler!$G$2, Veriler!$G$2*S45, Q45*S45)), 0)) -> 0 | U45: =IF(T45=0," ",T45) | V45: =IFERROR(IF(O45="%10 sınırı aşılmıştır.",L45-T45,IFERROR(IF(F45="",IF(S45=1,0,IF(L45-S45=0,"",L45-S45)),IF(Veriler!M45="",L45,IF(L45*Veriler!M45=0,"",L45*Veriler!M45))),L45)),0)
A46: =A45+1 -> 32 | G46: =IF(AND(F46<>"",V46<>"",L46<>0),V46/L46,"") | L46: =IF(AND(H46<>0, J46<>0, K46<>0), H46*J46*K46, "") | M46: =IF(L46="", "", L46/Veriler!$X$1) | N46: =IF(F46<>"", "İthal Girdi", IF(Veriler!T46="", "", IF(Veriler!S46="H", "%0,5 üzerindedir", IF(Veriler!T46>0.1, "%10 sınırı aşılmıştır.", "Uygun")))) -> %0,5 üzerindedir | O46: =IF(M46=""," ",N46) | R46: =IFERROR(IF(AND(T46<>"",L46<>"",L46<>0,T46<>0),T46/L46,"")," ") | S46: =IFERROR(IF(M46<=0.005,IF(F46="",L46,0),IF(F46<>"",0,IF(P46="",0,IF(P46="H",0,IF(Q46<Veriler!$G$2,L46*Veriler!$G$2,L46*Q46)))))," ") -> 0 | T46: =IF(Veriler!T46<=0.1, S46, IF(AND(Veriler!T46>0.1, F46="", P46="E"), IF(Q46>Veriler!$G$2, Q46*S46, IF(Q46<Veriler!$G$2, Veriler!$G$2*S46, Q46*S46)), 0)) -> 0 | U46: =IF(T46=0," ",T46) | V46: =IFERROR(IF(O46="%10 sınırı aşılmıştır.",L46-T46,IFERROR(IF(F46="",IF(S46=1,0,IF(L46-S46=0,"",L46-S46)),IF(Veriler!M46="",L46,IF(L46*Veriler!M46=0,"",L46*Veriler!M46))),L46)),0)
A47: =A46+1 -> 33 | G47: =IF(AND(F47<>"",V47<>"",L47<>0),V47/L47,"") | L47: =IF(AND(H47<>0, J47<>0, K47<>0), H47*J47*K47, "") | M47: =IF(L47="", "", L47/Veriler!$X$1) | N47: =IF(F47<>"", "İthal Girdi", IF(Veriler!T47="", "", IF(Veriler!S47="H", "%0,5 üzerindedir", IF(Veriler!T47>0.1, "%10 sınırı aşılmıştır.", "Uygun")))) -> %0,5 üzerindedir | O47: =IF(M47=""," ",N47) | R47: =IFERROR(IF(AND(T47<>"",L47<>"",L47<>0,T47<>0),T47/L47,"")," ") | S47: =IFERROR(IF(M47<=0.005,IF(F47="",L47,0),IF(F47<>"",0,IF(P47="",0,IF(P47="H",0,IF(Q47<Veriler!$G$2,L47*Veriler!$G$2,L47*Q47)))))," ") -> 0 | T47: =IF(Veriler!T47<=0.1, S47, IF(AND(Veriler!T47>0.1, F47="", P47="E"), IF(Q47>Veriler!$G$2, Q47*S47, IF(Q47<Veriler!$G$2, Veriler!$G$2*S47, Q47*S47)), 0)) -> 0 | U47: =IF(T47=0," ",T47) | V47: =IFERROR(IF(O47="%10 sınırı aşılmıştır.",L47-T47,IFERROR(IF(F47="",IF(S47=1,0,IF(L47-S47=0,"",L47-S47)),IF(Veriler!M47="",L47,IF(L47*Veriler!M47=0,"",L47*Veriler!M47))),L47)),0)
A48: =A47+1 -> 34 | G48: =IF(AND(F48<>"",V48<>"",L48<>0),V48/L48,"") | L48: =IF(AND(H48<>0, J48<>0, K48<>0), H48*J48*K48, "") | M48: =IF(L48="", "", L48/Veriler!$X$1) | N48: =IF(F48<>"", "İthal Girdi", IF(Veriler!T48="", "", IF(Veriler!S48="H", "%0,5 üzerindedir", IF(Veriler!T48>0.1, "%10 sınırı aşılmıştır.", "Uygun")))) -> %0,5 üzerindedir | O48: =IF(M48=""," ",N48) | R48: =IFERROR(IF(AND(T48<>"",L48<>"",L48<>0,T48<>0),T48/L48,"")," ") | S48: =IFERROR(IF(M48<=0.005,IF(F48="",L48,0),IF(F48<>"",0,IF(P48="",0,IF(P48="H",0,IF(Q48<Veriler!$G$2,L48*Veriler!$G$2,L48*Q48)))))," ") -> 0 | T48: =IF(Veriler!T48<=0.1, S48, IF(AND(Veriler!T48>0.1, F48="", P48="E"), IF(Q48>Veriler!$G$2, Q48*S48, IF(Q48<Veriler!$G$2, Veriler!$G$2*S48, Q48*S48)), 0)) -> 0 | U48: =IF(T48=0," ",T48) | V48: =IFERROR(IF(O48="%10 sınırı aşılmıştır.",L48-T48,IFERROR(IF(F48="",IF(S48=1,0,IF(L48-S48=0,"",L48-S48)),IF(Veriler!M48="",L48,IF(L48*Veriler!M48=0,"",L48*Veriler!M48))),L48)),0)
A49: =A48+1 -> 35 | G49: =IF(AND(F49<>"",V49<>"",L49<>0),V49/L49,"") | L49: =IF(AND(H49<>0, J49<>0, K49<>0), H49*J49*K49, "") | M49: =IF(L49="", "", L49/Veriler!$X$1) | N49: =IF(F49<>"", "İthal Girdi", IF(Veriler!T49="", "", IF(Veriler!S49="H", "%0,5 üzerindedir", IF(Veriler!T49>0.1, "%10 sınırı aşılmıştır.", "Uygun")))) -> %0,5 üzerindedir | O49: =IF(M49=""," ",N49) | R49: =IFERROR(IF(AND(T49<>"",L49<>"",L49<>0,T49<>0),T49/L49,"")," ") | S49: =IFERROR(IF(M49<=0.005,IF(F49="",L49,0),IF(F49<>"",0,IF(P49="",0,IF(P49="H",0,IF(Q49<Veriler!$G$2,L49*Veriler!$G$2,L49*Q49)))))," ") -> 0 | T49: =IF(Veriler!T49<=0.1, S49, IF(AND(Veriler!T49>0.1, F49="", P49="E"), IF(Q49>Veriler!$G$2, Q49*S49, IF(Q49<Veriler!$G$2, Veriler!$G$2*S49, Q49*S49)), 0)) -> 0 | U49: =IF(T49=0," ",T49) | V49: =IFERROR(IF(O49="%10 sınırı aşılmıştır.",L49-T49,IFERROR(IF(F49="",IF(S49=1,0,IF(L49-S49=0,"",L49-S49)),IF(Veriler!M49="",L49,IF(L49*Veriler!M49=0,"",L49*Veriler!M49))),L49)),0)
A50: =A49+1 -> 36 | G50: =IF(AND(F50<>"",V50<>"",L50<>0),V50/L50,"") | L50: =IF(AND(H50<>0, J50<>0, K50<>0), H50*J50*K50, "") | M50: =IF(L50="", "", L50/Veriler!$X$1) | N50: =IF(F50<>"", "İthal Girdi", IF(Veriler!T50="", "", IF(Veriler!S50="H", "%0,5 üzerindedir", IF(Veriler!T50>0.1, "%10 sınırı aşılmıştır.", "Uygun")))) -> %0,5 üzerindedir | O50: =IF(M50=""," ",N50) | R50: =IFERROR(IF(AND(T50<>"",L50<>"",L50<>0,T50<>0),T50/L50,"")," ") | S50: =IFERROR(IF(M50<=0.005,IF(F50="",L50,0),IF(F50<>"",0,IF(P50="",0,IF(P50="H",0,IF(Q50<Veriler!$G$2,L50*Veriler!$G$2,L50*Q50)))))," ") -> 0 | T50: =IF(Veriler!T50<=0.1, S50, IF(AND(Veriler!T50>0.1, F50="", P50="E"), IF(Q50>Veriler!$G$2, Q50*S50, IF(Q50<Veriler!$G$2, Veriler!$G$2*S50, Q50*S50)), 0)) -> 0 | U50: =IF(T50=0," ",T50) | V50: =IFERROR(IF(O50="%10 sınırı aşılmıştır.",L50-T50,IFERROR(IF(F50="",IF(S50=1,0,IF(L50-S50=0,"",L50-S50)),IF(Veriler!M50="",L50,IF(L50*Veriler!M50=0,"",L50*Veriler!M50))),L50)),0)
A51: =A50+1 -> 37 | G51: =IF(AND(F51<>"",V51<>"",L51<>0),V51/L51,"") | L51: =IF(AND(H51<>0, J51<>0, K51<>0), H51*J51*K51, "") | M51: =IF(L51="", "", L51/Veriler!$X$1) | N51: =IF(F51<>"", "İthal Girdi", IF(Veriler!T51="", "", IF(Veriler!S51="H", "%0,5 üzerindedir", IF(Veriler!T51>0.1, "%10 sınırı aşılmıştır.", "Uygun")))) -> %0,5 üzerindedir | O51: =IF(M51=""," ",N51) | R51: =IFERROR(IF(AND(T51<>"",L51<>"",L51<>0,T51<>0),T51/L51,"")," ") | S51: =IFERROR(IF(M51<=0.005,IF(F51="",L51,0),IF(F51<>"",0,IF(P51="",0,IF(P51="H",0,IF(Q51<Veriler!$G$2,L51*Veriler!$G$2,L51*Q51)))))," ") -> 0 | T51: =IF(Veriler!T51<=0.1, S51, IF(AND(Veriler!T51>0.1, F51="", P51="E"), IF(Q51>Veriler!$G$2, Q51*S51, IF(Q51<Veriler!$G$2, Veriler!$G$2*S51, Q51*S51)), 0)) -> 0 | U51: =IF(T51=0," ",T51) | V51: =IFERROR(IF(O51="%10 sınırı aşılmıştır.",L51-T51,IFERROR(IF(F51="",IF(S51=1,0,IF(L51-S51=0,"",L51-S51)),IF(Veriler!M51="",L51,IF(L51*Veriler!M51=0,"",L51*Veriler!M51))),L51)),0)
A52: =A51+1 -> 38 | G52: =IF(AND(F52<>"",V52<>"",L52<>0),V52/L52,"") | L52: =IF(AND(H52<>0, J52<>0, K52<>0), H52*J52*K52, "") | M52: =IF(L52="", "", L52/Veriler!$X$1) | N52: =IF(F52<>"", "İthal Girdi", IF(Veriler!T52="", "", IF(Veriler!S52="H", "%0,5 üzerindedir", IF(Veriler!T52>0.1, "%10 sınırı aşılmıştır.", "Uygun")))) -> %0,5 üzerindedir | O52: =IF(M52=""," ",N52) | R52: =IFERROR(IF(AND(T52<>"",L52<>"",L52<>0,T52<>0),T52/L52,"")," ") | S52: =IFERROR(IF(M52<=0.005,IF(F52="",L52,0),IF(F52<>"",0,IF(P52="",0,IF(P52="H",0,IF(Q52<Veriler!$G$2,L52*Veriler!$G$2,L52*Q52)))))," ") -> 0 | T52: =IF(Veriler!T52<=0.1, S52, IF(AND(Veriler!T52>0.1, F52="", P52="E"), IF(Q52>Veriler!$G$2, Q52*S52, IF(Q52<Veriler!$G$2, Veriler!$G$2*S52, Q52*S52)), 0)) -> 0 | U52: =IF(T52=0," ",T52) | V52: =IFERROR(IF(O52="%10 sınırı aşılmıştır.",L52-T52,IFERROR(IF(F52="",IF(S52=1,0,IF(L52-S52=0,"",L52-S52)),IF(Veriler!M52="",L52,IF(L52*Veriler!M52=0,"",L52*Veriler!M52))),L52)),0)
A53: =A52+1 -> 39 | G53: =IF(AND(F53<>"",V53<>"",L53<>0),V53/L53,"") | L53: =IF(AND(H53<>0, J53<>0, K53<>0), H53*J53*K53, "") | M53: =IF(L53="", "", L53/Veriler!$X$1) | N53: =IF(F53<>"", "İthal Girdi", IF(Veriler!T53="", "", IF(Veriler!S53="H", "%0,5 üzerindedir", IF(Veriler!T53>0.1, "%10 sınırı aşılmıştır.", "Uygun")))) -> %0,5 üzerindedir | O53: =IF(M53=""," ",N53) | R53: =IFERROR(IF(AND(T53<>"",L53<>"",L53<>0,T53<>0),T53/L53,"")," ") | S53: =IFERROR(IF(M53<=0.005,IF(F53="",L53,0),IF(F53<>"",0,IF(P53="",0,IF(P53="H",0,IF(Q53<Veriler!$G$2,L53*Veriler!$G$2,L53*Q53)))))," ") -> 0 | T53: =IF(Veriler!T53<=0.1, S53, IF(AND(Veriler!T53>0.1, F53="", P53="E"), IF(Q53>Veriler!$G$2, Q53*S53, IF(Q53<Veriler!$G$2, Veriler!$G$2*S53, Q53*S53)), 0)) -> 0 | U53: =IF(T53=0," ",T53) | V53: =IFERROR(IF(O53="%10 sınırı aşılmıştır.",L53-T53,IFERROR(IF(F53="",IF(S53=1,0,IF(L53-S53=0,"",L53-S53)),IF(Veriler!M53="",L53,IF(L53*Veriler!M53=0,"",L53*Veriler!M53))),L53)),0)
A54: =A53+1 -> 40 | G54: =IF(AND(F54<>"",V54<>"",L54<>0),V54/L54,"") | L54: =IF(AND(H54<>0, J54<>0, K54<>0), H54*J54*K54, "") | M54: =IF(L54="", "", L54/Veriler!$X$1) | N54: =IF(F54<>"", "İthal Girdi", IF(Veriler!T54="", "", IF(Veriler!S54="H", "%0,5 üzerindedir", IF(Veriler!T54>0.1, "%10 sınırı aşılmıştır.", "Uygun")))) -> %0,5 üzerindedir | O54: =IF(M54=""," ",N54) | R54: =IFERROR(IF(AND(T54<>"",L54<>"",L54<>0,T54<>0),T54/L54,"")," ") | S54: =IFERROR(IF(M54<=0.005,IF(F54="",L54,0),IF(F54<>"",0,IF(P54="",0,IF(P54="H",0,IF(Q54<Veriler!$G$2,L54*Veriler!$G$2,L54*Q54)))))," ") -> 0 | T54: =IF(Veriler!T54<=0.1, S54, IF(AND(Veriler!T54>0.1, F54="", P54="E"), IF(Q54>Veriler!$G$2, Q54*S54, IF(Q54<Veriler!$G$2, Veriler!$G$2*S54, Q54*S54)), 0)) -> 0 | U54: =IF(T54=0," ",T54) | V54: =IFERROR(IF(O54="%10 sınırı aşılmıştır.",L54-T54,IFERROR(IF(F54="",IF(S54=1,0,IF(L54-S54=0,"",L54-S54)),IF(Veriler!M54="",L54,IF(L54*Veriler!M54=0,"",L54*Veriler!M54))),L54)),0)
A55: =A54+1 -> 41 | G55: =IF(AND(F55<>"",V55<>"",L55<>0),V55/L55,"") | L55: =IF(AND(H55<>0, J55<>0, K55<>0), H55*J55*K55, "") | M55: =IF(L55="", "", L55/Veriler!$X$1) | N55: =IF(F55<>"", "İthal Girdi", IF(Veriler!T55="", "", IF(Veriler!S55="H", "%0,5 üzerindedir", IF(Veriler!T55>0.1, "%10 sınırı aşılmıştır.", "Uygun")))) -> %0,5 üzerindedir | O55: =IF(M55=""," ",N55) | R55: =IFERROR(IF(AND(T55<>"",L55<>"",L55<>0,T55<>0),T55/L55,"")," ") | S55: =IFERROR(IF(M55<=0.005,IF(F55="",L55,0),IF(F55<>"",0,IF(P55="",0,IF(P55="H",0,IF(Q55<Veriler!$G$2,L55*Veriler!$G$2,L55*Q55)))))," ") -> 0 | T55: =IF(Veriler!T55<=0.1, S55, IF(AND(Veriler!T55>0.1, F55="", P55="E"), IF(Q55>Veriler!$G$2, Q55*S55, IF(Q55<Veriler!$G$2, Veriler!$G$2*S55, Q55*S55)), 0)) -> 0 | U55: =IF(T55=0," ",T55) | V55: =IFERROR(IF(O55="%10 sınırı aşılmıştır.",L55-T55,IFERROR(IF(F55="",IF(S55=1,0,IF(L55-S55=0,"",L55-S55)),IF(Veriler!M55="",L55,IF(L55*Veriler!M55=0,"",L55*Veriler!M55))),L55)),0)
A56: =A55+1 -> 42 | G56: =IF(AND(F56<>"",V56<>"",L56<>0),V56/L56,"") | L56: =IF(AND(H56<>0, J56<>0, K56<>0), H56*J56*K56, "") | M56: =IF(L56="", "", L56/Veriler!$X$1) | N56: =IF(F56<>"", "İthal Girdi", IF(Veriler!T56="", "", IF(Veriler!S56="H", "%0,5 üzerindedir", IF(Veriler!T56>0.1, "%10 sınırı aşılmıştır.", "Uygun")))) -> %0,5 üzerindedir | O56: =IF(M56=""," ",N56) | R56: =IFERROR(IF(AND(T56<>"",L56<>"",L56<>0,T56<>0),T56/L56,"")," ") | S56: =IFERROR(IF(M56<=0.005,IF(F56="",L56,0),IF(F56<>"",0,IF(P56="",0,IF(P56="H",0,IF(Q56<Veriler!$G$2,L56*Veriler!$G$2,L56*Q56)))))," ") -> 0 | T56: =IF(Veriler!T56<=0.1, S56, IF(AND(Veriler!T56>0.1, F56="", P56="E"), IF(Q56>Veriler!$G$2, Q56*S56, IF(Q56<Veriler!$G$2, Veriler!$G$2*S56, Q56*S56)), 0)) -> 0 | U56: =IF(T56=0," ",T56) | V56: =IFERROR(IF(O56="%10 sınırı aşılmıştır.",L56-T56,IFERROR(IF(F56="",IF(S56=1,0,IF(L56-S56=0,"",L56-S56)),IF(Veriler!M56="",L56,IF(L56*Veriler!M56=0,"",L56*Veriler!M56))),L56)),0)
B57: Dolaylı
A58: =A56+1 -> 43 | G58: =IF(AND(F58<>"",V58<>"",L58<>0),V58/L58,"") | L58: =IF(AND(H58<>0, J58<>0, K58<>0), H58*J58*K58, "") | M58: =IF(L58="", "", L58/Veriler!$X$1) | N58: =IF(F58<>"", "İthal Girdi", IF(Veriler!T58="", "", IF(Veriler!S58="H", "%0,5 üzerindedir", IF(Veriler!T58>0.1, "%10 sınırı aşılmıştır.", "Uygun")))) -> %0,5 üzerindedir | O58: =IF(M58=""," ",N58) | R58: =IFERROR(IF(AND(T58<>"",L58<>"",L58<>0,T58<>0),T58/L58,"")," ") | S58: =IFERROR(IF(M58<=0.005,IF(F58="",L58,0),IF(F58<>"",0,IF(P58="",0,IF(P58="H",0,IF(Q58<Veriler!$G$2,L58*Veriler!$G$2,L58*Q58)))))," ") -> 0 | T58: =IF(Veriler!T58<=0.1, S58, IF(AND(Veriler!T58>0.1, F58="", P58="E"), IF(Q58>Veriler!$G$2, Q58*S58, IF(Q58<Veriler!$G$2, Veriler!$G$2*S58, Q58*S58)), 0)) -> 0 | U58: =IF(T58=0," ",T58) | V58: =IFERROR(IF(O58="%10 sınırı aşılmıştır.",L58-T58,IFERROR(IF(F58="",IF(S58=1,0,IF(L58-S58=0,"",L58-S58)),IF(Veriler!M58="",L58,IF(L58*Veriler!M58=0,"",L58*Veriler!M58))),L58)),0)
A59: =A58+1 -> 44 | G59: =IF(AND(F59<>"",V59<>"",L59<>0),V59/L59,"") | L59: =IF(AND(H59<>0, J59<>0, K59<>0), H59*J59*K59, "") | M59: =IF(L59="", "", L59/Veriler!$X$1) | N59: =IF(F59<>"", "İthal Girdi", IF(Veriler!T59="", "", IF(Veriler!S59="H", "%0,5 üzerindedir", IF(Veriler!T59>0.1, "%10 sınırı aşılmıştır.", "Uygun")))) -> %0,5 üzerindedir | O59: =IF(M59=""," ",N59) | R59: =IFERROR(IF(AND(T59<>"",L59<>"",L59<>0,T59<>0),T59/L59,"")," ") | S59: =IFERROR(IF(M59<=0.005,IF(F59="",L59,0),IF(F59<>"",0,IF(P59="",0,IF(P59="H",0,IF(Q59<Veriler!$G$2,L59*Veriler!$G$2,L59*Q59)))))," ") -> 0 | T59: =IF(Veriler!T59<=0.1, S59, IF(AND(Veriler!T59>0.1, F59="", P59="E"), IF(Q59>Veriler!$G$2, Q59*S59, IF(Q59<Veriler!$G$2, Veriler!$G$2*S59, Q59*S59)), 0)) -> 0 | U59: =IF(T59=0," ",T59) | V59: =IFERROR(IF(O59="%10 sınırı aşılmıştır.",L59-T59,IFERROR(IF(F59="",IF(S59=1,0,IF(L59-S59=0,"",L59-S59)),IF(Veriler!M59="",L59,IF(L59*Veriler!M59=0,"",L59*Veriler!M59))),L59)),0)
A60: =A59+1 -> 45 | G60: =IF(AND(F60<>"",V60<>"",L60<>0),V60/L60,"") | L60: =IF(AND(H60<>0, J60<>0, K60<>0), H60*J60*K60, "") | M60: =IF(L60="", "", L60/Veriler!$X$1) | N60: =IF(F60<>"", "İthal Girdi", IF(Veriler!T60="", "", IF(Veriler!S60="H", "%0,5 üzerindedir", IF(Veriler!T60>0.1, "%10 sınırı aşılmıştır.", "Uygun")))) -> %0,5 üzerindedir | O60: =IF(M60=""," ",N60) | R60: =IFERROR(IF(AND(T60<>"",L60<>"",L60<>0,T60<>0),T60/L60,"")," ") | S60: =IFERROR(IF(M60<=0.005,IF(F60="",L60,0),IF(F60<>"",0,IF(P60="",0,IF(P60="H",0,IF(Q60<Veriler!$G$2,L60*Veriler!$G$2,L60*Q60)))))," ") -> 0 | T60: =IF(Veriler!T60<=0.1, S60, IF(AND(Veriler!T60>0.1, F60="", P60="E"), IF(Q60>Veriler!$G$2, Q60*S60, IF(Q60<Veriler!$G$2, Veriler!$G$2*S60, Q60*S60)), 0)) -> 0 | U60: =IF(T60=0," ",T60) | V60: =IFERROR(IF(O60="%10 sınırı aşılmıştır.",L60-T60,IFERROR(IF(F60="",IF(S60=1,0,IF(L60-S60=0,"",L60-S60)),IF(Veriler!M60="",L60,IF(L60*Veriler!M60=0,"",L60*Veriler!M60))),L60)),0)
A61: =A60+1 -> 46 | G61: =IF(AND(F61<>"",V61<>"",L61<>0),V61/L61,"") | L61: =IF(AND(H61<>0, J61<>0, K61<>0), H61*J61*K61, "") | M61: =IF(L61="", "", L61/Veriler!$X$1) | N61: =IF(F61<>"", "İthal Girdi", IF(Veriler!T61="", "", IF(Veriler!S61="H", "%0,5 üzerindedir", IF(Veriler!T61>0.1, "%10 sınırı aşılmıştır.", "Uygun")))) -> %0,5 üzerindedir | O61: =IF(M61=""," ",N61) | R61: =IFERROR(IF(AND(T61<>"",L61<>"",L61<>0,T61<>0),T61/L61,"")," ") | S61: =IFERROR(IF(M61<=0.005,IF(F61="",L61,0),IF(F61<>"",0,IF(P61="",0,IF(P61="H",0,IF(Q61<Veriler!$G$2,L61*Veriler!$G$2,L61*Q61)))))," ") -> 0 | T61: =IF(Veriler!T61<=0.1, S61, IF(AND(Veriler!T61>0.1, F61="", P61="E"), IF(Q61>Veriler!$G$2, Q61*S61, IF(Q61<Veriler!$G$2, Veriler!$G$2*S61, Q61*S61)), 0)) -> 0 | U61: =IF(T61=0," ",T61) | V61: =IFERROR(IF(O61="%10 sınırı aşılmıştır.",L61-T61,IFERROR(IF(F61="",IF(S61=1,0,IF(L61-S61=0,"",L61-S61)),IF(Veriler!M61="",L61,IF(L61*Veriler!M61=0,"",L61*Veriler!M61))),L61)),0)
A62: =A61+1 -> 47 | G62: =IF(AND(F62<>"",V62<>"",L62<>0),V62/L62,"") | L62: =IF(AND(H62<>0, J62<>0, K62<>0), H62*J62*K62, "") | M62: =IF(L62="", "", L62/Veriler!$X$1) | N62: =IF(F62<>"", "İthal Girdi", IF(Veriler!T62="", "", IF(Veriler!S62="H", "%0,5 üzerindedir", IF(Veriler!T62>0.1, "%10 sınırı aşılmıştır.", "Uygun")))) -> %0,5 üzerindedir | O62: =IF(M62=""," ",N62) | R62: =IFERROR(IF(AND(T62<>"",L62<>"",L62<>0,T62<>0),T62/L62,"")," ") | S62: =IFERROR(IF(M62<=0.005,IF(F62="",L62,0),IF(F62<>"",0,IF(P62="",0,IF(P62="H",0,IF(Q62<Veriler!$G$2,L62*Veriler!$G$2,L62*Q62)))))," ") -> 0 | T62: =IF(Veriler!T62<=0.1, S62, IF(AND(Veriler!T62>0.1, F62="", P62="E"), IF(Q62>Veriler!$G$2, Q62*S62, IF(Q62<Veriler!$G$2, Veriler!$G$2*S62, Q62*S62)), 0)) -> 0 | U62: =IF(T62=0," ",T62) | V62: =IFERROR(IF(O62="%10 sınırı aşılmıştır.",L62-T62,IFERROR(IF(F62="",IF(S62=1,0,IF(L62-S62=0,"",L62-S62)),IF(Veriler!M62="",L62,IF(L62*Veriler!M62=0,"",L62*Veriler!M62))),L62)),0)
A63: =A62+1 -> 48 | G63: =IF(AND(F63<>"",V63<>"",L63<>0),V63/L63,"") | L63: =IF(AND(H63<>0, J63<>0, K63<>0), H63*J63*K63, "") | M63: =IF(L63="", "", L63/Veriler!$X$1) | N63: =IF(F63<>"", "İthal Girdi", IF(Veriler!T63="", "", IF(Veriler!S63="H", "%0,5 üzerindedir", IF(Veriler!T63>0.1, "%10 sınırı aşılmıştır.", "Uygun")))) -> %0,5 üzerindedir | O63: =IF(M63=""," ",N63) | R63: =IFERROR(IF(AND(T63<>"",L63<>"",L63<>0,T63<>0),T63/L63,"")," ") | S63: =IFERROR(IF(M63<=0.005,IF(F63="",L63,0),IF(F63<>"",0,IF(P63="",0,IF(P63="H",0,IF(Q63<Veriler!$G$2,L63*Veriler!$G$2,L63*Q63)))))," ") -> 0 | T63: =IF(Veriler!T63<=0.1, S63, IF(AND(Veriler!T63>0.1, F63="", P63="E"), IF(Q63>Veriler!$G$2, Q63*S63, IF(Q63<Veriler!$G$2, Veriler!$G$2*S63, Q63*S63)), 0)) -> 0 | U63: =IF(T63=0," ",T63) | V63: =IFERROR(IF(O63="%10 sınırı aşılmıştır.",L63-T63,IFERROR(IF(F63="",IF(S63=1,0,IF(L63-S63=0,"",L63-S63)),IF(Veriler!M63="",L63,IF(L63*Veriler!M63=0,"",L63*Veriler!M63))),L63)),0)
A64: =A63+1 -> 49 | G64: =IF(AND(F64<>"",V64<>"",L64<>0),V64/L64,"") | L64: =IF(AND(H64<>0, J64<>0, K64<>0), H64*J64*K64, "") | M64: =IF(L64="", "", L64/Veriler!$X$1) | N64: =IF(F64<>"", "İthal Girdi", IF(Veriler!T64="", "", IF(Veriler!S64="H", "%0,5 üzerindedir", IF(Veriler!T64>0.1, "%10 sınırı aşılmıştır.", "Uygun")))) -> %0,5 üzerindedir | O64: =IF(M64=""," ",N64) | R64: =IFERROR(IF(AND(T64<>"",L64<>"",L64<>0,T64<>0),T64/L64,"")," ") | S64: =IFERROR(IF(M64<=0.005,IF(F64="",L64,0),IF(F64<>"",0,IF(P64="",0,IF(P64="H",0,IF(Q64<Veriler!$G$2,L64*Veriler!$G$2,L64*Q64)))))," ") -> 0 | T64: =IF(Veriler!T64<=0.1, S64, IF(AND(Veriler!T64>0.1, F64="", P64="E"), IF(Q64>Veriler!$G$2, Q64*S64, IF(Q64<Veriler!$G$2, Veriler!$G$2*S64, Q64*S64)), 0)) -> 0 | U64: =IF(T64=0," ",T64) | V64: =IFERROR(IF(O64="%10 sınırı aşılmıştır.",L64-T64,IFERROR(IF(F64="",IF(S64=1,0,IF(L64-S64=0,"",L64-S64)),IF(Veriler!M64="",L64,IF(L64*Veriler!M64=0,"",L64*Veriler!M64))),L64)),0)
A65: =A64+1 -> 50 | G65: =IF(AND(F65<>"",V65<>"",L65<>0),V65/L65,"") | L65: =IF(AND(H65<>0, J65<>0, K65<>0), H65*J65*K65, "") | M65: =IF(L65="", "", L65/Veriler!$X$1) | N65: =IF(F65<>"", "İthal Girdi", IF(Veriler!T65="", "", IF(Veriler!S65="H", "%0,5 üzerindedir", IF(Veriler!T65>0.1, "%10 sınırı aşılmıştır.", "Uygun")))) -> %0,5 üzerindedir | O65: =IF(M65=""," ",N65) | R65: =IFERROR(IF(AND(T65<>"",L65<>"",L65<>0,T65<>0),T65/L65,"")," ") | S65: =IFERROR(IF(M65<=0.005,IF(F65="",L65,0),IF(F65<>"",0,IF(P65="",0,IF(P65="H",0,IF(Q65<Veriler!$G$2,L65*Veriler!$G$2,L65*Q65)))))," ") -> 0 | T65: =IF(Veriler!T65<=0.1, S65, IF(AND(Veriler!T65>0.1, F65="", P65="E"), IF(Q65>Veriler!$G$2, Q65*S65, IF(Q65<Veriler!$G$2, Veriler!$G$2*S65, Q65*S65)), 0)) -> 0 | U65: =IF(T65=0," ",T65) | V65: =IFERROR(IF(O65="%10 sınırı aşılmıştır.",L65-T65,IFERROR(IF(F65="",IF(S65=1,0,IF(L65-S65=0,"",L65-S65)),IF(Veriler!M65="",L65,IF(L65*Veriler!M65=0,"",L65*Veriler!M65))),L65)),0)
A66: =A65+1 -> 51 | G66: =IF(AND(F66<>"",V66<>"",L66<>0),V66/L66,"") | L66: =IF(AND(H66<>0, J66<>0, K66<>0), H66*J66*K66, "") | M66: =IF(L66="", "", L66/Veriler!$X$1) | N66: =IF(F66<>"", "İthal Girdi", IF(Veriler!T66="", "", IF(Veriler!S66="H", "%0,5 üzerindedir", IF(Veriler!T66>0.1, "%10 sınırı aşılmıştır.", "Uygun")))) -> %0,5 üzerindedir | O66: =IF(M66=""," ",N66) | R66: =IFERROR(IF(AND(T66<>"",L66<>"",L66<>0,T66<>0),T66/L66,"")," ") | S66: =IFERROR(IF(M66<=0.005,IF(F66="",L66,0),IF(F66<>"",0,IF(P66="",0,IF(P66="H",0,IF(Q66<Veriler!$G$2,L66*Veriler!$G$2,L66*Q66)))))," ") -> 0 | T66: =IF(Veriler!T66<=0.1, S66, IF(AND(Veriler!T66>0.1, F66="", P66="E"), IF(Q66>Veriler!$G$2, Q66*S66, IF(Q66<Veriler!$G$2, Veriler!$G$2*S66, Q66*S66)), 0)) -> 0 | U66: =IF(T66=0," ",T66) | V66: =IFERROR(IF(O66="%10 sınırı aşılmıştır.",L66-T66,IFERROR(IF(F66="",IF(S66=1,0,IF(L66-S66=0,"",L66-S66)),IF(Veriler!M66="",L66,IF(L66*Veriler!M66=0,"",L66*Veriler!M66))),L66)),0)
A67: =A66+1 -> 52 | G67: =IF(AND(F67<>"",V67<>"",L67<>0),V67/L67,"") | L67: =IF(AND(H67<>0, J67<>0, K67<>0), H67*J67*K67, "") | M67: =IF(L67="", "", L67/Veriler!$X$1) | N67: =IF(F67<>"", "İthal Girdi", IF(Veriler!T67="", "", IF(Veriler!S67="H", "%0,5 üzerindedir", IF(Veriler!T67>0.1, "%10 sınırı aşılmıştır.", "Uygun")))) -> %0,5 üzerindedir | O67: =IF(M67=""," ",N67) | R67: =IFERROR(IF(AND(T67<>"",L67<>"",L67<>0,T67<>0),T67/L67,"")," ") | S67: =IFERROR(IF(M67<=0.005,IF(F67="",L67,0),IF(F67<>"",0,IF(P67="",0,IF(P67="H",0,IF(Q67<Veriler!$G$2,L67*Veriler!$G$2,L67*Q67)))))," ") -> 0 | T67: =IF(Veriler!T67<=0.1, S67, IF(AND(Veriler!T67>0.1, F67="", P67="E"), IF(Q67>Veriler!$G$2, Q67*S67, IF(Q67<Veriler!$G$2, Veriler!$G$2*S67, Q67*S67)), 0)) -> 0 | U67: =IF(T67=0," ",T67) | V67: =IFERROR(IF(O67="%10 sınırı aşılmıştır.",L67-T67,IFERROR(IF(F67="",IF(S67=1,0,IF(L67-S67=0,"",L67-S67)),IF(Veriler!M67="",L67,IF(L67*Veriler!M67=0,"",L67*Veriler!M67))),L67)),0)
A68: =A67+1 -> 53 | G68: =IF(AND(F68<>"",V68<>"",L68<>0),V68/L68,"") | L68: =IF(AND(H68<>0, J68<>0, K68<>0), H68*J68*K68, "") | M68: =IF(L68="", "", L68/Veriler!$X$1) | N68: =IF(F68<>"", "İthal Girdi", IF(Veriler!T68="", "", IF(Veriler!S68="H", "%0,5 üzerindedir", IF(Veriler!T68>0.1, "%10 sınırı aşılmıştır.", "Uygun")))) -> %0,5 üzerindedir | O68: =IF(M68=""," ",N68) | R68: =IFERROR(IF(AND(T68<>"",L68<>"",L68<>0,T68<>0),T68/L68,"")," ") | S68: =IFERROR(IF(M68<=0.005,IF(F68="",L68,0),IF(F68<>"",0,IF(P68="",0,IF(P68="H",0,IF(Q68<Veriler!$G$2,L68*Veriler!$G$2,L68*Q68)))))," ") -> 0 | T68: =IF(Veriler!T68<=0.1, S68, IF(AND(Veriler!T68>0.1, F68="", P68="E"), IF(Q68>Veriler!$G$2, Q68*S68, IF(Q68<Veriler!$G$2, Veriler!$G$2*S68, Q68*S68)), 0)) -> 0 | U68: =IF(T68=0," ",T68) | V68: =IFERROR(IF(O68="%10 sınırı aşılmıştır.",L68-T68,IFERROR(IF(F68="",IF(S68=1,0,IF(L68-S68=0,"",L68-S68)),IF(Veriler!M68="",L68,IF(L68*Veriler!M68=0,"",L68*Veriler!M68))),L68)),0)
A69: =A68+1 -> 54 | G69: =IF(AND(F69<>"",V69<>"",L69<>0),V69/L69,"") | L69: =IF(AND(H69<>0, J69<>0, K69<>0), H69*J69*K69, "") | M69: =IF(L69="", "", L69/Veriler!$X$1) | N69: =IF(F69<>"", "İthal Girdi", IF(Veriler!T69="", "", IF(Veriler!S69="H", "%0,5 üzerindedir", IF(Veriler!T69>0.1, "%10 sınırı aşılmıştır.", "Uygun")))) -> %0,5 üzerindedir | O69: =IF(M69=""," ",N69) | R69: =IFERROR(IF(AND(T69<>"",L69<>"",L69<>0,T69<>0),T69/L69,"")," ") | S69: =IFERROR(IF(M69<=0.005,IF(F69="",L69,0),IF(F69<>"",0,IF(P69="",0,IF(P69="H",0,IF(Q69<Veriler!$G$2,L69*Veriler!$G$2,L69*Q69)))))," ") -> 0 | T69: =IF(Veriler!T69<=0.1, S69, IF(AND(Veriler!T69>0.1, F69="", P69="E"), IF(Q69>Veriler!$G$2, Q69*S69, IF(Q69<Veriler!$G$2, Veriler!$G$2*S69, Q69*S69)), 0)) -> 0 | U69: =IF(T69=0," ",T69) | V69: =IFERROR(IF(O69="%10 sınırı aşılmıştır.",L69-T69,IFERROR(IF(F69="",IF(S69=1,0,IF(L69-S69=0,"",L69-S69)),IF(Veriler!M69="",L69,IF(L69*Veriler!M69=0,"",L69*Veriler!M69))),L69)),0)
A70: =A69+1 -> 55 | G70: =IF(AND(F70<>"",V70<>"",L70<>0),V70/L70,"") | L70: =IF(AND(H70<>0, J70<>0, K70<>0), H70*J70*K70, "") | M70: =IF(L70="", "", L70/Veriler!$X$1) | N70: =IF(F70<>"", "İthal Girdi", IF(Veriler!T70="", "", IF(Veriler!S70="H", "%0,5 üzerindedir", IF(Veriler!T70>0.1, "%10 sınırı aşılmıştır.", "Uygun")))) -> %0,5 üzerindedir | O70: =IF(M70=""," ",N70) | R70: =IFERROR(IF(AND(T70<>"",L70<>"",L70<>0,T70<>0),T70/L70,"")," ") | S70: =IFERROR(IF(M70<=0.005,IF(F70="",L70,0),IF(F70<>"",0,IF(P70="",0,IF(P70="H",0,IF(Q70<Veriler!$G$2,L70*Veriler!$G$2,L70*Q70)))))," ") -> 0 | T70: =IF(Veriler!T70<=0.1, S70, IF(AND(Veriler!T70>0.1, F70="", P70="E"), IF(Q70>Veriler!$G$2, Q70*S70, IF(Q70<Veriler!$G$2, Veriler!$G$2*S70, Q70*S70)), 0)) -> 0 | U70: =IF(T70=0," ",T70) | V70: =IFERROR(IF(O70="%10 sınırı aşılmıştır.",L70-T70,IFERROR(IF(F70="",IF(S70=1,0,IF(L70-S70=0,"",L70-S70)),IF(Veriler!M70="",L70,IF(L70*Veriler!M70=0,"",L70*Veriler!M70))),L70)),0)
A71: =A70+1 -> 56 | G71: =IF(AND(F71<>"",V71<>"",L71<>0),V71/L71,"") | L71: =IF(AND(H71<>0, J71<>0, K71<>0), H71*J71*K71, "") | M71: =IF(L71="", "", L71/Veriler!$X$1) | N71: =IF(F71<>"", "İthal Girdi", IF(Veriler!T71="", "", IF(Veriler!S71="H", "%0,5 üzerindedir", IF(Veriler!T71>0.1, "%10 sınırı aşılmıştır.", "Uygun")))) -> %0,5 üzerindedir | O71: =IF(M71=""," ",N71) | R71: =IFERROR(IF(AND(T71<>"",L71<>"",L71<>0,T71<>0),T71/L71,"")," ") | S71: =IFERROR(IF(M71<=0.005,IF(F71="",L71,0),IF(F71<>"",0,IF(P71="",0,IF(P71="H",0,IF(Q71<Veriler!$G$2,L71*Veriler!$G$2,L71*Q71)))))," ") -> 0 | T71: =IF(Veriler!T71<=0.1, S71, IF(AND(Veriler!T71>0.1, F71="", P71="E"), IF(Q71>Veriler!$G$2, Q71*S71, IF(Q71<Veriler!$G$2, Veriler!$G$2*S71, Q71*S71)), 0)) -> 0 | U71: =IF(T71=0," ",T71) | V71: =IFERROR(IF(O71="%10 sınırı aşılmıştır.",L71-T71,IFERROR(IF(F71="",IF(S71=1,0,IF(L71-S71=0,"",L71-S71)),IF(Veriler!M71="",L71,IF(L71*Veriler!M71=0,"",L71*Veriler!M71))),L71)),0)
L72: =SUM(L43:L56,L58:L71) -> 0
S73: T1 | T73: T1 | U73: T1 | V73: T2
A74: Sayfa Toplamı (TL) *(Genel Dip Toplam Ek.3-D sayfasında otomatik hesaplanacaktır.) | S74: =SUM(S36,S43:S56,S58:S71) -> 0 | T74: =IF(SUM(T43:T56,T58:T71)=0," ",SUM(T43:T56,T58:T71)) | U74: =IF(SUM(U43:U56,U58:U71)=0," ",SUM(U43:U56,U58:U71)) | V74: =IF(SUM(V43:V56,V58:V71)=0," ",SUM(V43:V56,V58:V71)) | X74: =SUM(U43:U56,U58:U71) -> 0 | Y74: =SUM(V43:V56,V58:V71) -> 0
A76: R03
A77: YERLİ KATKI ORANI HESAP CETVELİ
A78: A) Nihai Ürün Doğrudan ve Dolaylı Malzeme Giderleri | U78: S | V78: =V40+1 -> 3
A79: Sıra No | B79: Malzeme adı / Faturadaki Ürün Adı | D79: Üretici Unvanı | E79: PRODTR Kodu (Yerli girdiler için) | F79: GTİP Kodu (İthal girdiler için) | G79: Gtip Katsayısı | H79: Miktar | I79: Birim | J79: Fiyatı (TL/Döviz) | K79: Döviz Kuru (TL ise 1 alınız) | L79: Fatura Tutarı (TL) | M79: Girdi Maliyet Yüzdesi (%) | N79: Girdi yüzdesi %0,5 altında olan girdiler için %10 sınır kontrolü | O79: Girdi yüzdesi %0,5 altında olan girdiler için %10 sınır kontrolü | P79: SSB/ Müstahsil (E/H) | Q79: YKO (%) (Manuel girilmeli) | R79: Geçerli Yerli Oranı (%) | S79: Yerli Maliyet Tutarı (T1) | T79: Yerli Maliyet Tutarı (T1) | U79: Yerli Maliyet Tutarı (T1) | V79: İthal Maliyet Tutarı (T2)
B80: Doğrudan Girdi (Dolaylı girdiniz varsa en son 201. sayfaya doldurunuz)
A81: =A71+1 -> 57 | G81: =IF(AND(F81<>"",V81<>"",L81<>0),V81/L81,"") | L81: =IF(AND(H81<>0, J81<>0, K81<>0), H81*J81*K81, "") | M81: =IF(L81="", "", L81/Veriler!$X$1) | N81: =IF(F81<>"", "İthal Girdi", IF(Veriler!T81="", "", IF(Veriler!S81="H", "%0,5 üzerindedir", IF(Veriler!T81>0.1, "%10 sınırı aşılmıştır.", "Uygun")))) -> %0,5 üzerindedir | O81: =IF(M81=""," ",N81) | R81: =IFERROR(IF(AND(T81<>"",L81<>"",L81<>0,T81<>0),T81/L81,"")," ") | S81: =IFERROR(IF(M81<=0.005,IF(F81="",L81,0),IF(F81<>"",0,IF(P81="",0,IF(P81="H",0,IF(Q81<Veriler!$G$2,L81*Veriler!$G$2,L81*Q81)))))," ") -> 0 | T81: =IF(Veriler!T81<=0.1, S81, IF(AND(Veriler!T81>0.1, F81="", P81="E"), IF(Q81>Veriler!$G$2, Q81*S81, IF(Q81<Veriler!$G$2, Veriler!$G$2*S81, Q81*S81)), 0)) -> 0 | U81: =IF(T81=0," ",T81) | V81: =IFERROR(IF(O81="%10 sınırı aşılmıştır.",L81-T81,IFERROR(IF(F81="",IF(S81=1,0,IF(L81-S81=0,"",L81-S81)),IF(Veriler!M81="",L81,IF(L81*Veriler!M81=0,"",L81*Veriler!M81))),L81)),0)
A82: =A81+1 -> 58 | G82: =IF(AND(F82<>"",V82<>"",L82<>0),V82/L82,"") | L82: =IF(AND(H82<>0, J82<>0, K82<>0), H82*J82*K82, "") | M82: =IF(L82="", "", L82/Veriler!$X$1) | N82: =IF(F82<>"", "İthal Girdi", IF(Veriler!T82="", "", IF(Veriler!S82="H", "%0,5 üzerindedir", IF(Veriler!T82>0.1, "%10 sınırı aşılmıştır.", "Uygun")))) -> %0,5 üzerindedir | O82: =IF(M82=""," ",N82) | R82: =IFERROR(IF(AND(T82<>"",L82<>"",L82<>0,T82<>0),T82/L82,"")," ") | S82: =IFERROR(IF(M82<=0.005,IF(F82="",L82,0),IF(F82<>"",0,IF(P82="",0,IF(P82="H",0,IF(Q82<Veriler!$G$2,L82*Veriler!$G$2,L82*Q82)))))," ") -> 0 | T82: =IF(Veriler!T82<=0.1, S82, IF(AND(Veriler!T82>0.1, F82="", P82="E"), IF(Q82>Veriler!$G$2, Q82*S82, IF(Q82<Veriler!$G$2, Veriler!$G$2*S82, Q82*S82)), 0)) -> 0 | U82: =IF(T82=0," ",T82) | V82: =IFERROR(IF(O82="%10 sınırı aşılmıştır.",L82-T82,IFERROR(IF(F82="",IF(S82=1,0,IF(L82-S82=0,"",L82-S82)),IF(Veriler!M82="",L82,IF(L82*Veriler!M82=0,"",L82*Veriler!M82))),L82)),0)
A83: =A82+1 -> 59 | G83: =IF(AND(F83<>"",V83<>"",L83<>0),V83/L83,"") | L83: =IF(AND(H83<>0, J83<>0, K83<>0), H83*J83*K83, "") | M83: =IF(L83="", "", L83/Veriler!$X$1) | N83: =IF(F83<>"", "İthal Girdi", IF(Veriler!T83="", "", IF(Veriler!S83="H", "%0,5 üzerindedir", IF(Veriler!T83>0.1, "%10 sınırı aşılmıştır.", "Uygun")))) -> %0,5 üzerindedir | O83: =IF(M83=""," ",N83) | R83: =IFERROR(IF(AND(T83<>"",L83<>"",L83<>0,T83<>0),T83/L83,"")," ") | S83: =IFERROR(IF(M83<=0.005,IF(F83="",L83,0),IF(F83<>"",0,IF(P83="",0,IF(P83="H",0,IF(Q83<Veriler!$G$2,L83*Veriler!$G$2,L83*Q83)))))," ") -> 0 | T83: =IF(Veriler!T83<=0.1, S83, IF(AND(Veriler!T83>0.1, F83="", P83="E"), IF(Q83>Veriler!$G$2, Q83*S83, IF(Q83<Veriler!$G$2, Veriler!$G$2*S83, Q83*S83)), 0)) -> 0 | U83: =IF(T83=0," ",T83) | V83: =IFERROR(IF(O83="%10 sınırı aşılmıştır.",L83-T83,IFERROR(IF(F83="",IF(S83=1,0,IF(L83-S83=0,"",L83-S83)),IF(Veriler!M83="",L83,IF(L83*Veriler!M83=0,"",L83*Veriler!M83))),L83)),0)
A84: =A83+1 -> 60 | G84: =IF(AND(F84<>"",V84<>"",L84<>0),V84/L84,"") | L84: =IF(AND(H84<>0, J84<>0, K84<>0), H84*J84*K84, "") | M84: =IF(L84="", "", L84/Veriler!$X$1) | N84: =IF(F84<>"", "İthal Girdi", IF(Veriler!T84="", "", IF(Veriler!S84="H", "%0,5 üzerindedir", IF(Veriler!T84>0.1, "%10 sınırı aşılmıştır.", "Uygun")))) -> %0,5 üzerindedir | O84: =IF(M84=""," ",N84) | R84: =IFERROR(IF(AND(T84<>"",L84<>"",L84<>0,T84<>0),T84/L84,"")," ") | S84: =IFERROR(IF(M84<=0.005,IF(F84="",L84,0),IF(F84<>"",0,IF(P84="",0,IF(P84="H",0,IF(Q84<Veriler!$G$2,L84*Veriler!$G$2,L84*Q84)))))," ") -> 0 | T84: =IF(Veriler!T84<=0.1, S84, IF(AND(Veriler!T84>0.1, F84="", P84="E"), IF(Q84>Veriler!$G$2, Q84*S84, IF(Q84<Veriler!$G$2, Veriler!$G$2*S84, Q84*S84)), 0)) -> 0 | U84: =IF(T84=0," ",T84) | V84: =IFERROR(IF(O84="%10 sınırı aşılmıştır.",L84-T84,IFERROR(IF(F84="",IF(S84=1,0,IF(L84-S84=0,"",L84-S84)),IF(Veriler!M84="",L84,IF(L84*Veriler!M84=0,"",L84*Veriler!M84))),L84)),0)
A85: =A84+1 -> 61 | G85: =IF(AND(F85<>"",V85<>"",L85<>0),V85/L85,"") | L85: =IF(AND(H85<>0, J85<>0, K85<>0), H85*J85*K85, "") | M85: =IF(L85="", "", L85/Veriler!$X$1) | N85: =IF(F85<>"", "İthal Girdi", IF(Veriler!T85="", "", IF(Veriler!S85="H", "%0,5 üzerindedir", IF(Veriler!T85>0.1, "%10 sınırı aşılmıştır.", "Uygun")))) -> %0,5 üzerindedir | O85: =IF(M85=""," ",N85) | R85: =IFERROR(IF(AND(T85<>"",L85<>"",L85<>0,T85<>0),T85/L85,"")," ") | S85: =IFERROR(IF(M85<=0.005,IF(F85="",L85,0),IF(F85<>"",0,IF(P85="",0,IF(P85="H",0,IF(Q85<Veriler!$G$2,L85*Veriler!$G$2,L85*Q85)))))," ") -> 0 | T85: =IF(Veriler!T85<=0.1, S85, IF(AND(Veriler!T85>0.1, F85="", P85="E"), IF(Q85>Veriler!$G$2, Q85*S85, IF(Q85<Veriler!$G$2, Veriler!$G$2*S85, Q85*S85)), 0)) -> 0 | U85: =IF(T85=0," ",T85) | V85: =IFERROR(IF(O85="%10 sınırı aşılmıştır.",L85-T85,IFERROR(IF(F85="",IF(S85=1,0,IF(L85-S85=0,"",L85-S85)),IF(Veriler!M85="",L85,IF(L85*Veriler!M85=0,"",L85*Veriler!M85))),L85)),0)
A86: =A85+1 -> 62 | G86: =IF(AND(F86<>"",V86<>"",L86<>0),V86/L86,"") | L86: =IF(AND(H86<>0, J86<>0, K86<>0), H86*J86*K86, "") | M86: =IF(L86="", "", L86/Veriler!$X$1) | N86: =IF(F86<>"", "İthal Girdi", IF(Veriler!T86="", "", IF(Veriler!S86="H", "%0,5 üzerindedir", IF(Veriler!T86>0.1, "%10 sınırı aşılmıştır.", "Uygun")))) -> %0,5 üzerindedir | O86: =IF(M86=""," ",N86) | R86: =IFERROR(IF(AND(T86<>"",L86<>"",L86<>0,T86<>0),T86/L86,"")," ") | S86: =IFERROR(IF(M86<=0.005,IF(F86="",L86,0),IF(F86<>"",0,IF(P86="",0,IF(P86="H",0,IF(Q86<Veriler!$G$2,L86*Veriler!$G$2,L86*Q86)))))," ") -> 0 | T86: =IF(Veriler!T86<=0.1, S86, IF(AND(Veriler!T86>0.1, F86="", P86="E"), IF(Q86>Veriler!$G$2, Q86*S86, IF(Q86<Veriler!$G$2, Veriler!$G$2*S86, Q86*S86)), 0)) -> 0 | U86: =IF(T86=0," ",T86) | V86: =IFERROR(IF(O86="%10 sınırı aşılmıştır.",L86-T86,IFERROR(IF(F86="",IF(S86=1,0,IF(L86-S86=0,"",L86-S86)),IF(Veriler!M86="",L86,IF(L86*Veriler!M86=0,"",L86*Veriler!M86))),L86)),0)
A87: =A86+1 -> 63 | G87: =IF(AND(F87<>"",V87<>"",L87<>0),V87/L87,"") | L87: =IF(AND(H87<>0, J87<>0, K87<>0), H87*J87*K87, "") | M87: =IF(L87="", "", L87/Veriler!$X$1) | N87: =IF(F87<>"", "İthal Girdi", IF(Veriler!T87="", "", IF(Veriler!S87="H", "%0,5 üzerindedir", IF(Veriler!T87>0.1, "%10 sınırı aşılmıştır.", "Uygun")))) -> %0,5 üzerindedir | O87: =IF(M87=""," ",N87) | R87: =IFERROR(IF(AND(T87<>"",L87<>"",L87<>0,T87<>0),T87/L87,"")," ") | S87: =IFERROR(IF(M87<=0.005,IF(F87="",L87,0),IF(F87<>"",0,IF(P87="",0,IF(P87="H",0,IF(Q87<Veriler!$G$2,L87*Veriler!$G$2,L87*Q87)))))," ") -> 0 | T87: =IF(Veriler!T87<=0.1, S87, IF(AND(Veriler!T87>0.1, F87="", P87="E"), IF(Q87>Veriler!$G$2, Q87*S87, IF(Q87<Veriler!$G$2, Veriler!$G$2*S87, Q87*S87)), 0)) -> 0 | U87: =IF(T87=0," ",T87) | V87: =IFERROR(IF(O87="%10 sınırı aşılmıştır.",L87-T87,IFERROR(IF(F87="",IF(S87=1,0,IF(L87-S87=0,"",L87-S87)),IF(Veriler!M87="",L87,IF(L87*Veriler!M87=0,"",L87*Veriler!M87))),L87)),0)
A88: =A87+1 -> 64 | G88: =IF(AND(F88<>"",V88<>"",L88<>0),V88/L88,"") | L88: =IF(AND(H88<>0, J88<>0, K88<>0), H88*J88*K88, "") | M88: =IF(L88="", "", L88/Veriler!$X$1) | N88: =IF(F88<>"", "İthal Girdi", IF(Veriler!T88="", "", IF(Veriler!S88="H", "%0,5 üzerindedir", IF(Veriler!T88>0.1, "%10 sınırı aşılmıştır.", "Uygun")))) -> %0,5 üzerindedir | O88: =IF(M88=""," ",N88) | R88: =IFERROR(IF(AND(T88<>"",L88<>"",L88<>0,T88<>0),T88/L88,"")," ") | S88: =IFERROR(IF(M88<=0.005,IF(F88="",L88,0),IF(F88<>"",0,IF(P88="",0,IF(P88="H",0,IF(Q88<Veriler!$G$2,L88*Veriler!$G$2,L88*Q88)))))," ") -> 0 | T88: =IF(Veriler!T88<=0.1, S88, IF(AND(Veriler!T88>0.1, F88="", P88="E"), IF(Q88>Veriler!$G$2, Q88*S88, IF(Q88<Veriler!$G$2, Veriler!$G$2*S88, Q88*S88)), 0)) -> 0 | U88: =IF(T88=0," ",T88) | V88: =IFERROR(IF(O88="%10 sınırı aşılmıştır.",L88-T88,IFERROR(IF(F88="",IF(S88=1,0,IF(L88-S88=0,"",L88-S88)),IF(Veriler!M88="",L88,IF(L88*Veriler!M88=0,"",L88*Veriler!M88))),L88)),0)
A89: =A88+1 -> 65 | G89: =IF(AND(F89<>"",V89<>"",L89<>0),V89/L89,"") | L89: =IF(AND(H89<>0, J89<>0, K89<>0), H89*J89*K89, "") | M89: =IF(L89="", "", L89/Veriler!$X$1) | N89: =IF(F89<>"", "İthal Girdi", IF(Veriler!T89="", "", IF(Veriler!S89="H", "%0,5 üzerindedir", IF(Veriler!T89>0.1, "%10 sınırı aşılmıştır.", "Uygun")))) -> %0,5 üzerindedir | O89: =IF(M89=""," ",N89) | R89: =IFERROR(IF(AND(T89<>"",L89<>"",L89<>0,T89<>0),T89/L89,"")," ") | S89: =IFERROR(IF(M89<=0.005,IF(F89="",L89,0),IF(F89<>"",0,IF(P89="",0,IF(P89="H",0,IF(Q89<Veriler!$G$2,L89*Veriler!$G$2,L89*Q89)))))," ") -> 0 | T89: =IF(Veriler!T89<=0.1, S89, IF(AND(Veriler!T89>0.1, F89="", P89="E"), IF(Q89>Veriler!$G$2, Q89*S89, IF(Q89<Veriler!$G$2, Veriler!$G$2*S89, Q89*S89)), 0)) -> 0 | U89: =IF(T89=0," ",T89) | V89: =IFERROR(IF(O89="%10 sınırı aşılmıştır.",L89-T89,IFERROR(IF(F89="",IF(S89=1,0,IF(L89-S89=0,"",L89-S89)),IF(Veriler!M89="",L89,IF(L89*Veriler!M89=0,"",L89*Veriler!M89))),L89)),0)
A90: =A89+1 -> 66 | G90: =IF(AND(F90<>"",V90<>"",L90<>0),V90/L90,"") | L90: =IF(AND(H90<>0, J90<>0, K90<>0), H90*J90*K90, "") | M90: =IF(L90="", "", L90/Veriler!$X$1) | N90: =IF(F90<>"", "İthal Girdi", IF(Veriler!T90="", "", IF(Veriler!S90="H", "%0,5 üzerindedir", IF(Veriler!T90>0.1, "%10 sınırı aşılmıştır.", "Uygun")))) -> %0,5 üzerindedir | O90: =IF(M90=""," ",N90) | R90: =IFERROR(IF(AND(T90<>"",L90<>"",L90<>0,T90<>0),T90/L90,"")," ") | S90: =IFERROR(IF(M90<=0.005,IF(F90="",L90,0),IF(F90<>"",0,IF(P90="",0,IF(P90="H",0,IF(Q90<Veriler!$G$2,L90*Veriler!$G$2,L90*Q90)))))," ") -> 0 | T90: =IF(Veriler!T90<=0.1, S90, IF(AND(Veriler!T90>0.1, F90="", P90="E"), IF(Q90>Veriler!$G$2, Q90*S90, IF(Q90<Veriler!$G$2, Veriler!$G$2*S90, Q90*S90)), 0)) -> 0 | U90: =IF(T90=0," ",T90) | V90: =IFERROR(IF(O90="%10 sınırı aşılmıştır.",L90-T90,IFERROR(IF(F90="",IF(S90=1,0,IF(L90-S90=0,"",L90-S90)),IF(Veriler!M90="",L90,IF(L90*Veriler!M90=0,"",L90*Veriler!M90))),L90)),0)
A91: =A90+1 -> 67 | G91: =IF(AND(F91<>"",V91<>"",L91<>0),V91/L91,"") | L91: =IF(AND(H91<>0, J91<>0, K91<>0), H91*J91*K91, "") | M91: =IF(L91="", "", L91/Veriler!$X$1) | N91: =IF(F91<>"", "İthal Girdi", IF(Veriler!T91="", "", IF(Veriler!S91="H", "%0,5 üzerindedir", IF(Veriler!T91>0.1, "%10 sınırı aşılmıştır.", "Uygun")))) -> %0,5 üzerindedir | O91: =IF(M91=""," ",N91) | R91: =IFERROR(IF(AND(T91<>"",L91<>"",L91<>0,T91<>0),T91/L91,"")," ") | S91: =IFERROR(IF(M91<=0.005,IF(F91="",L91,0),IF(F91<>"",0,IF(P91="",0,IF(P91="H",0,IF(Q91<Veriler!$G$2,L91*Veriler!$G$2,L91*Q91)))))," ") -> 0 | T91: =IF(Veriler!T91<=0.1, S91, IF(AND(Veriler!T91>0.1, F91="", P91="E"), IF(Q91>Veriler!$G$2, Q91*S91, IF(Q91<Veriler!$G$2, Veriler!$G$2*S91, Q91*S91)), 0)) -> 0 | U91: =IF(T91=0," ",T91) | V91: =IFERROR(IF(O91="%10 sınırı aşılmıştır.",L91-T91,IFERROR(IF(F91="",IF(S91=1,0,IF(L91-S91=0,"",L91-S91)),IF(Veriler!M91="",L91,IF(L91*Veriler!M91=0,"",L91*Veriler!M91))),L91)),0)
A92: =A91+1 -> 68 | G92: =IF(AND(F92<>"",V92<>"",L92<>0),V92/L92,"") | L92: =IF(AND(H92<>0, J92<>0, K92<>0), H92*J92*K92, "") | M92: =IF(L92="", "", L92/Veriler!$X$1) | N92: =IF(F92<>"", "İthal Girdi", IF(Veriler!T92="", "", IF(Veriler!S92="H", "%0,5 üzerindedir", IF(Veriler!T92>0.1, "%10 sınırı aşılmıştır.", "Uygun")))) -> %0,5 üzerindedir | O92: =IF(M92=""," ",N92) | R92: =IFERROR(IF(AND(T92<>"",L92<>"",L92<>0,T92<>0),T92/L92,"")," ") | S92: =IFERROR(IF(M92<=0.005,IF(F92="",L92,0),IF(F92<>"",0,IF(P92="",0,IF(P92="H",0,IF(Q92<Veriler!$G$2,L92*Veriler!$G$2,L92*Q92)))))," ") -> 0 | T92: =IF(Veriler!T92<=0.1, S92, IF(AND(Veriler!T92>0.1, F92="", P92="E"), IF(Q92>Veriler!$G$2, Q92*S92, IF(Q92<Veriler!$G$2, Veriler!$G$2*S92, Q92*S92)), 0)) -> 0 | U92: =IF(T92=0," ",T92) | V92: =IFERROR(IF(O92="%10 sınırı aşılmıştır.",L92-T92,IFERROR(IF(F92="",IF(S92=1,0,IF(L92-S92=0,"",L92-S92)),IF(Veriler!M92="",L92,IF(L92*Veriler!M92=0,"",L92*Veriler!M92))),L92)),0)
A93: =A92+1 -> 69 | G93: =IF(AND(F93<>"",V93<>"",L93<>0),V93/L93,"") | L93: =IF(AND(H93<>0, J93<>0, K93<>0), H93*J93*K93, "") | M93: =IF(L93="", "", L93/Veriler!$X$1) | N93: =IF(F93<>"", "İthal Girdi", IF(Veriler!T93="", "", IF(Veriler!S93="H", "%0,5 üzerindedir", IF(Veriler!T93>0.1, "%10 sınırı aşılmıştır.", "Uygun")))) -> %0,5 üzerindedir | O93: =IF(M93=""," ",N93) | R93: =IFERROR(IF(AND(T93<>"",L93<>"",L93<>0,T93<>0),T93/L93,"")," ") | S93: =IFERROR(IF(M93<=0.005,IF(F93="",L93,0),IF(F93<>"",0,IF(P93="",0,IF(P93="H",0,IF(Q93<Veriler!$G$2,L93*Veriler!$G$2,L93*Q93)))))," ") -> 0 | T93: =IF(Veriler!T93<=0.1, S93, IF(AND(Veriler!T93>0.1, F93="", P93="E"), IF(Q93>Veriler!$G$2, Q93*S93, IF(Q93<Veriler!$G$2, Veriler!$G$2*S93, Q93*S93)), 0)) -> 0 | U93: =IF(T93=0," ",T93) | V93: =IFERROR(IF(O93="%10 sınırı aşılmıştır.",L93-T93,IFERROR(IF(F93="",IF(S93=1,0,IF(L93-S93=0,"",L93-S93)),IF(Veriler!M93="",L93,IF(L93*Veriler!M93=0,"",L93*Veriler!M93))),L93)),0)
A94: =A93+1 -> 70 | G94: =IF(AND(F94<>"",V94<>"",L94<>0),V94/L94,"") | L94: =IF(AND(H94<>0, J94<>0, K94<>0), H94*J94*K94, "") | M94: =IF(L94="", "", L94/Veriler!$X$1) | N94: =IF(F94<>"", "İthal Girdi", IF(Veriler!T94="", "", IF(Veriler!S94="H", "%0,5 üzerindedir", IF(Veriler!T94>0.1, "%10 sınırı aşılmıştır.", "Uygun")))) -> %0,5 üzerindedir | O94: =IF(M94=""," ",N94) | R94: =IFERROR(IF(AND(T94<>"",L94<>"",L94<>0,T94<>0),T94/L94,"")," ") | S94: =IFERROR(IF(M94<=0.005,IF(F94="",L94,0),IF(F94<>"",0,IF(P94="",0,IF(P94="H",0,IF(Q94<Veriler!$G$2,L94*Veriler!$G$2,L94*Q94)))))," ") -> 0 | T94: =IF(Veriler!T94<=0.1, S94, IF(AND(Veriler!T94>0.1, F94="", P94="E"), IF(Q94>Veriler!$G$2, Q94*S94, IF(Q94<Veriler!$G$2, Veriler!$G$2*S94, Q94*S94)), 0)) -> 0 | U94: =IF(T94=0," ",T94) | V94: =IFERROR(IF(O94="%10 sınırı aşılmıştır.",L94-T94,IFERROR(IF(F94="",IF(S94=1,0,IF(L94-S94=0,"",L94-S94)),IF(Veriler!M94="",L94,IF(L94*Veriler!M94=0,"",L94*Veriler!M94))),L94)),0)
B95: Dolaylı
A96: =A94+1 -> 71 | G96: =IF(AND(F96<>"",V96<>"",L96<>0),V96/L96,"") | L96: =IF(AND(H96<>0, J96<>0, K96<>0), H96*J96*K96, "") | M96: =IF(L96="", "", L96/Veriler!$X$1) | N96: =IF(F96<>"", "İthal Girdi", IF(Veriler!T96="", "", IF(Veriler!S96="H", "%0,5 üzerindedir", IF(Veriler!T96>0.1, "%10 sınırı aşılmıştır.", "Uygun")))) -> %0,5 üzerindedir | O96: =IF(M96=""," ",N96) | R96: =IFERROR(IF(AND(T96<>"",L96<>"",L96<>0,T96<>0),T96/L96,"")," ") | S96: =IFERROR(IF(M96<=0.005,IF(F96="",L96,0),IF(F96<>"",0,IF(P96="",0,IF(P96="H",0,IF(Q96<Veriler!$G$2,L96*Veriler!$G$2,L96*Q96)))))," ") -> 0 | T96: =IF(Veriler!T96<=0.1, S96, IF(AND(Veriler!T96>0.1, F96="", P96="E"), IF(Q96>Veriler!$G$2, Q96*S96, IF(Q96<Veriler!$G$2, Veriler!$G$2*S96, Q96*S96)), 0)) -> 0 | U96: =IF(T96=0," ",T96) | V96: =IFERROR(IF(O96="%10 sınırı aşılmıştır.",L96-T96,IFERROR(IF(F96="",IF(S96=1,0,IF(L96-S96=0,"",L96-S96)),IF(Veriler!M96="",L96,IF(L96*Veriler!M96=0,"",L96*Veriler!M96))),L96)),0)
A97: =A96+1 -> 72 | G97: =IF(AND(F97<>"",V97<>"",L97<>0),V97/L97,"") | L97: =IF(AND(H97<>0, J97<>0, K97<>0), H97*J97*K97, "") | M97: =IF(L97="", "", L97/Veriler!$X$1) | N97: =IF(F97<>"", "İthal Girdi", IF(Veriler!T97="", "", IF(Veriler!S97="H", "%0,5 üzerindedir", IF(Veriler!T97>0.1, "%10 sınırı aşılmıştır.", "Uygun")))) -> %0,5 üzerindedir | O97: =IF(M97=""," ",N97) | R97: =IFERROR(IF(AND(T97<>"",L97<>"",L97<>0,T97<>0),T97/L97,"")," ") | S97: =IFERROR(IF(M97<=0.005,IF(F97="",L97,0),IF(F97<>"",0,IF(P97="",0,IF(P97="H",0,IF(Q97<Veriler!$G$2,L97*Veriler!$G$2,L97*Q97)))))," ") -> 0 | T97: =IF(Veriler!T97<=0.1, S97, IF(AND(Veriler!T97>0.1, F97="", P97="E"), IF(Q97>Veriler!$G$2, Q97*S97, IF(Q97<Veriler!$G$2, Veriler!$G$2*S97, Q97*S97)), 0)) -> 0 | U97: =IF(T97=0," ",T97) | V97: =IFERROR(IF(O97="%10 sınırı aşılmıştır.",L97-T97,IFERROR(IF(F97="",IF(S97=1,0,IF(L97-S97=0,"",L97-S97)),IF(Veriler!M97="",L97,IF(L97*Veriler!M97=0,"",L97*Veriler!M97))),L97)),0)
A98: =A97+1 -> 73 | G98: =IF(AND(F98<>"",V98<>"",L98<>0),V98/L98,"") | L98: =IF(AND(H98<>0, J98<>0, K98<>0), H98*J98*K98, "") | M98: =IF(L98="", "", L98/Veriler!$X$1) | N98: =IF(F98<>"", "İthal Girdi", IF(Veriler!T98="", "", IF(Veriler!S98="H", "%0,5 üzerindedir", IF(Veriler!T98>0.1, "%10 sınırı aşılmıştır.", "Uygun")))) -> %0,5 üzerindedir | O98: =IF(M98=""," ",N98) | R98: =IFERROR(IF(AND(T98<>"",L98<>"",L98<>0,T98<>0),T98/L98,"")," ") | S98: =IFERROR(IF(M98<=0.005,IF(F98="",L98,0),IF(F98<>"",0,IF(P98="",0,IF(P98="H",0,IF(Q98<Veriler!$G$2,L98*Veriler!$G$2,L98*Q98)))))," ") -> 0 | T98: =IF(Veriler!T98<=0.1, S98, IF(AND(Veriler!T98>0.1, F98="", P98="E"), IF(Q98>Veriler!$G$2, Q98*S98, IF(Q98<Veriler!$G$2, Veriler!$G$2*S98, Q98*S98)), 0)) -> 0 | U98: =IF(T98=0," ",T98) | V98: =IFERROR(IF(O98="%10 sınırı aşılmıştır.",L98-T98,IFERROR(IF(F98="",IF(S98=1,0,IF(L98-S98=0,"",L98-S98)),IF(Veriler!M98="",L98,IF(L98*Veriler!M98=0,"",L98*Veriler!M98))),L98)),0)
A99: =A98+1 -> 74 | G99: =IF(AND(F99<>"",V99<>"",L99<>0),V99/L99,"") | L99: =IF(AND(H99<>0, J99<>0, K99<>0), H99*J99*K99, "") | M99: =IF(L99="", "", L99/Veriler!$X$1) | N99: =IF(F99<>"", "İthal Girdi", IF(Veriler!T99="", "", IF(Veriler!S99="H", "%0,5 üzerindedir", IF(Veriler!T99>0.1, "%10 sınırı aşılmıştır.", "Uygun")))) -> %0,5 üzerindedir | O99: =IF(M99=""," ",N99) | R99: =IFERROR(IF(AND(T99<>"",L99<>"",L99<>0,T99<>0),T99/L99,"")," ") | S99: =IFERROR(IF(M99<=0.005,IF(F99="",L99,0),IF(F99<>"",0,IF(P99="",0,IF(P99="H",0,IF(Q99<Veriler!$G$2,L99*Veriler!$G$2,L99*Q99)))))," ") -> 0 | T99: =IF(Veriler!T99<=0.1, S99, IF(AND(Veriler!T99>0.1, F99="", P99="E"), IF(Q99>Veriler!$G$2, Q99*S99, IF(Q99<Veriler!$G$2, Veriler!$G$2*S99, Q99*S99)), 0)) -> 0 | U99: =IF(T99=0," ",T99) | V99: =IFERROR(IF(O99="%10 sınırı aşılmıştır.",L99-T99,IFERROR(IF(F99="",IF(S99=1,0,IF(L99-S99=0,"",L99-S99)),IF(Veriler!M99="",L99,IF(L99*Veriler!M99=0,"",L99*Veriler!M99))),L99)),0)
A100: =A99+1 -> 75 | G100: =IF(AND(F100<>"",V100<>"",L100<>0),V100/L100,"") | L100: =IF(AND(H100<>0, J100<>0, K100<>0), H100*J100*K100, "") | M100: =IF(L100="", "", L100/Veriler!$X$1) | N100: =IF(F100<>"", "İthal Girdi", IF(Veriler!T100="", "", IF(Veriler!S100="H", "%0,5 üzerindedir", IF(Veriler!T100>0.1, "%10 sınırı aşılmıştır.", "Uygun")))) -> %0,5 üzerindedir | O100: =IF(M100=""," ",N100) | R100: =IFERROR(IF(AND(T100<>"",L100<>"",L100<>0,T100<>0),T100/L100,"")," ") | S100: =IFERROR(IF(M100<=0.005,IF(F100="",L100,0),IF(F100<>"",0,IF(P100="",0,IF(P100="H",0,IF(Q100<Veriler!$G$2,L100*Veriler!$G$2,L100*Q100)))))," ") -> 0 | T100: =IF(Veriler!T100<=0.1, S100, IF(AND(Veriler!T100>0.1, F100="", P100="E"), IF(Q100>Veriler!$G$2, Q100*S100, IF(Q100<Veriler!$G$2, Veriler!$G$2*S100, Q100*S100)), 0)) -> 0 | U100: =IF(T100=0," ",T100) | V100: =IFERROR(IF(O100="%10 sınırı aşılmıştır.",L100-T100,IFERROR(IF(F100="",IF(S100=1,0,IF(L100-S100=0,"",L100-S100)),IF(Veriler!M100="",L100,IF(L100*Veriler!M100=0,"",L100*Veriler!M100))),L100)),0)
A101: =A100+1 -> 76 | G101: =IF(AND(F101<>"",V101<>"",L101<>0),V101/L101,"") | L101: =IF(AND(H101<>0, J101<>0, K101<>0), H101*J101*K101, "") | M101: =IF(L101="", "", L101/Veriler!$X$1) | N101: =IF(F101<>"", "İthal Girdi", IF(Veriler!T101="", "", IF(Veriler!S101="H", "%0,5 üzerindedir", IF(Veriler!T101>0.1, "%10 sınırı aşılmıştır.", "Uygun")))) -> %0,5 üzerindedir | O101: =IF(M101=""," ",N101) | R101: =IFERROR(IF(AND(T101<>"",L101<>"",L101<>0,T101<>0),T101/L101,"")," ") | S101: =IFERROR(IF(M101<=0.005,IF(F101="",L101,0),IF(F101<>"",0,IF(P101="",0,IF(P101="H",0,IF(Q101<Veriler!$G$2,L101*Veriler!$G$2,L101*Q101)))))," ") -> 0 | T101: =IF(Veriler!T101<=0.1, S101, IF(AND(Veriler!T101>0.1, F101="", P101="E"), IF(Q101>Veriler!$G$2, Q101*S101, IF(Q101<Veriler!$G$2, Veriler!$G$2*S101, Q101*S101)), 0)) -> 0 | U101: =IF(T101=0," ",T101) | V101: =IFERROR(IF(O101="%10 sınırı aşılmıştır.",L101-T101,IFERROR(IF(F101="",IF(S101=1,0,IF(L101-S101=0,"",L101-S101)),IF(Veriler!M101="",L101,IF(L101*Veriler!M101=0,"",L101*Veriler!M101))),L101)),0)
A102: =A101+1 -> 77 | G102: =IF(AND(F102<>"",V102<>"",L102<>0),V102/L102,"") | L102: =IF(AND(H102<>0, J102<>0, K102<>0), H102*J102*K102, "") | M102: =IF(L102="", "", L102/Veriler!$X$1) | N102: =IF(F102<>"", "İthal Girdi", IF(Veriler!T102="", "", IF(Veriler!S102="H", "%0,5 üzerindedir", IF(Veriler!T102>0.1, "%10 sınırı aşılmıştır.", "Uygun")))) -> %0,5 üzerindedir | O102: =IF(M102=""," ",N102) | R102: =IFERROR(IF(AND(T102<>"",L102<>"",L102<>0,T102<>0),T102/L102,"")," ") | S102: =IFERROR(IF(M102<=0.005,IF(F102="",L102,0),IF(F102<>"",0,IF(P102="",0,IF(P102="H",0,IF(Q102<Veriler!$G$2,L102*Veriler!$G$2,L102*Q102)))))," ") -> 0 | T102: =IF(Veriler!T102<=0.1, S102, IF(AND(Veriler!T102>0.1, F102="", P102="E"), IF(Q102>Veriler!$G$2, Q102*S102, IF(Q102<Veriler!$G$2, Veriler!$G$2*S102, Q102*S102)), 0)) -> 0 | U102: =IF(T102=0," ",T102) | V102: =IFERROR(IF(O102="%10 sınırı aşılmıştır.",L102-T102,IFERROR(IF(F102="",IF(S102=1,0,IF(L102-S102=0,"",L102-S102)),IF(Veriler!M102="",L102,IF(L102*Veriler!M102=0,"",L102*Veriler!M102))),L102)),0)
A103: =A102+1 -> 78 | G103: =IF(AND(F103<>"",V103<>"",L103<>0),V103/L103,"") | L103: =IF(AND(H103<>0, J103<>0, K103<>0), H103*J103*K103, "") | M103: =IF(L103="", "", L103/Veriler!$X$1) | N103: =IF(F103<>"", "İthal Girdi", IF(Veriler!T103="", "", IF(Veriler!S103="H", "%0,5 üzerindedir", IF(Veriler!T103>0.1, "%10 sınırı aşılmıştır.", "Uygun")))) -> %0,5 üzerindedir | O103: =IF(M103=""," ",N103) | R103: =IFERROR(IF(AND(T103<>"",L103<>"",L103<>0,T103<>0),T103/L103,"")," ") | S103: =IFERROR(IF(M103<=0.005,IF(F103="",L103,0),IF(F103<>"",0,IF(P103="",0,IF(P103="H",0,IF(Q103<Veriler!$G$2,L103*Veriler!$G$2,L103*Q103)))))," ") -> 0 | T103: =IF(Veriler!T103<=0.1, S103, IF(AND(Veriler!T103>0.1, F103="", P103="E"), IF(Q103>Veriler!$G$2, Q103*S103, IF(Q103<Veriler!$G$2, Veriler!$G$2*S103, Q103*S103)), 0)) -> 0 | U103: =IF(T103=0," ",T103) | V103: =IFERROR(IF(O103="%10 sınırı aşılmıştır.",L103-T103,IFERROR(IF(F103="",IF(S103=1,0,IF(L103-S103=0,"",L103-S103)),IF(Veriler!M103="",L103,IF(L103*Veriler!M103=0,"",L103*Veriler!M103))),L103)),0)
...

Sheet Veriler
A1: 1.01 | B1: YERLİ KATKI ORANI RAPORU | C1: İndis | D1: GTİP kodu | E1: GTİP yüzdesi | G1: BAKANLIK YÜZDESİ | L1: PROD KONTROL | O1: PROD | Q1: =SUM(AO:AO) -> 0 | R1: =Q1 -> 0 | S1: ='Ek.3-D'!E5 -> 0 | T1: ='Ek.3-D'!J5 -> 0 | U1: ='Ek.3-D'!E6 -> 0 | W1: ='Ek.3-D'!J6 -> 0 | X1: =SUM(R1:W1) -> 0 | Z1: =X1/10 -> 0
A2: 1.02 | B2: YERLİ KATKI ORANI RAPORU | D2: 290941000000 | E2: 0.1 | G2: 0.4 | L2: =IF(O2=29,1,0) -> #VALUE! | O2: =--LEFT('Ek.3-D'!C15,2) -> #VALUE! | W2: 38
A3: 1.03 | B3: YERLİ KATKI ORANI RAPORU | D3: 844831000000 | E3: 0.1 | L3: Gtip | M3: GTİP Listesi | N3: SSB | O3: Yerli Maliyet tutarı | P3: Fatura tutarı | Q3: Girdi Maliyet Yüzdesi | S3: 0,5 durumu | T3: 0,5 kümülatif toplam | AE3: Yerli <0,5 Toplam Maliyet | AF3: Yerli >0,5 Toplam Maliyet
A4: 1.04 | B4: YERLİ KATKI ORANI RAPORU | D4: 844851900011 | E4: 0.1 | Y4: YERLİ (T1) | Z4: İTHAL (T2) | AA4: T3 | AB4: T4 | AC4: T5 | AD4: T6
A5: 1.05 | B5: YERLİ KATKI ORANI RAPORU | D5: 847330200000 | E5: 0.1 | K5: 1 | L5: =IF(TRIM('Ek.3-A'!F5)<>"","var","yok") -> yok | M5: =IFERROR(IF('Ek.3-A'!F5="", "", IF(VLOOKUP('Ek.3-A'!F5, Veriler!D:E, 2, 0)=0, "", VLOOKUP('Ek.3-A'!F5, Veriler!D:E, 2, 0)))," ") | N5: =IF('Ek.3-A'!P5="", "", 'Ek.3-A'!P5) | O5: ='Ek.3-A'!S5 -> 0 | P5: ='Ek.3-A'!L5 | Q5: ='Ek.3-A'!M5 | R5: =IF(L5="var",0,IF(Q5<=0.005,Q5,0)) -> 0 | S5: =IF(Q5<=0.005,"E","H") -> H | T5: =IF(S5="E",SUM($R$5:R5),0) -> 0 | U5: =IF(T5<=0.1, O5, IF(R5>$G$2, R5*O5, $G$2*O5)) -> 0 | W5: 36 | X5: S1 | Y5: ='Ek.3-A'!X36 -> 0 | Z5: ='Ek.3-A'!Y36 -> 0 | AA5: ='Ek.3-B'!F32 | AB5: ='Ek.3-B'!N32 | AC5: ='Ek.3-C'!F31 | AD5: ='Ek.3-C'!N31 | AE5: =SUM(AA5:AA7633) -> 0
A6: 1.06 | B6: YERLİ KATKI ORANI RAPORU | D6: 847330800000 | E6: 0.1 | K6: =K5+1 -> 2 | L6: =IF(TRIM('Ek.3-A'!F6)<>"","var","yok") -> yok | M6: =IFERROR(IF('Ek.3-A'!F6="", "", IF(VLOOKUP('Ek.3-A'!F6, Veriler!D:E, 2, 0)=0, "", VLOOKUP('Ek.3-A'!F6, Veriler!D:E, 2, 0)))," ") | N6: =IF('Ek.3-A'!P6="", "", 'Ek.3-A'!P6) | O6: ='Ek.3-A'!S6 -> 0 | P6: ='Ek.3-A'!L6 | Q6: ='Ek.3-A'!M6 | R6: =IF(L6="var",0,IF(Q6<=0.005,Q6,0)) -> 0 | S6: =IF(Q6<=0.005,"E","H") -> H | T6: =IF(S6="E",SUM($R$5:R6),0) -> 0 | U6: =IF(T6<=0.1, O6, IF(R6>$G$2, R6*O6, $G$2*O6)) -> 0 | W6: =W5+$W$2 -> 74 | X6: S2 | Y6: ='Ek.3-A'!X74 -> 0 | Z6: ='Ek.3-A'!Y74 -> 0 | AA6: ='Ek.3-B'!F66 | AB6: ='Ek.3-B'!N66 | AC6: ='Ek.3-C'!F64 | AD6: ='Ek.3-C'!N64
A7: 1.07 | B7: YERLİ KATKI ORANI RAPORU | D7: 852990920000 | E7: 0.1 | K7: =K6+1 -> 3 | L7: =IF(TRIM('Ek.3-A'!F7)<>"","var","yok") -> yok | M7: =IFERROR(IF('Ek.3-A'!F7="", "", IF(VLOOKUP('Ek.3-A'!F7, Veriler!D:E, 2, 0)=0, "", VLOOKUP('Ek.3-A'!F7, Veriler!D:E, 2, 0)))," ") | N7: =IF('Ek.3-A'!P7="", "", 'Ek.3-A'!P7) | O7: ='Ek.3-A'!S7 -> 0 | P7: ='Ek.3-A'!L7 | Q7: ='Ek.3-A'!M7 | R7: =IF(L7="var",0,IF(Q7<=0.005,Q7,0)) -> 0 | S7: =IF(Q7<=0.005,"E","H") -> H | T7: =IF(S7="E",SUM($R$5:R7),0) -> 0 | U7: =IF(T7<=0.1, O7, IF(R7>$G$2, R7*O7, $G$2*O7)) -> 0 | W7: =W6+$W$2 -> 112 | X7: S3 | Y7: ='Ek.3-A'!X112 -> 0 | Z7: ='Ek.3-A'!Y112 -> 0 | AA7: ='Ek.3-B'!F100 | AB7: ='Ek.3-B'!N100 | AC7: ='Ek.3-C'!F97 | AD7: ='Ek.3-C'!N97
A8: 1.08 | B8: YERLİ KATKI ORANI RAPORU | C8: 1 | D8: 870829109000 | E8: 0.1 | K8: =K7+1 -> 4 | L8: =IF(TRIM('Ek.3-A'!F8)<>"","var","yok") -> yok | M8: =IFERROR(IF('Ek.3-A'!F8="", "", IF(VLOOKUP('Ek.3-A'!F8, Veriler!D:E, 2, 0)=0, "", VLOOKUP('Ek.3-A'!F8, Veriler!D:E, 2, 0)))," ") | N8: =IF('Ek.3-A'!P8="", "", 'Ek.3-A'!P8) | O8: ='Ek.3-A'!S8 -> 0 | P8: ='Ek.3-A'!L8 | Q8: ='Ek.3-A'!M8 | R8: =IF(L8="var",0,IF(Q8<=0.005,Q8,0)) -> 0 | S8: =IF(Q8<=0.005,"E","H") -> H | T8: =IF(S8="E",SUM($R$5:R8),0) -> 0 | U8: =IF(T8<=0.1, O8, IF(R8>$G$2, R8*O8, $G$2*O8)) -> 0 | W8: =W7+$W$2 -> 150 | X8: S4 | Y8: ='Ek.3-A'!X150 -> 0 | Z8: ='Ek.3-A'!Y150 -> 0 | AA8: ='Ek.3-B'!F134 | AB8: ='Ek.3-B'!N134 | AC8: ='Ek.3-C'!F130 | AD8: ='Ek.3-C'!N130
A9: 1.09 | B9: YERLİ KATKI ORANI RAPORU | D9: 870840500000 | E9: 0.1 | K9: =K8+1 -> 5 | L9: =IF(TRIM('Ek.3-A'!F9)<>"","var","yok") -> yok | M9: =IFERROR(IF('Ek.3-A'!F9="", "", IF(VLOOKUP('Ek.3-A'!F9, Veriler!D:E, 2, 0)=0, "", VLOOKUP('Ek.3-A'!F9, Veriler!D:E, 2, 0)))," ") | N9: =IF('Ek.3-A'!P9="", "", 'Ek.3-A'!P9) | O9: ='Ek.3-A'!S9 -> 0 | P9: ='Ek.3-A'!L9 | Q9: ='Ek.3-A'!M9 | R9: =IF(L9="var",0,IF(Q9<=0.005,Q9,0)) -> 0 | S9: =IF(Q9<=0.005,"E","H") -> H | T9: =IF(S9="E",SUM($R$5:R9),0) -> 0 | U9: =IF(T9<=0.1, O9, IF(R9>$G$2, R9*O9, $G$2*O9)) -> 0 | W9: =W8+$W$2 -> 188 | X9: S5 | Y9: ='Ek.3-A'!X188 -> 0 | Z9: ='Ek.3-A'!Y188 -> 0 | AA9: =SUM(AA5:AA8) -> 0 | AB9: =SUM(AB5:AB8) -> 0 | AC9: =SUM(AC5:AC8) -> 0 | AD9: =SUM(AD5:AD8) -> 0
A10: 1.1 | B10: YERLİ KATKI ORANI RAPORU | D10: 870895990000 | E10: 0.1 | K10: =K9+1 -> 6 | L10: =IF(TRIM('Ek.3-A'!F10)<>"","var","yok") -> yok | M10: =IFERROR(IF('Ek.3-A'!F10="", "", IF(VLOOKUP('Ek.3-A'!F10, Veriler!D:E, 2, 0)=0, "", VLOOKUP('Ek.3-A'!F10, Veriler!D:E, 2, 0)))," ") | N10: =IF('Ek.3-A'!P10="", "", 'Ek.3-A'!P10) | O10: ='Ek.3-A'!S10 -> 0 | P10: ='Ek.3-A'!L10 | Q10: ='Ek.3-A'!M10 | R10: =IF(L10="var",0,IF(Q10<=0.005,Q10,0)) -> 0 | S10: =IF(Q10<=0.005,"E","H") -> H | T10: =IF(S10="E",SUM($R$5:R10),0) -> 0 | U10: =IF(T10<=0.1, O10, IF(R10>$G$2, R10*O10, $G$2*O10)) -> 0 | W10: =W9+$W$2 -> 226 | X10: S6 | Y10: ='Ek.3-A'!X226 -> 0 | Z10: ='Ek.3-A'!Y226 -> 0
A11: 1.11 | B11: YERLİ KATKI ORANI RAPORU | D11: 880720000000 | E11: 0.1 | K11: =K10+1 -> 7 | L11: =IF(TRIM('Ek.3-A'!F11)<>"","var","yok") -> yok | M11: =IFERROR(IF('Ek.3-A'!F11="", "", IF(VLOOKUP('Ek.3-A'!F11, Veriler!D:E, 2, 0)=0, "", VLOOKUP('Ek.3-A'!F11, Veriler!D:E, 2, 0)))," ") | N11: =IF('Ek.3-A'!P11="", "", 'Ek.3-A'!P11) | O11: ='Ek.3-A'!S11 -> 0 | P11: ='Ek.3-A'!L11 | Q11: ='Ek.3-A'!M11 | R11: =IF(L11="var",0,IF(Q11<=0.005,Q11,0)) -> 0 | S11: =IF(Q11<=0.005,"E","H") -> H | T11: =IF(S11="E",SUM($R$5:R11),0) -> 0 | U11: =IF(T11<=0.1, O11, IF(R11>$G$2, R11*O11, $G$2*O11)) -> 0 | W11: =W10+$W$2 -> 264 | X11: S7 | Y11: ='Ek.3-A'!X264 -> 0 | Z11: ='Ek.3-A'!Y264 -> 0
A12: 1.12 | B12: YERLİ KATKI ORANI RAPORU | D12: 880710000000 | E12: 0.1 | K12: =K11+1 -> 8 | L12: =IF(TRIM('Ek.3-A'!F12)<>"","var","yok") -> yok | M12: =IFERROR(IF('Ek.3-A'!F12="", "", IF(VLOOKUP('Ek.3-A'!F12, Veriler!D:E, 2, 0)=0, "", VLOOKUP('Ek.3-A'!F12, Veriler!D:E, 2, 0)))," ") | N12: =IF('Ek.3-A'!P12="", "", 'Ek.3-A'!P12) | O12: ='Ek.3-A'!S12 -> 0 | P12: ='Ek.3-A'!L12 | Q12: ='Ek.3-A'!M12 | R12: =IF(L12="var",0,IF(Q12<=0.005,Q12,0)) -> 0 | S12: =IF(Q12<=0.005,"E","H") -> H | T12: =IF(S12="E",SUM($R$5:R12),0) -> 0 | U12: =IF(T12<=0.1, O12, IF(R12>$G$2, R12*O12, $G$2*O12)) -> 0 | W12: =W11+$W$2 -> 302 | X12: S8 | Y12: ='Ek.3-A'!X302 -> 0 | Z12: ='Ek.3-A'!Y302 -> 0
A13: 1.13 | B13: YERLİ KATKI ORANI RAPORU | D13: 291712000011 | E13: 0.1 | K13: =K12+1 -> 9 | L13: =IF(TRIM('Ek.3-A'!F13)<>"","var","yok") -> yok | M13: =IFERROR(IF('Ek.3-A'!F13="", "", IF(VLOOKUP('Ek.3-A'!F13, Veriler!D:E, 2, 0)=0, "", VLOOKUP('Ek.3-A'!F13, Veriler!D:E, 2, 0)))," ") | N13: =IF('Ek.3-A'!P13="", "", 'Ek.3-A'!P13) | O13: ='Ek.3-A'!S13 -> 0 | P13: ='Ek.3-A'!L13 | Q13: ='Ek.3-A'!M13 | R13: =IF(L13="var",0,IF(Q13<=0.005,Q13,0)) -> 0 | S13: =IF(Q13<=0.005,"E","H") -> H | T13: =IF(S13="E",SUM($R$5:R13),0) -> 0 | U13: =IF(T13<=0.1, O13, IF(R13>$G$2, R13*O13, $G$2*O13)) -> 0 | W13: =W12+$W$2 -> 340 | X13: S9 | Y13: ='Ek.3-A'!X340 -> 0 | Z13: ='Ek.3-A'!Y340 -> 0
A14: 1.14 | B14: YERLİ KATKI ORANI RAPORU | D14: 442199990019 | E14: 0.1 | K14: =K13+1 -> 10 | L14: =IF(TRIM('Ek.3-A'!F14)<>"","var","yok") -> yok | M14: =IFERROR(IF('Ek.3-A'!F14="", "", IF(VLOOKUP('Ek.3-A'!F14, Veriler!D:E, 2, 0)=0, "", VLOOKUP('Ek.3-A'!F14, Veriler!D:E, 2, 0)))," ") | N14: =IF('Ek.3-A'!P14="", "", 'Ek.3-A'!P14) | O14: ='Ek.3-A'!S14 -> 0 | P14: ='Ek.3-A'!L14 | Q14: ='Ek.3-A'!M14 | R14: =IF(L14="var",0,IF(Q14<=0.005,Q14,0)) -> 0 | S14: =IF(Q14<=0.005,"E","H") -> H | T14: =IF(S14="E",SUM($R$5:R14),0) -> 0 | U14: =IF(T14<=0.1, O14, IF(R14>$G$2, R14*O14, $G$2*O14)) -> 0 | W14: =W13+$W$2 -> 378 | X14: S10 | Y14: ='Ek.3-A'!X378 -> 0 | Z14: ='Ek.3-A'!Y378 -> 0
A15: 1.15 | B15: YERLİ KATKI ORANI RAPORU | D15: 291611001000 | E15: 0.1 | K15: =K14+1 -> 11 | L15: =IF(TRIM('Ek.3-A'!F15)<>"","var","yok") -> yok | M15: =IFERROR(IF('Ek.3-A'!F15="", "", IF(VLOOKUP('Ek.3-A'!F15, Veriler!D:E, 2, 0)=0, "", VLOOKUP('Ek.3-A'!F15, Veriler!D:E, 2, 0)))," ") | N15: =IF('Ek.3-A'!P15="", "", 'Ek.3-A'!P15) | O15: ='Ek.3-A'!S15 -> 0 | P15: ='Ek.3-A'!L15 | Q15: ='Ek.3-A'!M15 | R15: =IF(L15="var",0,IF(Q15<=0.005,Q15,0)) -> 0 | S15: =IF(Q15<=0.005,"E","H") -> H | T15: =IF(S15="E",SUM($R$5:R15),0) -> 0 | U15: =IF(T15<=0.1, O15, IF(R15>$G$2, R15*O15, $G$2*O15)) -> 0 | W15: =W14+$W$2 -> 416 | X15: S11 | Y15: ='Ek.3-A'!X416 -> 0 | Z15: ='Ek.3-A'!Y416 -> 0
A16: 1.16 | B16: YERLİ KATKI ORANI RAPORU | D16: 390330000000 | E16: 0.1 | K16: =K15+1 -> 12 | L16: =IF(TRIM('Ek.3-A'!F16)<>"","var","yok") -> yok | M16: =IFERROR(IF('Ek.3-A'!F16="", "", IF(VLOOKUP('Ek.3-A'!F16, Veriler!D:E, 2, 0)=0, "", VLOOKUP('Ek.3-A'!F16, Veriler!D:E, 2, 0)))," ") | N16: =IF('Ek.3-A'!P16="", "", 'Ek.3-A'!P16) | O16: ='Ek.3-A'!S16 -> 0 | P16: ='Ek.3-A'!L16 | Q16: ='Ek.3-A'!M16 | R16: =IF(L16="var",0,IF(Q16<=0.005,Q16,0)) -> 0 | S16: =IF(Q16<=0.005,"E","H") -> H | T16: =IF(S16="E",SUM($R$5:R16),0) -> 0 | U16: =IF(T16<=0.1, O16, IF(R16>$G$2, R16*O16, $G$2*O16)) -> 0 | W16: =W15+$W$2 -> 454 | X16: S12 | Y16: ='Ek.3-A'!X454 -> 0 | Z16: ='Ek.3-A'!Y454 -> 0
A17: 1.17 | B17: YERLİ KATKI ORANI RAPORU | D17: 720450001000 | E17: 0.1 | K17: =K16+1 -> 13 | L17: =IF(TRIM('Ek.3-A'!F17)<>"","var","yok") -> yok | M17: =IFERROR(IF('Ek.3-A'!F17="", "", IF(VLOOKUP('Ek.3-A'!F17, Veriler!D:E, 2, 0)=0, "", VLOOKUP('Ek.3-A'!F17, Veriler!D:E, 2, 0)))," ") | N17: =IF('Ek.3-A'!P17="", "", 'Ek.3-A'!P17) | O17: ='Ek.3-A'!S17 -> 0 | P17: ='Ek.3-A'!L17 | Q17: ='Ek.3-A'!M17 | R17: =IF(L17="var",0,IF(Q17<=0.005,Q17,0)) -> 0 | S17: =IF(Q17<=0.005,"E","H") -> H | T17: =IF(S17="E",SUM($R$5:R17),0) -> 0 | U17: =IF(T17<=0.1, O17, IF(R17>$G$2, R17*O17, $G$2*O17)) -> 0 | W17: =W16+$W$2 -> 492 | X17: S13 | Y17: ='Ek.3-A'!X492 -> 0 | Z17: ='Ek.3-A'!Y492 -> 0
A18: 1.18 | B18: YERLİ KATKI ORANI RAPORU | D18: 720429000019 | E18: 0.1 | K18: =K17+1 -> 14 | L18: =IF(TRIM('Ek.3-A'!F18)<>"","var","yok") -> yok | M18: =IFERROR(IF('Ek.3-A'!F18="", "", IF(VLOOKUP('Ek.3-A'!F18, Veriler!D:E, 2, 0)=0, "", VLOOKUP('Ek.3-A'!F18, Veriler!D:E, 2, 0)))," ") | N18: =IF('Ek.3-A'!P18="", "", 'Ek.3-A'!P18) | O18: ='Ek.3-A'!S18 -> 0 | P18: ='Ek.3-A'!L18 | Q18: ='Ek.3-A'!M18 | R18: =IF(L18="var",0,IF(Q18<=0.005,Q18,0)) -> 0 | S18: =IF(Q18<=0.005,"E","H") -> H | T18: =IF(S18="E",SUM($R$5:R18),0) -> 0 | U18: =IF(T18<=0.1, O18, IF(R18>$G$2, R18*O18, $G$2*O18)) -> 0 | W18: =W17+$W$2 -> 530 | X18: S14 | Y18: ='Ek.3-A'!X530 -> 0 | Z18: ='Ek.3-A'!Y530 -> 0
A19: 1.19 | B19: YERLİ KATKI ORANI RAPORU | D19: 720429000011 | E19: 0.1 | W19: =W18+$W$2 -> 568 | X19: S15 | Y19: ='Ek.3-A'!X568 -> 0 | Z19: ='Ek.3-A'!Y568 -> 0
A20: 1.2 | B20: YERLİ KATKI ORANI RAPORU | D20: 720421900019 | E20: 0.1 | K20: =K18+1 -> 15 | L20: =IF(TRIM('Ek.3-A'!F20)<>"","var","yok") -> yok | M20: =IFERROR(IF('Ek.3-A'!F20="", "", IF(VLOOKUP('Ek.3-A'!F20, Veriler!D:E, 2, 0)=0, "", VLOOKUP('Ek.3-A'!F20, Veriler!D:E, 2, 0)))," ") | N20: =IF('Ek.3-A'!P20="", "", 'Ek.3-A'!P20) | O20: ='Ek.3-A'!S20 -> 0 | P20: ='Ek.3-A'!L20 | Q20: ='Ek.3-A'!M20 | R20: =IF(L20="var",0,IF(Q20<=0.005,Q20,0)) -> 0 | S20: =IF(Q20<=0.005,"E","H") -> H | T20: =IF(S20="E",SUM($R$5:R20),0) -> 0 | U20: =IF(T20<=0.1, O20, IF(R20>$G$2, R20*O20, $G$2*O20)) -> 0 | W20: =W19+$W$2 -> 606 | X20: S16 | Y20: ='Ek.3-A'!X606 -> 0 | Z20: ='Ek.3-A'!Y606 -> 0
A21: 1.21 | B21: YERLİ KATKI ORANI RAPORU | D21: 720421900011 | E21: 0.1 | K21: =K20+1 -> 16 | L21: =IF(TRIM('Ek.3-A'!F21)<>"","var","yok") -> yok | M21: =IFERROR(IF('Ek.3-A'!F21="", "", IF(VLOOKUP('Ek.3-A'!F21, Veriler!D:E, 2, 0)=0, "", VLOOKUP('Ek.3-A'!F21, Veriler!D:E, 2, 0)))," ") | N21: =IF('Ek.3-A'!P21="", "", 'Ek.3-A'!P21) | O21: ='Ek.3-A'!S21 -> 0 | P21: ='Ek.3-A'!L21 | Q21: ='Ek.3-A'!M21 | R21: =IF(L21="var",0,IF(Q21<=0.005,Q21,0)) -> 0 | S21: =IF(Q21<=0.005,"E","H") -> H | T21: =IF(S21="E",SUM($R$5:R21),0) -> 0 | U21: =IF(T21<=0.1, O21, IF(R21>$G$2, R21*O21, $G$2*O21)) -> 0 | W21: =W20+$W$2 -> 644 | X21: S17 | Y21: ='Ek.3-A'!X644 -> 0 | Z21: ='Ek.3-A'!Y644 -> 0
A22: 1.22 | B22: YERLİ KATKI ORANI RAPORU | D22: 720421100019 | E22: 0.1 | K22: =K21+1 -> 17 | L22: =IF(TRIM('Ek.3-A'!F22)<>"","var","yok") -> yok | M22: =IFERROR(IF('Ek.3-A'!F22="", "", IF(VLOOKUP('Ek.3-A'!F22, Veriler!D:E, 2, 0)=0, "", VLOOKUP('Ek.3-A'!F22, Veriler!D:E, 2, 0)))," ") | N22: =IF('Ek.3-A'!P22="", "", 'Ek.3-A'!P22) | O22: ='Ek.3-A'!S22 -> 0 | P22: ='Ek.3-A'!L22 | Q22: ='Ek.3-A'!M22 | R22: =IF(L22="var",0,IF(Q22<=0.005,Q22,0)) -> 0 | S22: =IF(Q22<=0.005,"E","H") -> H | T22: =IF(S22="E",SUM($R$5:R22),0) -> 0 | U22: =IF(T22<=0.1, O22, IF(R22>$G$2, R22*O22, $G$2*O22)) -> 0 | W22: =W21+$W$2 -> 682 | X22: S18 | Y22: ='Ek.3-A'!X682 -> 0 | Z22: ='Ek.3-A'!Y682 -> 0
A23: 1.23 | B23: YERLİ KATKI ORANI RAPORU | D23: 720421100011 | E23: 0.1 | K23: =K22+1 -> 18 | L23: =IF(TRIM('Ek.3-A'!F23)<>"","var","yok") -> yok | M23: =IFERROR(IF('Ek.3-A'!F23="", "", IF(VLOOKUP('Ek.3-A'!F23, Veriler!D:E, 2, 0)=0, "", VLOOKUP('Ek.3-A'!F23, Veriler!D:E, 2, 0)))," ") | N23: =IF('Ek.3-A'!P23="", "", 'Ek.3-A'!P23) | O23: ='Ek.3-A'!S23 -> 0 | P23: ='Ek.3-A'!L23 | Q23: ='Ek.3-A'!M23 | R23: =IF(L23="var",0,IF(Q23<=0.005,Q23,0)) -> 0 | S23: =IF(Q23<=0.005,"E","H") -> H | T23: =IF(S23="E",SUM($R$5:R23),0) -> 0 | U23: =IF(T23<=0.1, O23, IF(R23>$G$2, R23*O23, $G$2*O23)) -> 0 | W23: =W22+$W$2 -> 720 | X23: S19 | Y23: ='Ek.3-A'!X720 -> 0 | Z23: ='Ek.3-A'!Y720 -> 0
A24: 1.24 | B24: YERLİ KATKI ORANI RAPORU | D24: 760511000000 | E24: 0.1 | K24: =K23+1 -> 19 | L24: =IF(TRIM('Ek.3-A'!F24)<>"","var","yok") -> yok | M24: =IFERROR(IF('Ek.3-A'!F24="", "", IF(VLOOKUP('Ek.3-A'!F24, Veriler!D:E, 2, 0)=0, "", VLOOKUP('Ek.3-A'!F24, Veriler!D:E, 2, 0)))," ") | N24: =IF('Ek.3-A'!P24="", "", 'Ek.3-A'!P24) | O24: ='Ek.3-A'!S24 -> 0 | P24: ='Ek.3-A'!L24 | Q24: ='Ek.3-A'!M24 | R24: =IF(L24="var",0,IF(Q24<=0.005,Q24,0)) -> 0 | S24: =IF(Q24<=0.005,"E","H") -> H | T24: =IF(S24="E",SUM($R$5:R24),0) -> 0 | U24: =IF(T24<=0.1, O24, IF(R24>$G$2, R24*O24, $G$2*O24)) -> 0 | W24: =W23+$W$2 -> 758 | X24: S20 | Y24: ='Ek.3-A'!X758 -> 0 | Z24: ='Ek.3-A'!Y758 -> 0
A25: 1.25 | B25: YERLİ KATKI ORANI RAPORU | D25: 720110300000 | E25: 0.1 | K25: =K24+1 -> 20 | L25: =IF(TRIM('Ek.3-A'!F25)<>"","var","yok") -> yok | M25: =IFERROR(IF('Ek.3-A'!F25="", "", IF(VLOOKUP('Ek.3-A'!F25, Veriler!D:E, 2, 0)=0, "", VLOOKUP('Ek.3-A'!F25, Veriler!D:E, 2, 0)))," ") | N25: =IF('Ek.3-A'!P25="", "", 'Ek.3-A'!P25) | O25: ='Ek.3-A'!S25 -> 0 | P25: ='Ek.3-A'!L25 | Q25: ='Ek.3-A'!M25 | R25: =IF(L25="var",0,IF(Q25<=0.005,Q25,0)) -> 0 | S25: =IF(Q25<=0.005,"E","H") -> H | T25: =IF(S25="E",SUM($R$5:R25),0) -> 0 | U25: =IF(T25<=0.1, O25, IF(R25>$G$2, R25*O25, $G$2*O25)) -> 0 | W25: =W24+$W$2 -> 796 | X25: S21 | Y25: ='Ek.3-A'!X796 -> 0 | Z25: ='Ek.3-A'!Y796 -> 0
A26: 1.26 | B26: YERLİ KATKI ORANI RAPORU | D26: 720110900000 | E26: 0.1 | K26: =K25+1 -> 21 | L26: =IF(TRIM('Ek.3-A'!F26)<>"","var","yok") -> yok | M26: =IFERROR(IF('Ek.3-A'!F26="", "", IF(VLOOKUP('Ek.3-A'!F26, Veriler!D:E, 2, 0)=0, "", VLOOKUP('Ek.3-A'!F26, Veriler!D:E, 2, 0)))," ") | N26: =IF('Ek.3-A'!P26="", "", 'Ek.3-A'!P26) | O26: ='Ek.3-A'!S26 -> 0 | P26: ='Ek.3-A'!L26 | Q26: ='Ek.3-A'!M26 | R26: =IF(L26="var",0,IF(Q26<=0.005,Q26,0)) -> 0 | S26: =IF(Q26<=0.005,"E","H") -> H | T26: =IF(S26="E",SUM($R$5:R26),0) -> 0 | U26: =IF(T26<=0.1, O26, IF(R26>$G$2, R26*O26, $G$2*O26)) -> 0 | W26: =W25+$W$2 -> 834 | X26: S22 | Y26: ='Ek.3-A'!X834 -> 0 | Z26: ='Ek.3-A'!Y834 -> 0
A27: 1.27 | B27: YERLİ KATKI ORANI RAPORU | D27: 750300100000 | E27: 0.1 | K27: =K26+1 -> 22 | L27: =IF(TRIM('Ek.3-A'!F27)<>"","var","yok") -> yok | M27: =IFERROR(IF('Ek.3-A'!F27="", "", IF(VLOOKUP('Ek.3-A'!F27, Veriler!D:E, 2, 0)=0, "", VLOOKUP('Ek.3-A'!F27, Veriler!D:E, 2, 0)))," ") | N27: =IF('Ek.3-A'!P27="", "", 'Ek.3-A'!P27) | O27: ='Ek.3-A'!S27 -> 0 | P27: ='Ek.3-A'!L27 | Q27: ='Ek.3-A'!M27 | R27: =IF(L27="var",0,IF(Q27<=0.005,Q27,0)) -> 0 | S27: =IF(Q27<=0.005,"E","H") -> H | T27: =IF(S27="E",SUM($R$5:R27),0) -> 0 | U27: =IF(T27<=0.1, O27, IF(R27>$G$2, R27*O27, $G$2*O27)) -> 0 | W27: =W26+$W$2 -> 872 | X27: S23 | Y27: ='Ek.3-A'!X872 -> 0 | Z27: ='Ek.3-A'!Y872 -> 0
A28: 1.28 | B28: YERLİ KATKI ORANI RAPORU | D28: 390110900011 | E28: 0.1 | K28: =K27+1 -> 23 | L28: =IF(TRIM('Ek.3-A'!F28)<>"","var","yok") -> yok | M28: =IFERROR(IF('Ek.3-A'!F28="", "", IF(VLOOKUP('Ek.3-A'!F28, Veriler!D:E, 2, 0)=0, "", VLOOKUP('Ek.3-A'!F28, Veriler!D:E, 2, 0)))," ") | N28: =IF('Ek.3-A'!P28="", "", 'Ek.3-A'!P28) | O28: ='Ek.3-A'!S28 -> 0 | P28: ='Ek.3-A'!L28 | Q28: ='Ek.3-A'!M28 | R28: =IF(L28="var",0,IF(Q28<=0.005,Q28,0)) -> 0 | S28: =IF(Q28<=0.005,"E","H") -> H | T28: =IF(S28="E",SUM($R$5:R28),0) -> 0 | U28: =IF(T28<=0.1, O28, IF(R28>$G$2, R28*O28, $G$2*O28)) -> 0 | W28: =W27+$W$2 -> 910 | X28: S24 | Y28: ='Ek.3-A'!X910 -> 0 | Z28: ='Ek.3-A'!Y910 -> 0
A29: 1.29 | B29: YERLİ KATKI ORANI RAPORU | D29: 291830000029 | E29: 0.1 | K29: =K28+1 -> 24 | L29: =IF(TRIM('Ek.3-A'!F29)<>"","var","yok") -> yok | M29: =IFERROR(IF('Ek.3-A'!F29="", "", IF(VLOOKUP('Ek.3-A'!F29, Veriler!D:E, 2, 0)=0, "", VLOOKUP('Ek.3-A'!F29, Veriler!D:E, 2, 0)))," ") | N29: =IF('Ek.3-A'!P29="", "", 'Ek.3-A'!P29) | O29: ='Ek.3-A'!S29 -> 0 | P29: ='Ek.3-A'!L29 | Q29: ='Ek.3-A'!M29 | R29: =IF(L29="var",0,IF(Q29<=0.005,Q29,0)) -> 0 | S29: =IF(Q29<=0.005,"E","H") -> H | T29: =IF(S29="E",SUM($R$5:R29),0) -> 0 | U29: =IF(T29<=0.1, O29, IF(R29>$G$2, R29*O29, $G$2*O29)) -> 0 | W29: =W28+$W$2 -> 948 | X29: S25 | Y29: ='Ek.3-A'!X948 -> 0 | Z29: ='Ek.3-A'!Y948 -> 0
A30: 1.3 | B30: YERLİ KATKI ORANI RAPORU | D30: 820900800000 | E30: 0.1 | K30: =K29+1 -> 25 | L30: =IF(TRIM('Ek.3-A'!F30)<>"","var","yok") -> yok | M30: =IFERROR(IF('Ek.3-A'!F30="", "", IF(VLOOKUP('Ek.3-A'!F30, Veriler!D:E, 2, 0)=0, "", VLOOKUP('Ek.3-A'!F30, Veriler!D:E, 2, 0)))," ") | N30: =IF('Ek.3-A'!P30="", "", 'Ek.3-A'!P30) | O30: ='Ek.3-A'!S30 -> 0 | P30: ='Ek.3-A'!L30 | Q30: ='Ek.3-A'!M30 | R30: =IF(L30="var",0,IF(Q30<=0.005,Q30,0)) -> 0 | S30: =IF(Q30<=0.005,"E","H") -> H | T30: =IF(S30="E",SUM($R$5:R30),0) -> 0 | U30: =IF(T30<=0.1, O30, IF(R30>$G$2, R30*O30, $G$2*O30)) -> 0 | W30: =W29+$W$2 -> 986 | X30: S26 | Y30: ='Ek.3-A'!X986 -> 0 | Z30: ='Ek.3-A'!Y986 -> 0
A31: 1.31 | B31: YERLİ KATKI ORANI RAPORU | D31: 820900200000 | E31: 0.1 | K31: =K30+1 -> 26 | L31: =IF(TRIM('Ek.3-A'!F31)<>"","var","yok") -> yok | M31: =IFERROR(IF('Ek.3-A'!F31="", "", IF(VLOOKUP('Ek.3-A'!F31, Veriler!D:E, 2, 0)=0, "", VLOOKUP('Ek.3-A'!F31, Veriler!D:E, 2, 0)))," ") | N31: =IF('Ek.3-A'!P31="", "", 'Ek.3-A'!P31) | O31: ='Ek.3-A'!S31 -> 0 | P31: ='Ek.3-A'!L31 | Q31: ='Ek.3-A'!M31 | R31: =IF(L31="var",0,IF(Q31<=0.005,Q31,0)) -> 0 | S31: =IF(Q31<=0.005,"E","H") -> H | T31: =IF(S31="E",SUM($R$5:R31),0) -> 0 | U31: =IF(T31<=0.1, O31, IF(R31>$G$2, R31*O31, $G$2*O31)) -> 0 | W31: =W30+$W$2 -> 1024 | X31: S27 | Y31: ='Ek.3-A'!X1024 -> 0 | Z31: ='Ek.3-A'!Y1024 -> 0
A32: 1.32 | B32: YERLİ KATKI ORANI RAPORU | D32: 850110930000 | E32: 0.1 | K32: =K31+1 -> 27 | L32: =IF(TRIM('Ek.3-A'!F32)<>"","var","yok") -> yok | M32: =IFERROR(IF('Ek.3-A'!F32="", "", IF(VLOOKUP('Ek.3-A'!F32, Veriler!D:E, 2, 0)=0, "", VLOOKUP('Ek.3-A'!F32, Veriler!D:E, 2, 0)))," ") | N32: =IF('Ek.3-A'!P32="", "", 'Ek.3-A'!P32) | O32: ='Ek.3-A'!S32 -> 0 | P32: ='Ek.3-A'!L32 | Q32: ='Ek.3-A'!M32 | R32: =IF(L32="var",0,IF(Q32<=0.005,Q32,0)) -> 0 | S32: =IF(Q32<=0.005,"E","H") -> H | T32: =IF(S32="E",SUM($R$5:R32),0) -> 0 | U32: =IF(T32<=0.1, O32, IF(R32>$G$2, R32*O32, $G$2*O32)) -> 0 | W32: =W31+$W$2 -> 1062 | X32: S28 | Y32: ='Ek.3-A'!X1062 -> 0 | Z32: ='Ek.3-A'!Y1062 -> 0
A33: 1.33 | B33: YERLİ KATKI ORANI RAPORU | D33: 260600000000 | E33: 0.1 | K33: =K32+1 -> 28 | L33: =IF(TRIM('Ek.3-A'!F33)<>"","var","yok") -> yok | M33: =IFERROR(IF('Ek.3-A'!F33="", "", IF(VLOOKUP('Ek.3-A'!F33, Veriler!D:E, 2, 0)=0, "", VLOOKUP('Ek.3-A'!F33, Veriler!D:E, 2, 0)))," ") | N33: =IF('Ek.3-A'!P33="", "", 'Ek.3-A'!P33) | O33: ='Ek.3-A'!S33 -> 0 | P33: ='Ek.3-A'!L33 | Q33: ='Ek.3-A'!M33 | R33: =IF(L33="var",0,IF(Q33<=0.005,Q33,0)) -> 0 | S33: =IF(Q33<=0.005,"E","H") -> H | T33: =IF(S33="E",SUM($R$5:R33),0) -> 0 | U33: =IF(T33<=0.1, O33, IF(R33>$G$2, R33*O33, $G$2*O33)) -> 0 | W33: =W32+$W$2 -> 1100 | X33: S29 | Y33: ='Ek.3-A'!X1100 -> 0 | Z33: ='Ek.3-A'!Y1100 -> 0
A34: 1.34 | B34: YERLİ KATKI ORANI RAPORU | D34: 281830000000 | E34: 0.1 | W34: =W33+$W$2 -> 1138 | X34: S30 | Y34: ='Ek.3-A'!X1138 -> 0 | Z34: ='Ek.3-A'!Y1138 -> 0 | AO34: ='Ek.3-A'!L34 -> 0
A35: 1.35 | B35: YERLİ KATKI ORANI RAPORU | D35: 281820000000 | E35: 0.1 | W35: =W34+$W$2 -> 1176 | X35: S31 | Y35: ='Ek.3-A'!X1176 -> 0 | Z35: ='Ek.3-A'!Y1176 -> 0
A36: 1.36 | B36: YERLİ KATKI ORANI RAPORU | D36: 760200900000 | E36: 0.1 | W36: =W35+$W$2 -> 1214 | X36: S32 | Y36: ='Ek.3-A'!X1214 -> 0 | Z36: ='Ek.3-A'!Y1214 -> 0
A37: 1.37 | B37: YERLİ KATKI ORANI RAPORU | D37: 760200110000 | E37: 0.1 | W37: =W36+$W$2 -> 1252 | X37: S33 | Y37: ='Ek.3-A'!X1252 -> 0 | Z37: ='Ek.3-A'!Y1252 -> 0
A38: 1.38 | B38: YERLİ KATKI ORANI RAPORU | D38: 294110000011 | E38: 0.1 | W38: =W37+$W$2 -> 1290 | X38: S34 | Y38: ='Ek.3-A'!X1290 -> 0 | Z38: ='Ek.3-A'!Y1290 -> 0
A39: 1.39 | B39: YERLİ KATKI ORANI RAPORU | D39: 310540000011 | E39: 0.1 | W39: =W38+$W$2 -> 1328 | X39: S35 | Y39: ='Ek.3-A'!X1328 -> 0 | Z39: ='Ek.3-A'!Y1328 -> 0
A40: 1.4 | B40: YERLİ KATKI ORANI RAPORU | D40: 310221000000 | E40: 0.1 | W40: =W39+$W$2 -> 1366 | X40: S36 | Y40: ='Ek.3-A'!X1366 -> 0 | Z40: ='Ek.3-A'!Y1366 -> 0
A41: 1.41 | B41: YERLİ KATKI ORANI RAPORU | D41: 811090000000 | E41: 0.1 | W41: =W40+$W$2 -> 1404 | X41: S37 | Y41: ='Ek.3-A'!X1404 -> 0 | Z41: ='Ek.3-A'!Y1404 -> 0
A42: 1.42 | B42: YERLİ KATKI ORANI RAPORU | D42: 540211000000 | E42: 0.1 | W42: =W41+$W$2 -> 1442 | X42: S38 | Y42: ='Ek.3-A'!X1442 -> 0 | Z42: ='Ek.3-A'!Y1442 -> 0
A43: 1.43 | B43: YERLİ KATKI ORANI RAPORU | D43: 550311000000 | E43: 0.1 | K43: =K33+1 -> 29 | L43: =IF(TRIM('Ek.3-A'!F43)<>"","var","yok") -> yok | M43: =IF('Ek.3-A'!F43="", "", IF(VLOOKUP('Ek.3-A'!F43, Veriler!D:E, 2, 0)=0, "", VLOOKUP('Ek.3-A'!F43, Veriler!D:E, 2, 0))) | N43: =IF('Ek.3-A'!P43="", "", 'Ek.3-A'!P43) | O43: ='Ek.3-A'!S43 -> 0 | P43: ='Ek.3-A'!L43 | Q43: ='Ek.3-A'!M43 | R43: =IF(L43="var",0,IF(Q43<=0.005,Q43,0)) -> 0 | S43: =IF(Q43<=0.005,"E","H") -> H | T43: =IF(S43="E",SUM($R$5:R43),0) -> 0 | U43: =IF(T43<=0.1, O43, IF(R43>$G$2, R43*O43, $G$2*O43)) -> 0 | W43: =W42+$W$2 -> 1480 | X43: S39 | Y43: ='Ek.3-A'!X1480 -> 0 | Z43: ='Ek.3-A'!Y1480 -> 0
A44: 1.44 | B44: YERLİ KATKI ORANI RAPORU | D44: 291411000000 | E44: 0.1 | K44: =K43+1 -> 30 | L44: =IF(TRIM('Ek.3-A'!F44)<>"","var","yok") -> yok | M44: =IF('Ek.3-A'!F44="", "", IF(VLOOKUP('Ek.3-A'!F44, Veriler!D:E, 2, 0)=0, "", VLOOKUP('Ek.3-A'!F44, Veriler!D:E, 2, 0))) | N44: =IF('Ek.3-A'!P44="", "", 'Ek.3-A'!P44) | O44: ='Ek.3-A'!S44 -> 0 | P44: ='Ek.3-A'!L44 | Q44: ='Ek.3-A'!M44 | R44: =IF(L44="var",0,IF(Q44<=0.005,Q44,0)) -> 0 | S44: =IF(Q44<=0.005,"E","H") -> H | T44: =IF(S44="E",SUM($R$5:R44),0) -> 0 | U44: =IF(T44<=0.1, O44, IF(R44>$G$2, R44*O44, $G$2*O44)) -> 0 | W44: =W43+$W$2 -> 1518 | X44: S40 | Y44: ='Ek.3-A'!X1518 -> 0 | Z44: ='Ek.3-A'!Y1518 -> 0
A45: 1.45 | B45: YERLİ KATKI ORANI RAPORU | D45: 851110009000 | E45: 0.1 | K45: =K44+1 -> 31 | L45: =IF(TRIM('Ek.3-A'!F45)<>"","var","yok") -> yok | M45: =IF('Ek.3-A'!F45="", "", IF(VLOOKUP('Ek.3-A'!F45, Veriler!D:E, 2, 0)=0, "", VLOOKUP('Ek.3-A'!F45, Veriler!D:E, 2, 0))) | N45: =IF('Ek.3-A'!P45="", "", 'Ek.3-A'!P45) | O45: ='Ek.3-A'!S45 -> 0 | P45: ='Ek.3-A'!L45 | Q45: ='Ek.3-A'!M45 | R45: =IF(L45="var",0,IF(Q45<=0.005,Q45,0)) -> 0 | S45: =IF(Q45<=0.005,"E","H") -> H | T45: =IF(S45="E",SUM($R$5:R45),0) -> 0 | U45: =IF(T45<=0.1, O45, IF(R45>$G$2, R45*O45, $G$2*O45)) -> 0 | W45: =W44+$W$2 -> 1556 | X45: S41 | Y45: ='Ek.3-A'!X1556 -> 0 | Z45: ='Ek.3-A'!Y1556 -> 0
A46: 1.46 | B46: YERLİ KATKI ORANI RAPORU | D46: 740400910000 | E46: 0.1 | K46: =K45+1 -> 32 | L46: =IF(TRIM('Ek.3-A'!F46)<>"","var","yok") -> yok | M46: =IF('Ek.3-A'!F46="", "", IF(VLOOKUP('Ek.3-A'!F46, Veriler!D:E, 2, 0)=0, "", VLOOKUP('Ek.3-A'!F46, Veriler!D:E, 2, 0))) | N46: =IF('Ek.3-A'!P46="", "", 'Ek.3-A'!P46) | O46: ='Ek.3-A'!S46 -> 0 | P46: ='Ek.3-A'!L46 | Q46: ='Ek.3-A'!M46 | R46: =IF(L46="var",0,IF(Q46<=0.005,Q46,0)) -> 0 | S46: =IF(Q46<=0.005,"E","H") -> H | T46: =IF(S46="E",SUM($R$5:R46),0) -> 0 | U46: =IF(T46<=0.1, O46, IF(R46>$G$2, R46*O46, $G$2*O46)) -> 0 | W46: =W45+$W$2 -> 1594 | X46: S42 | Y46: ='Ek.3-A'!X1594 -> 0 | Z46: ='Ek.3-A'!Y1594 -> 0
A47: 1.47 | B47: YERLİ KATKI ORANI RAPORU | D47: 853669300000 | E47: 0.1 | K47: =K46+1 -> 33 | L47: =IF(TRIM('Ek.3-A'!F47)<>"","var","yok") -> yok | M47: =IF('Ek.3-A'!F47="", "", IF(VLOOKUP('Ek.3-A'!F47, Veriler!D:E, 2, 0)=0, "", VLOOKUP('Ek.3-A'!F47, Veriler!D:E, 2, 0))) | N47: =IF('Ek.3-A'!P47="", "", 'Ek.3-A'!P47) | O47: ='Ek.3-A'!S47 -> 0 | P47: ='Ek.3-A'!L47 | Q47: ='Ek.3-A'!M47 | R47: =IF(L47="var",0,IF(Q47<=0.005,Q47,0)) -> 0 | S47: =IF(Q47<=0.005,"E","H") -> H | T47: =IF(S47="E",SUM($R$5:R47),0) -> 0 | U47: =IF(T47<=0.1, O47, IF(R47>$G$2, R47*O47, $G$2*O47)) -> 0 | W47: =W46+$W$2 -> 1632 | X47: S43 | Y47: ='Ek.3-A'!X1632 -> 0 | Z47: ='Ek.3-A'!Y1632 -> 0
A48: 1.48 | B48: YERLİ KATKI ORANI RAPORU | D48: 480255251000 | E48: 0.1 | K48: =K47+1 -> 34 | L48: =IF(TRIM('Ek.3-A'!F48)<>"","var","yok") -> yok | M48: =IF('Ek.3-A'!F48="", "", IF(VLOOKUP('Ek.3-A'!F48, Veriler!D:E, 2, 0)=0, "", VLOOKUP('Ek.3-A'!F48, Veriler!D:E, 2, 0))) | N48: =IF('Ek.3-A'!P48="", "", 'Ek.3-A'!P48) | O48: ='Ek.3-A'!S48 -> 0 | P48: ='Ek.3-A'!L48 | Q48: ='Ek.3-A'!M48 | R48: =IF(L48="var",0,IF(Q48<=0.005,Q48,0)) -> 0 | S48: =IF(Q48<=0.005,"E","H") -> H | T48: =IF(S48="E",SUM($R$5:R48),0) -> 0 | U48: =IF(T48<=0.1, O48, IF(R48>$G$2, R48*O48, $G$2*O48)) -> 0 | W48: =W47+$W$2 -> 1670 | X48: S44 | Y48: ='Ek.3-A'!X1670 -> 0 | Z48: ='Ek.3-A'!Y1670 -> 0
A49: 1.49 | B49: YERLİ KATKI ORANI RAPORU | D49: 480255901000 | E49: 0.1 | K49: =K48+1 -> 35 | L49: =IF(TRIM('Ek.3-A'!F49)<>"","var","yok") -> yok | M49: =IF('Ek.3-A'!F49="", "", IF(VLOOKUP('Ek.3-A'!F49, Veriler!D:E, 2, 0)=0, "", VLOOKUP('Ek.3-A'!F49, Veriler!D:E, 2, 0))) | N49: =IF('Ek.3-A'!P49="", "", 'Ek.3-A'!P49) | O49: ='Ek.3-A'!S49 -> 0 | P49: ='Ek.3-A'!L49 | Q49: ='Ek.3-A'!M49 | R49: =IF(L49="var",0,IF(Q49<=0.005,Q49,0)) -> 0 | S49: =IF(Q49<=0.005,"E","H") -> H | T49: =IF(S49="E",SUM($R$5:R49),0) -> 0 | U49: =IF(T49<=0.1, O49, IF(R49>$G$2, R49*O49, $G$2*O49)) -> 0 | W49: =W48+$W$2 -> 1708 | X49: S45 | Y49: ='Ek.3-A'!X1708 -> 0 | Z49: ='Ek.3-A'!Y1708 -> 0
A50: 1.5 | B50: YERLİ KATKI ORANI RAPORU | D50: 480257001000 | E50: 0.1 | K50: =K49+1 -> 36 | L50: =IF(TRIM('Ek.3-A'!F50)<>"","var","yok") -> yok | M50: =IF('Ek.3-A'!F50="", "", IF(VLOOKUP('Ek.3-A'!F50, Veriler!D:E, 2, 0)=0, "", VLOOKUP('Ek.3-A'!F50, Veriler!D:E, 2, 0))) | N50: =IF('Ek.3-A'!P50="", "", 'Ek.3-A'!P50) | O50: ='Ek.3-A'!S50 -> 0 | P50: ='Ek.3-A'!L50 | Q50: ='Ek.3-A'!M50 | R50: =IF(L50="var",0,IF(Q50<=0.005,Q50,0)) -> 0 | S50: =IF(Q50<=0.005,"E","H") -> H | T50: =IF(S50="E",SUM($R$5:R50),0) -> 0 | U50: =IF(T50<=0.1, O50, IF(R50>$G$2, R50*O50, $G$2*O50)) -> 0 | W50: =W49+$W$2 -> 1746 | X50: S46 | Y50: ='Ek.3-A'!X1746 -> 0 | Z50: ='Ek.3-A'!Y1746 -> 0
A51: 1.51 | B51: YERLİ KATKI ORANI RAPORU | D51: 470710000000 | E51: 0.1 | K51: =K50+1 -> 37 | L51: =IF(TRIM('Ek.3-A'!F51)<>"","var","yok") -> yok | M51: =IF('Ek.3-A'!F51="", "", IF(VLOOKUP('Ek.3-A'!F51, Veriler!D:E, 2, 0)=0, "", VLOOKUP('Ek.3-A'!F51, Veriler!D:E, 2, 0))) | N51: =IF('Ek.3-A'!P51="", "", 'Ek.3-A'!P51) | O51: ='Ek.3-A'!S51 -> 0 | P51: ='Ek.3-A'!L51 | Q51: ='Ek.3-A'!M51 | R51: =IF(L51="var",0,IF(Q51<=0.005,Q51,0)) -> 0 | S51: =IF(Q51<=0.005,"E","H") -> H | T51: =IF(S51="E",SUM($R$5:R51),0) -> 0 | U51: =IF(T51<=0.1, O51, IF(R51>$G$2, R51*O51, $G$2*O51)) -> 0 | W51: =W50+$W$2 -> 1784 | X51: S47 | Y51: ='Ek.3-A'!X1784 -> 0 | Z51: ='Ek.3-A'!Y1784 -> 0
A52: 1.52 | B52: YERLİ KATKI ORANI RAPORU | D52: 470720000000 | E52: 0.1 | K52: =K51+1 -> 38 | L52: =IF(TRIM('Ek.3-A'!F52)<>"","var","yok") -> yok | M52: =IF('Ek.3-A'!F52="", "", IF(VLOOKUP('Ek.3-A'!F52, Veriler!D:E, 2, 0)=0, "", VLOOKUP('Ek.3-A'!F52, Veriler!D:E, 2, 0))) | N52: =IF('Ek.3-A'!P52="", "", 'Ek.3-A'!P52) | O52: ='Ek.3-A'!S52 -> 0 | P52: ='Ek.3-A'!L52 | Q52: ='Ek.3-A'!M52 | R52: =IF(L52="var",0,IF(Q52<=0.005,Q52,0)) -> 0 | S52: =IF(Q52<=0.005,"E","H") -> H | T52: =IF(S52="E",SUM($R$5:R52),0) -> 0 | U52: =IF(T52<=0.1, O52, IF(R52>$G$2, R52*O52, $G$2*O52)) -> 0 | W52: =W51+$W$2 -> 1822 | X52: S48 | Y52: ='Ek.3-A'!X1822 -> 0 | Z52: ='Ek.3-A'!Y1822 -> 0
A53: 1.53 | B53: YERLİ KATKI ORANI RAPORU | D53: 848280000000 | E53: 0.1 | K53: =K52+1 -> 39 | L53: =IF(TRIM('Ek.3-A'!F53)<>"","var","yok") -> yok | M53: =IF('Ek.3-A'!F53="", "", IF(VLOOKUP('Ek.3-A'!F53, Veriler!D:E, 2, 0)=0, "", VLOOKUP('Ek.3-A'!F53, Veriler!D:E, 2, 0))) | N53: =IF('Ek.3-A'!P53="", "", 'Ek.3-A'!P53) | O53: ='Ek.3-A'!S53 -> 0 | P53: ='Ek.3-A'!L53 | Q53: ='Ek.3-A'!M53 | R53: =IF(L53="var",0,IF(Q53<=0.005,Q53,0)) -> 0 | S53: =IF(Q53<=0.005,"E","H") -> H | T53: =IF(S53="E",SUM($R$5:R53),0) -> 0 | U53: =IF(T53<=0.1, O53, IF(R53>$G$2, R53*O53, $G$2*O53)) -> 0 | W53: =W52+$W$2 -> 1860 | X53: S49 | Y53: ='Ek.3-A'!X1860 -> 0 | Z53: ='Ek.3-A'!Y1860 -> 0
A54: 1.54 | B54: YERLİ KATKI ORANI RAPORU | D54: 481039000000 | E54: 0.1 | K54: =K53+1 -> 40 | L54: =IF(TRIM('Ek.3-A'!F54)<>"","var","yok") -> yok | M54: =IF('Ek.3-A'!F54="", "", IF(VLOOKUP('Ek.3-A'!F54, Veriler!D:E, 2, 0)=0, "", VLOOKUP('Ek.3-A'!F54, Veriler!D:E, 2, 0))) | N54: =IF('Ek.3-A'!P54="", "", 'Ek.3-A'!P54) | O54: ='Ek.3-A'!S54 -> 0 | P54: ='Ek.3-A'!L54 | Q54: ='Ek.3-A'!M54 | R54: =IF(L54="var",0,IF(Q54<=0.005,Q54,0)) -> 0 | S54: =IF(Q54<=0.005,"E","H") -> H | T54: =IF(S54="E",SUM($R$5:R54),0) -> 0 | U54: =IF(T54<=0.1, O54, IF(R54>$G$2, R54*O54, $G$2*O54)) -> 0 | W54: =W53+$W$2 -> 1898 | X54: S50 | Y54: ='Ek.3-A'!X1898 -> 0 | Z54: ='Ek.3-A'!Y1898 -> 0
A55: 1.55 | B55: YERLİ KATKI ORANI RAPORU | D55: 480411110000 | E55: 0.1 | K55: =K54+1 -> 41 | L55: =IF(TRIM('Ek.3-A'!F55)<>"","var","yok") -> yok | M55: =IF('Ek.3-A'!F55="", "", IF(VLOOKUP('Ek.3-A'!F55, Veriler!D:E, 2, 0)=0, "", VLOOKUP('Ek.3-A'!F55, Veriler!D:E, 2, 0))) | N55: =IF('Ek.3-A'!P55="", "", 'Ek.3-A'!P55) | O55: ='Ek.3-A'!S55 -> 0 | P55: ='Ek.3-A'!L55 | Q55: ='Ek.3-A'!M55 | R55: =IF(L55="var",0,IF(Q55<=0.005,Q55,0)) -> 0 | S55: =IF(Q55<=0.005,"E","H") -> H | T55: =IF(S55="E",SUM($R$5:R55),0) -> 0 | U55: =IF(T55<=0.1, O55, IF(R55>$G$2, R55*O55, $G$2*O55)) -> 0 | W55: =W54+$W$2 -> 1936 | X55: S51 | Y55: ='Ek.3-A'!X1936 -> 0 | Z55: ='Ek.3-A'!Y1936 -> 0
A56: 1.56 | B56: YERLİ KATKI ORANI RAPORU | D56: 480411190000 | E56: 0.1 | K56: =K55+1 -> 42 | L56: =IF(TRIM('Ek.3-A'!F56)<>"","var","yok") -> yok | M56: =IF('Ek.3-A'!F56="", "", IF(VLOOKUP('Ek.3-A'!F56, Veriler!D:E, 2, 0)=0, "", VLOOKUP('Ek.3-A'!F56, Veriler!D:E, 2, 0))) | N56: =IF('Ek.3-A'!P56="", "", 'Ek.3-A'!P56) | O56: ='Ek.3-A'!S56 -> 0 | P56: ='Ek.3-A'!L56 | Q56: ='Ek.3-A'!M56 | R56: =IF(L56="var",0,IF(Q56<=0.005,Q56,0)) -> 0 | S56: =IF(Q56<=0.005,"E","H") -> H | T56: =IF(S56="E",SUM($R$5:R56),0) -> 0 | U56: =IF(T56<=0.1, O56, IF(R56>$G$2, R56*O56, $G$2*O56)) -> 0 | W56: =W55+$W$2 -> 1974 | X56: S52 | Y56: ='Ek.3-A'!X1974 -> 0 | Z56: ='Ek.3-A'!Y1974 -> 0
A57: 1.57 | B57: YERLİ KATKI ORANI RAPORU | D57: 854919100000 | E57: 0.1 | W57: =W56+$W$2 -> 2012 | X57: S53 | Y57: ='Ek.3-A'!X2012 -> 0 | Z57: ='Ek.3-A'!Y2012 -> 0
A58: 1.58 | B58: YERLİ KATKI ORANI RAPORU | D58: 270112900000 | E58: 0.1 | K58: =K56+1 -> 43 | L58: =IF(TRIM('Ek.3-A'!F58)<>"","var","yok") -> yok | M58: =IF('Ek.3-A'!F58="", "", IF(VLOOKUP('Ek.3-A'!F58, Veriler!D:E, 2, 0)=0, "", VLOOKUP('Ek.3-A'!F58, Veriler!D:E, 2, 0))) | N58: =IF('Ek.3-A'!P58="", "", 'Ek.3-A'!P58) | O58: ='Ek.3-A'!S58 -> 0 | P58: ='Ek.3-A'!L58 | Q58: ='Ek.3-A'!M58 | R58: =IF(L58="var",0,IF(Q58<=0.005,Q58,0)) -> 0 | S58: =IF(Q58<=0.005,"E","H") -> H | T58: =IF(S58="E",SUM($R$5:R58),0) -> 0 | U58: =IF(T58<=0.1, O58, IF(R58>$G$2, R58*O58, $G$2*O58)) -> 0 | W58: =W57+$W$2 -> 2050 | X58: S54 | Y58: ='Ek.3-A'!X2050 -> 0 | Z58: ='Ek.3-A'!Y2050 -> 0
A59: 1.59 | B59: YERLİ KATKI ORANI RAPORU | D59: 270112100000 | E59: 0.1 | K59: =K58+1 -> 44 | L59: =IF(TRIM('Ek.3-A'!F59)<>"","var","yok") -> yok | M59: =IF('Ek.3-A'!F59="", "", IF(VLOOKUP('Ek.3-A'!F59, Veriler!D:E, 2, 0)=0, "", VLOOKUP('Ek.3-A'!F59, Veriler!D:E, 2, 0))) | N59: =IF('Ek.3-A'!P59="", "", 'Ek.3-A'!P59) | O59: ='Ek.3-A'!S59 -> 0 | P59: ='Ek.3-A'!L59 | Q59: ='Ek.3-A'!M59 | R59: =IF(L59="var",0,IF(Q59<=0.005,Q59,0)) -> 0 | S59: =IF(Q59<=0.005,"E","H") -> H | T59: =IF(S59="E",SUM($R$5:R59),0) -> 0 | U59: =IF(T59<=0.1, O59, IF(R59>$G$2, R59*O59, $G$2*O59)) -> 0 | W59: =W58+$W$2 -> 2088 | X59: S55 | Y59: ='Ek.3-A'!X2088 -> 0 | Z59: ='Ek.3-A'!Y2088 -> 0
A60: 1.6 | B60: YERLİ KATKI ORANI RAPORU | D60: 848110990000 | E60: 0.1 | K60: =K59+1 -> 45 | L60: =IF(TRIM('Ek.3-A'!F60)<>"","var","yok") -> yok | M60: =IF('Ek.3-A'!F60="", "", IF(VLOOKUP('Ek.3-A'!F60, Veriler!D:E, 2, 0)=0, "", VLOOKUP('Ek.3-A'!F60, Veriler!D:E, 2, 0))) | N60: =IF('Ek.3-A'!P60="", "", 'Ek.3-A'!P60) | O60: ='Ek.3-A'!S60 -> 0 | P60: ='Ek.3-A'!L60 | Q60: ='Ek.3-A'!M60 | R60: =IF(L60="var",0,IF(Q60<=0.005,Q60,0)) -> 0 | S60: =IF(Q60<=0.005,"E","H") -> H | T60: =IF(S60="E",SUM($R$5:R60),0) -> 0 | U60: =IF(T60<=0.1, O60, IF(R60>$G$2, R60*O60, $G$2*O60)) -> 0 | W60: =W59+$W$2 -> 2126 | X60: S56 | Y60: ='Ek.3-A'!X2126 -> 0 | Z60: ='Ek.3-A'!Y2126 -> 0
A61: 1.61 | B61: YERLİ KATKI ORANI RAPORU | D61: 848180730000 | E61: 0.1 | K61: =K60+1 -> 46 | L61: =IF(TRIM('Ek.3-A'!F61)<>"","var","yok") -> yok | M61: =IF('Ek.3-A'!F61="", "", IF(VLOOKUP('Ek.3-A'!F61, Veriler!D:E, 2, 0)=0, "", VLOOKUP('Ek.3-A'!F61, Veriler!D:E, 2, 0))) | N61: =IF('Ek.3-A'!P61="", "", 'Ek.3-A'!P61) | O61: ='Ek.3-A'!S61 -> 0 | P61: ='Ek.3-A'!L61 | Q61: ='Ek.3-A'!M61 | R61: =IF(L61="var",0,IF(Q61<=0.005,Q61,0)) -> 0 | S61: =IF(Q61<=0.005,"E","H") -> H | T61: =IF(S61="E",SUM($R$5:R61),0) -> 0 | U61: =IF(T61<=0.1, O61, IF(R61>$G$2, R61*O61, $G$2*O61)) -> 0 | W61: =W60+$W$2 -> 2164 | X61: S57 | Y61: ='Ek.3-A'!X2164 -> 0 | Z61: ='Ek.3-A'!Y2164 -> 0
A62: 1.62 | B62: YERLİ KATKI ORANI RAPORU | D62: 848140900000 | E62: 0.1 | K62: =K61+1 -> 47 | L62: =IF(TRIM('Ek.3-A'!F62)<>"","var","yok") -> yok | M62: =IF('Ek.3-A'!F62="", "", IF(VLOOKUP('Ek.3-A'!F62, Veriler!D:E, 2, 0)=0, "", VLOOKUP('Ek.3-A'!F62, Veriler!D:E, 2, 0))) | N62: =IF('Ek.3-A'!P62="", "", 'Ek.3-A'!P62) | O62: ='Ek.3-A'!S62 -> 0 | P62: ='Ek.3-A'!L62 | Q62: ='Ek.3-A'!M62 | R62: =IF(L62="var",0,IF(Q62<=0.005,Q62,0)) -> 0 | S62: =IF(Q62<=0.005,"E","H") -> H | T62: =IF(S62="E",SUM($R$5:R62),0) -> 0 | U62: =IF(T62<=0.1, O62, IF(R62>$G$2, R62*O62, $G$2*O62)) -> 0 | W62: =W61+$W$2 -> 2202 | X62: S58 | Y62: ='Ek.3-A'!X2202 -> 0 | Z62: ='Ek.3-A'!Y2202 -> 0
A63: 1.63 | B63: YERLİ KATKI ORANI RAPORU | D63: 848140900019 | E63: 0.1 | K63: =K62+1 -> 48 | L63: =IF(TRIM('Ek.3-A'!F63)<>"","var","yok") -> yok | M63: =IF('Ek.3-A'!F63="", "", IF(VLOOKUP('Ek.3-A'!F63, Veriler!D:E, 2, 0)=0, "", VLOOKUP('Ek.3-A'!F63, Veriler!D:E, 2, 0))) | N63: =IF('Ek.3-A'!P63="", "", 'Ek.3-A'!P63) | O63: ='Ek.3-A'!S63 -> 0 | P63: ='Ek.3-A'!L63 | Q63: ='Ek.3-A'!M63 | R63: =IF(L63="var",0,IF(Q63<=0.005,Q63,0)) -> 0 | S63: =IF(Q63<=0.005,"E","H") -> H | T63: =IF(S63="E",SUM($R$5:R63),0) -> 0 | U63: =IF(T63<=0.1, O63, IF(R63>$G$2, R63*O63, $G$2*O63)) -> 0 | W63: =W62+$W$2 -> 2240 | X63: S59 | Y63: ='Ek.3-A'!X2240 -> 0 | Z63: ='Ek.3-A'!Y2240 -> 0
A64: 1.64 | B64: YERLİ KATKI ORANI RAPORU | D64: 848180790000 | E64: 0.1 | K64: =K63+1 -> 49 | L64: =IF(TRIM('Ek.3-A'!F64)<>"","var","yok") -> yok | M64: =IF('Ek.3-A'!F64="", "", IF(VLOOKUP('Ek.3-A'!F64, Veriler!D:E, 2, 0)=0, "", VLOOKUP('Ek.3-A'!F64, Veriler!D:E, 2, 0))) | N64: =IF('Ek.3-A'!P64="", "", 'Ek.3-A'!P64) | O64: ='Ek.3-A'!S64 -> 0 | P64: ='Ek.3-A'!L64 | Q64: ='Ek.3-A'!M64 | R64: =IF(L64="var",0,IF(Q64<=0.005,Q64,0)) -> 0 | S64: =IF(Q64<=0.005,"E","H") -> H | T64: =IF(S64="E",SUM($R$5:R64),0) -> 0 | U64: =IF(T64<=0.1, O64, IF(R64>$G$2, R64*O64, $G$2*O64)) -> 0 | W64: =W63+$W$2 -> 2278 | X64: S60 | Y64: ='Ek.3-A'!X2278 -> 0 | Z64: ='Ek.3-A'!Y2278 -> 0
A65: 1.65 | B65: YERLİ KATKI ORANI RAPORU | D65: 848120900000 | E65: 0.1 | K65: =K64+1 -> 50 | L65: =IF(TRIM('Ek.3-A'!F65)<>"","var","yok") -> yok | M65: =IF('Ek.3-A'!F65="", "", IF(VLOOKUP('Ek.3-A'!F65, Veriler!D:E, 2, 0)=0, "", VLOOKUP('Ek.3-A'!F65, Veriler!D:E, 2, 0))) | N65: =IF('Ek.3-A'!P65="", "", 'Ek.3-A'!P65) | O65: ='Ek.3-A'!S65 -> 0 | P65: ='Ek.3-A'!L65 | Q65: ='Ek.3-A'!M65 | R65: =IF(L65="var",0,IF(Q65<=0.005,Q65,0)) -> 0 | S65: =IF(Q65<=0.005,"E","H") -> H | T65: =IF(S65="E",SUM($R$5:R65),0) -> 0 | U65: =IF(T65<=0.1, O65, IF(R65>$G$2, R65*O65, $G$2*O65)) -> 0 | W65: =W64+$W$2 -> 2316 | X65: S61 | Y65: ='Ek.3-A'!X2316 -> 0 | Z65: ='Ek.3-A'!Y2316 -> 0
A66: 1.66 | B66: YERLİ KATKI ORANI RAPORU | D66: 848180590019 | E66: 0.1 | K66: =K65+1 -> 51 | L66: =IF(TRIM('Ek.3-A'!F66)<>"","var","yok") -> yok | M66: =IF('Ek.3-A'!F66="", "", IF(VLOOKUP('Ek.3-A'!F66, Veriler!D:E, 2, 0)=0, "", VLOOKUP('Ek.3-A'!F66, Veriler!D:E, 2, 0))) | N66: =IF('Ek.3-A'!P66="", "", 'Ek.3-A'!P66) | O66: ='Ek.3-A'!S66 -> 0 | P66: ='Ek.3-A'!L66 | Q66: ='Ek.3-A'!M66 | R66: =IF(L66="var",0,IF(Q66<=0.005,Q66,0)) -> 0 | S66: =IF(Q66<=0.005,"E","H") -> H | T66: =IF(S66="E",SUM($R$5:R66),0) -> 0 | U66: =IF(T66<=0.1, O66, IF(R66>$G$2, R66*O66, $G$2*O66)) -> 0 | W66: =W65+$W$2 -> 2354 | X66: S62 | Y66: ='Ek.3-A'!X2354 -> 0 | Z66: ='Ek.3-A'!Y2354 -> 0
A67: 1.67 | B67: YERLİ KATKI ORANI RAPORU | D67: 400220000000 | E67: 0.1 | K67: =K66+1 -> 52 | L67: =IF(TRIM('Ek.3-A'!F67)<>"","var","yok") -> yok | M67: =IF('Ek.3-A'!F67="", "", IF(VLOOKUP('Ek.3-A'!F67, Veriler!D:E, 2, 0)=0, "", VLOOKUP('Ek.3-A'!F67, Veriler!D:E, 2, 0))) | N67: =IF('Ek.3-A'!P67="", "", 'Ek.3-A'!P67) | O67: ='Ek.3-A'!S67 -> 0 | P67: ='Ek.3-A'!L67 | Q67: ='Ek.3-A'!M67 | R67: =IF(L67="var",0,IF(Q67<=0.005,Q67,0)) -> 0 | S67: =IF(Q67<=0.005,"E","H") -> H | T67: =IF(S67="E",SUM($R$5:R67),0) -> 0 | U67: =IF(T67<=0.1, O67, IF(R67>$G$2, R67*O67, $G$2*O67)) -> 0 | W67: =W66+$W$2 -> 2392 | X67: S63 | Y67: ='Ek.3-A'!X2392 -> 0 | Z67: ='Ek.3-A'!Y2392 -> 0
A68: 1.68 | B68: YERLİ KATKI ORANI RAPORU | D68: 291612000013 | E68: 0.1 | K68: =K67+1 -> 53 | L68: =IF(TRIM('Ek.3-A'!F68)<>"","var","yok") -> yok | M68: =IF('Ek.3-A'!F68="", "", IF(VLOOKUP('Ek.3-A'!F68, Veriler!D:E, 2, 0)=0, "", VLOOKUP('Ek.3-A'!F68, Veriler!D:E, 2, 0))) | N68: =IF('Ek.3-A'!P68="", "", 'Ek.3-A'!P68) | O68: ='Ek.3-A'!S68 -> 0 | P68: ='Ek.3-A'!L68 | Q68: ='Ek.3-A'!M68 | R68: =IF(L68="var",0,IF(Q68<=0.005,Q68,0)) -> 0 | S68: =IF(Q68<=0.005,"E","H") -> H | T68: =IF(S68="E",SUM($R$5:R68),0) -> 0 | U68: =IF(T68<=0.1, O68, IF(R68>$G$2, R68*O68, $G$2*O68)) -> 0 | W68: =W67+$W$2 -> 2430 | X68: S64 | Y68: ='Ek.3-A'!X2430 -> 0 | Z68: ='Ek.3-A'!Y2430 -> 0
A69: 1.69 | B69: YERLİ KATKI ORANI RAPORU | D69: 701912000000 | E69: 0.1 | K69: =K68+1 -> 54 | L69: =IF(TRIM('Ek.3-A'!F69)<>"","var","yok") -> yok | M69: =IF('Ek.3-A'!F69="", "", IF(VLOOKUP('Ek.3-A'!F69, Veriler!D:E, 2, 0)=0, "", VLOOKUP('Ek.3-A'!F69, Veriler!D:E, 2, 0))) | N69: =IF('Ek.3-A'!P69="", "", 'Ek.3-A'!P69) | O69: ='Ek.3-A'!S69 -> 0 | P69: ='Ek.3-A'!L69 | Q69: ='Ek.3-A'!M69 | R69: =IF(L69="var",0,IF(Q69<=0.005,Q69,0)) -> 0 | S69: =IF(Q69<=0.005,"E","H") -> H | T69: =IF(S69="E",SUM($R$5:R69),0) -> 0 | U69: =IF(T69<=0.1, O69, IF(R69>$G$2, R69*O69, $G$2*O69)) -> 0 | W69: =W68+$W$2 -> 2468 | X69: S65 | Y69: ='Ek.3-A'!X2468 -> 0 | Z69: ='Ek.3-A'!Y2468 -> 0
A70: 1.7 | B70: YERLİ KATKI ORANI RAPORU | D70: 790200000000 | E70: 0.1 | K70: =K69+1 -> 55 | L70: =IF(TRIM('Ek.3-A'!F70)<>"","var","yok") -> yok | M70: =IF('Ek.3-A'!F70="", "", IF(VLOOKUP('Ek.3-A'!F70, Veriler!D:E, 2, 0)=0, "", VLOOKUP('Ek.3-A'!F70, Veriler!D:E, 2, 0))) | N70: =IF('Ek.3-A'!P70="", "", 'Ek.3-A'!P70) | O70: ='Ek.3-A'!S70 -> 0 | P70: ='Ek.3-A'!L70 | Q70: ='Ek.3-A'!M70 | R70: =IF(L70="var",0,IF(Q70<=0.005,Q70,0)) -> 0 | S70: =IF(Q70<=0.005,"E","H") -> H | T70: =IF(S70="E",SUM($R$5:R70),0) -> 0 | U70: =IF(T70<=0.1, O70, IF(R70>$G$2, R70*O70, $G$2*O70)) -> 0 | W70: =W69+$W$2 -> 2506 | X70: S66 | Y70: ='Ek.3-A'!X2506 -> 0 | Z70: ='Ek.3-A'!Y2506 -> 0
A71: 1.71 | B71: YERLİ KATKI ORANI RAPORU | D71: 850152901000 | E71: 0.1 | K71: =K70+1 -> 56 | L71: =IF(TRIM('Ek.3-A'!F71)<>"","var","yok") -> yok | M71: =IF('Ek.3-A'!F71="", "", IF(VLOOKUP('Ek.3-A'!F71, Veriler!D:E, 2, 0)=0, "", VLOOKUP('Ek.3-A'!F71, Veriler!D:E, 2, 0))) | N71: =IF('Ek.3-A'!P71="", "", 'Ek.3-A'!P71) | O71: ='Ek.3-A'!S71 -> 0 | P71: ='Ek.3-A'!L71 | Q71: ='Ek.3-A'!M71 | R71: =IF(L71="var",0,IF(Q71<=0.005,Q71,0)) -> 0 | S71: =IF(Q71<=0.005,"E","H") -> H | T71: =IF(S71="E",SUM($R$5:R71),0) -> 0 | U71: =IF(T71<=0.1, O71, IF(R71>$G$2, R71*O71, $G$2*O71)) -> 0 | W71: =W70+$W$2 -> 2544 | X71: S67 | Y71: ='Ek.3-A'!X2544 -> 0 | Z71: ='Ek.3-A'!Y2544 -> 0
A72: 1.72 | B72: YERLİ KATKI ORANI RAPORU | D72: 850151001000 | E72: 0.1 | W72: =W71+$W$2 -> 2582 | X72: S68 | Y72: ='Ek.3-A'!X2582 -> 0 | Z72: ='Ek.3-A'!Y2582 -> 0 | AO72: ='Ek.3-A'!L72 -> 0
A73: 1.73 | B73: YERLİ KATKI ORANI RAPORU | D73: 850153811000 | E73: 0.1 | W73: =W72+$W$2 -> 2620 | X73: S69 | Y73: ='Ek.3-A'!X2620 -> 0 | Z73: ='Ek.3-A'!Y2620 -> 0
A74: 1.74 | B74: YERLİ KATKI ORANI RAPORU | D74: 481092900000 | E74: 0.1 | W74: =W73+$W$2 -> 2658 | X74: S70 | Y74: ='Ek.3-A'!X2658 -> 0 | Z74: ='Ek.3-A'!Y2658 -> 0
A75: 1.75 | B75: YERLİ KATKI ORANI RAPORU | D75: 481092100000 | E75: 0.1 | W75: =W74+$W$2 -> 2696 | X75: S71 | Y75: ='Ek.3-A'!X2696 -> 0 | Z75: ='Ek.3-A'!Y2696 -> 0
A76: 1.76 | B76: YERLİ KATKI ORANI RAPORU | D76: 481092300000 | E76: 0.1 | W76: =W75+$W$2 -> 2734 | X76: S72 | Y76: ='Ek.3-A'!X2734 -> 0 | Z76: ='Ek.3-A'!Y2734 -> 0
A77: 1.77 | B77: YERLİ KATKI ORANI RAPORU | D77: 854239110000 | E77: 0.1 | W77: =W76+$W$2 -> 2772 | X77: S73 | Y77: ='Ek.3-A'!X2772 -> 0 | Z77: ='Ek.3-A'!Y2772 -> 0
A78: 1.78 | B78: YERLİ KATKI ORANI RAPORU | D78: 320411000000 | E78: 0.1 | W78: =W77+$W$2 -> 2810 | X78: S74 | Y78: ='Ek.3-A'!X2810 -> 0 | Z78: ='Ek.3-A'!Y2810 -> 0
A79: 1.79 | B79: YERLİ KATKI ORANI RAPORU | D79: 271019470018 | E79: 0.1 | W79: =W78+$W$2 -> 2848 | X79: S75 | Y79: ='Ek.3-A'!X2848 -> 0 | Z79: ='Ek.3-A'!Y2848 -> 0
A80: 1.8 | B80: YERLİ KATKI ORANI RAPORU | D80: 271019480011 | E80: 0.1 | W80: =W79+$W$2 -> 2886 | X80: S76 | Y80: ='Ek.3-A'!X2886 -> 0 | Z80: ='Ek.3-A'!Y2886 -> 0
A81: 1.81 | B81: YERLİ KATKI ORANI RAPORU | D81: 480255909912 | E81: 0.1 | K81: =K71+1 -> 57 | L81: =IF(TRIM('Ek.3-A'!F81)<>"","var","yok") -> yok | M81: =IF('Ek.3-A'!F81="", "", IF(VLOOKUP('Ek.3-A'!F81, Veriler!D:E, 2, 0)=0, "", VLOOKUP('Ek.3-A'!F81, Veriler!D:E, 2, 0))) | N81: =IF('Ek.3-A'!P81="", "", 'Ek.3-A'!P81) | O81: ='Ek.3-A'!S81 -> 0 | P81: ='Ek.3-A'!L81 | Q81: ='Ek.3-A'!M81 | R81: =IF(L81="var",0,IF(Q81<=0.005,Q81,0)) -> 0 | S81: =IF(Q81<=0.005,"E","H") -> H | T81: =IF(S81="E",SUM($R$5:R81),0) -> 0 | U81: =IF(T81<=0.1, O81, IF(R81>$G$2, R81*O81, $G$2*O81)) -> 0 | W81: =W80+$W$2 -> 2924 | X81: S77 | Y81: ='Ek.3-A'!X2924 -> 0 | Z81: ='Ek.3-A'!Y2924 -> 0
A82: 1.82 | B82: YERLİ KATKI ORANI RAPORU | D82: 730419300012 | E82: 0.1 | K82: =K81+1 -> 58 | L82: =IF(TRIM('Ek.3-A'!F82)<>"","var","yok") -> yok | M82: =IF('Ek.3-A'!F82="", "", IF(VLOOKUP('Ek.3-A'!F82, Veriler!D:E, 2, 0)=0, "", VLOOKUP('Ek.3-A'!F82, Veriler!D:E, 2, 0))) | N82: =IF('Ek.3-A'!P82="", "", 'Ek.3-A'!P82) | O82: ='Ek.3-A'!S82 -> 0 | P82: ='Ek.3-A'!L82 | Q82: ='Ek.3-A'!M82 | R82: =IF(L82="var",0,IF(Q82<=0.005,Q82,0)) -> 0 | S82: =IF(Q82<=0.005,"E","H") -> H | T82: =IF(S82="E",SUM($R$5:R82),0) -> 0 | U82: =IF(T82<=0.1, O82, IF(R82>$G$2, R82*O82, $G$2*O82)) -> 0 | W82: =W81+$W$2 -> 2962 | X82: S78 | Y82: ='Ek.3-A'!X2962 -> 0 | Z82: ='Ek.3-A'!Y2962 -> 0
A83: 1.83 | B83: YERLİ KATKI ORANI RAPORU | D83: 730429901000 | E83: 0.1 | K83: =K82+1 -> 59 | L83: =IF(TRIM('Ek.3-A'!F83)<>"","var","yok") -> yok | M83: =IF('Ek.3-A'!F83="", "", IF(VLOOKUP('Ek.3-A'!F83, Veriler!D:E, 2, 0)=0, "", VLOOKUP('Ek.3-A'!F83, Veriler!D:E, 2, 0))) | N83: =IF('Ek.3-A'!P83="", "", 'Ek.3-A'!P83) | O83: ='Ek.3-A'!S83 -> 0 | P83: ='Ek.3-A'!L83 | Q83: ='Ek.3-A'!M83 | R83: =IF(L83="var",0,IF(Q83<=0.005,Q83,0)) -> 0 | S83: =IF(Q83<=0.005,"E","H") -> H | T83: =IF(S83="E",SUM($R$5:R83),0) -> 0 | U83: =IF(T83<=0.1, O83, IF(R83>$G$2, R83*O83, $G$2*O83)) -> 0 | W83: =W82+$W$2 -> 3000 | X83: S79 | Y83: ='Ek.3-A'!X3000 -> 0 | Z83: ='Ek.3-A'!Y3000 -> 0
A84: 1.84 | B84: YERLİ KATKI ORANI RAPORU | D84: 730429301011 | E84: 0.1 | K84: =K83+1 -> 60 | L84: =IF(TRIM('Ek.3-A'!F84)<>"","var","yok") -> yok | M84: =IF('Ek.3-A'!F84="", "", IF(VLOOKUP('Ek.3-A'!F84, Veriler!D:E, 2, 0)=0, "", VLOOKUP('Ek.3-A'!F84, Veriler!D:E, 2, 0))) | N84: =IF('Ek.3-A'!P84="", "", 'Ek.3-A'!P84) | O84: ='Ek.3-A'!S84 -> 0 | P84: ='Ek.3-A'!L84 | Q84: ='Ek.3-A'!M84 | R84: =IF(L84="var",0,IF(Q84<=0.005,Q84,0)) -> 0 | S84: =IF(Q84<=0.005,"E","H") -> H | T84: =IF(S84="E",SUM($R$5:R84),0) -> 0 | U84: =IF(T84<=0.1, O84, IF(R84>$G$2, R84*O84, $G$2*O84)) -> 0 | W84: =W83+$W$2 -> 3038 | X84: S80 | Y84: ='Ek.3-A'!X3038 -> 0 | Z84: ='Ek.3-A'!Y3038 -> 0
A85: 1.85 | B85: YERLİ KATKI ORANI RAPORU | D85: 730429301012 | E85: 0.1 | K85: =K84+1 -> 61 | L85: =IF(TRIM('Ek.3-A'!F85)<>"","var","yok") -> yok | M85: =IF('Ek.3-A'!F85="", "", IF(VLOOKUP('Ek.3-A'!F85, Veriler!D:E, 2, 0)=0, "", VLOOKUP('Ek.3-A'!F85, Veriler!D:E, 2, 0))) | N85: =IF('Ek.3-A'!P85="", "", 'Ek.3-A'!P85) | O85: ='Ek.3-A'!S85 -> 0 | P85: ='Ek.3-A'!L85 | Q85: ='Ek.3-A'!M85 | R85: =IF(L85="var",0,IF(Q85<=0.005,Q85,0)) -> 0 | S85: =IF(Q85<=0.005,"E","H") -> H | T85: =IF(S85="E",SUM($R$5:R85),0) -> 0 | U85: =IF(T85<=0.1, O85, IF(R85>$G$2, R85*O85, $G$2*O85)) -> 0 | W85: =W84+$W$2 -> 3076 | X85: S81 | Y85: ='Ek.3-A'!X3076 -> 0 | Z85: ='Ek.3-A'!Y3076 -> 0
A86: 1.86 | B86: YERLİ KATKI ORANI RAPORU | D86: 730429101000 | E86: 0.1 | K86: =K85+1 -> 62 | L86: =IF(TRIM('Ek.3-A'!F86)<>"","var","yok") -> yok | M86: =IF('Ek.3-A'!F86="", "", IF(VLOOKUP('Ek.3-A'!F86, Veriler!D:E, 2, 0)=0, "", VLOOKUP('Ek.3-A'!F86, Veriler!D:E, 2, 0))) | N86: =IF('Ek.3-A'!P86="", "", 'Ek.3-A'!P86) | O86: ='Ek.3-A'!S86 -> 0 | P86: ='Ek.3-A'!L86 | Q86: ='Ek.3-A'!M86 | R86: =IF(L86="var",0,IF(Q86<=0.005,Q86,0)) -> 0 | S86: =IF(Q86<=0.005,"E","H") -> H | T86: =IF(S86="E",SUM($R$5:R86),0) -> 0 | U86: =IF(T86<=0.1, O86, IF(R86>$G$2, R86*O86, $G$2*O86)) -> 0 | W86: =W85+$W$2 -> 3114 | X86: S82 | Y86: ='Ek.3-A'!X3114 -> 0 | Z86: ='Ek.3-A'!Y3114 -> 0
A87: 1.87 | B87: YERLİ KATKI ORANI RAPORU | D87: 720310000000 | E87: 0.1 | K87: =K86+1 -> 63 | L87: =IF(TRIM('Ek.3-A'!F87)<>"","var","yok") -> yok | M87: =IF('Ek.3-A'!F87="", "", IF(VLOOKUP('Ek.3-A'!F87, Veriler!D:E, 2, 0)=0, "", VLOOKUP('Ek.3-A'!F87, Veriler!D:E, 2, 0))) | N87: =IF('Ek.3-A'!P87="", "", 'Ek.3-A'!P87) | O87: ='Ek.3-A'!S87 -> 0 | P87: ='Ek.3-A'!L87 | Q87: ='Ek.3-A'!M87 | R87: =IF(L87="var",0,IF(Q87<=0.005,Q87,0)) -> 0 | S87: =IF(Q87<=0.005,"E","H") -> H | T87: =IF(S87="E",SUM($R$5:R87),0) -> 0 | U87: =IF(T87<=0.1, O87, IF(R87>$G$2, R87*O87, $G$2*O87)) -> 0 | W87: =W86+$W$2 -> 3152 | X87: S83 | Y87: ='Ek.3-A'!X3152 -> 0 | Z87: ='Ek.3-A'!Y3152 -> 0
A88: 1.88 | B88: YERLİ KATKI ORANI RAPORU | D88: 260111000000 | E88: 0.1 | K88: =K87+1 -> 64 | L88: =IF(TRIM('Ek.3-A'!F88)<>"","var","yok") -> yok | M88: =IF('Ek.3-A'!F88="", "", IF(VLOOKUP('Ek.3-A'!F88, Veriler!D:E, 2, 0)=0, "", VLOOKUP('Ek.3-A'!F88, Veriler!D:E, 2, 0))) | N88: =IF('Ek.3-A'!P88="", "", 'Ek.3-A'!P88) | O88: ='Ek.3-A'!S88 -> 0 | P88: ='Ek.3-A'!L88 | Q88: ='Ek.3-A'!M88 | R88: =IF(L88="var",0,IF(Q88<=0.005,Q88,0)) -> 0 | S88: =IF(Q88<=0.005,"E","H") -> H | T88: =IF(S88="E",SUM($R$5:R88),0) -> 0 | U88: =IF(T88<=0.1, O88, IF(R88>$G$2, R88*O88, $G$2*O88)) -> 0 | W88: =W87+$W$2 -> 3190 | X88: S84 | Y88: ='Ek.3-A'!X3190 -> 0 | Z88: ='Ek.3-A'!Y3190 -> 0
A89: 1.89 | B89: YERLİ KATKI ORANI RAPORU | D89: 720449900011 | E89: 0.1 | K89: =K88+1 -> 65 | L89: =IF(TRIM('Ek.3-A'!F89)<>"","var","yok") -> yok | M89: =IF('Ek.3-A'!F89="", "", IF(VLOOKUP('Ek.3-A'!F89, Veriler!D:E, 2, 0)=0, "", VLOOKUP('Ek.3-A'!F89, Veriler!D:E, 2, 0))) | N89: =IF('Ek.3-A'!P89="", "", 'Ek.3-A'!P89) | O89: ='Ek.3-A'!S89 -> 0 | P89: ='Ek.3-A'!L89 | Q89: ='Ek.3-A'!M89 | R89: =IF(L89="var",0,IF(Q89<=0.005,Q89,0)) -> 0 | S89: =IF(Q89<=0.005,"E","H") -> H | T89: =IF(S89="E",SUM($R$5:R89),0) -> 0 | U89: =IF(T89<=0.1, O89, IF(R89>$G$2, R89*O89, $G$2*O89)) -> 0 | W89: =W88+$W$2 -> 3228 | X89: S85 | Y89: ='Ek.3-A'!X3228 -> 0 | Z89: ='Ek.3-A'!Y3228 -> 0
A90: 1.9 | B90: YERLİ KATKI ORANI RAPORU | D90: 720449900019 | E90: 0.1 | K90: =K89+1 -> 66 | L90: =IF(TRIM('Ek.3-A'!F90)<>"","var","yok") -> yok | M90: =IF('Ek.3-A'!F90="", "", IF(VLOOKUP('Ek.3-A'!F90, Veriler!D:E, 2, 0)=0, "", VLOOKUP('Ek.3-A'!F90, Veriler!D:E, 2, 0))) | N90: =IF('Ek.3-A'!P90="", "", 'Ek.3-A'!P90) | O90: ='Ek.3-A'!S90 -> 0 | P90: ='Ek.3-A'!L90 | Q90: ='Ek.3-A'!M90 | R90: =IF(L90="var",0,IF(Q90<=0.005,Q90,0)) -> 0 | S90: =IF(Q90<=0.005,"E","H") -> H | T90: =IF(S90="E",SUM($R$5:R90),0) -> 0 | U90: =IF(T90<=0.1, O90, IF(R90>$G$2, R90*O90, $G$2*O90)) -> 0 | W90: =W89+$W$2 -> 3266 | X90: S86 | Y90: ='Ek.3-A'!X3266 -> 0 | Z90: ='Ek.3-A'!Y3266 -> 0
A91: 1.91 | B91: YERLİ KATKI ORANI RAPORU | D91: 720449300000 | E91: 0.1 | K91: =K90+1 -> 67 | L91: =IF(TRIM('Ek.3-A'!F91)<>"","var","yok") -> yok | M91: =IF('Ek.3-A'!F91="", "", IF(VLOOKUP('Ek.3-A'!F91, Veriler!D:E, 2, 0)=0, "", VLOOKUP('Ek.3-A'!F91, Veriler!D:E, 2, 0))) | N91: =IF('Ek.3-A'!P91="", "", 'Ek.3-A'!P91) | O91: ='Ek.3-A'!S91 -> 0 | P91: ='Ek.3-A'!L91 | Q91: ='Ek.3-A'!M91 | R91: =IF(L91="var",0,IF(Q91<=0.005,Q91,0)) -> 0 | S91: =IF(Q91<=0.005,"E","H") -> H | T91: =IF(S91="E",SUM($R$5:R91),0) -> 0 | U91: =IF(T91<=0.1, O91, IF(R91>$G$2, R91*O91, $G$2*O91)) -> 0 | W91: =W90+$W$2 -> 3304 | X91: S87 | Y91: ='Ek.3-A'!X3304 -> 0 | Z91: ='Ek.3-A'!Y3304 -> 0
A92: 1.92 | B92: YERLİ KATKI ORANI RAPORU | D92: 720449100000 | E92: 0.1 | K92: =K91+1 -> 68 | L92: =IF(TRIM('Ek.3-A'!F92)<>"","var","yok") -> yok | M92: =IF('Ek.3-A'!F92="", "", IF(VLOOKUP('Ek.3-A'!F92, Veriler!D:E, 2, 0)=0, "", VLOOKUP('Ek.3-A'!F92, Veriler!D:E, 2, 0))) | N92: =IF('Ek.3-A'!P92="", "", 'Ek.3-A'!P92) | O92: ='Ek.3-A'!S92 -> 0 | P92: ='Ek.3-A'!L92 | Q92: ='Ek.3-A'!M92 | R92: =IF(L92="var",0,IF(Q92<=0.005,Q92,0)) -> 0 | S92: =IF(Q92<=0.005,"E","H") -> H | T92: =IF(S92="E",SUM($R$5:R92),0) -> 0 | U92: =IF(T92<=0.1, O92, IF(R92>$G$2, R92*O92, $G$2*O92)) -> 0 | W92: =W91+$W$2 -> 3342 | X92: S88 | Y92: ='Ek.3-A'!X3342 -> 0 | Z92: ='Ek.3-A'!Y3342 -> 0
A93: 1.93 | B93: YERLİ KATKI ORANI RAPORU | D93: 720441990000 | E93: 0.1 | K93: =K92+1 -> 69 | L93: =IF(TRIM('Ek.3-A'!F93)<>"","var","yok") -> yok | M93: =IF('Ek.3-A'!F93="", "", IF(VLOOKUP('Ek.3-A'!F93, Veriler!D:E, 2, 0)=0, "", VLOOKUP('Ek.3-A'!F93, Veriler!D:E, 2, 0))) | N93: =IF('Ek.3-A'!P93="", "", 'Ek.3-A'!P93) | O93: ='Ek.3-A'!S93 -> 0 | P93: ='Ek.3-A'!L93 | Q93: ='Ek.3-A'!M93 | R93: =IF(L93="var",0,IF(Q93<=0.005,Q93,0)) -> 0 | S93: =IF(Q93<=0.005,"E","H") -> H | T93: =IF(S93="E",SUM($R$5:R93),0) -> 0 | U93: =IF(T93<=0.1, O93, IF(R93>$G$2, R93*O93, $G$2*O93)) -> 0 | W93: =W92+$W$2 -> 3380 | X93: S89 | Y93: ='Ek.3-A'!X3380 -> 0 | Z93: ='Ek.3-A'!Y3380 -> 0
A94: 1.94 | B94: YERLİ KATKI ORANI RAPORU | D94: 720450009000 | E94: 0.1 | K94: =K93+1 -> 70 | L94: =IF(TRIM('Ek.3-A'!F94)<>"","var","yok") -> yok | M94: =IF('Ek.3-A'!F94="", "", IF(VLOOKUP('Ek.3-A'!F94, Veriler!D:E, 2, 0)=0, "", VLOOKUP('Ek.3-A'!F94, Veriler!D:E, 2, 0))) | N94: =IF('Ek.3-A'!P94="", "", 'Ek.3-A'!P94) | O94: ='Ek.3-A'!S94 -> 0 | P94: ='Ek.3-A'!L94 | Q94: ='Ek.3-A'!M94 | R94: =IF(L94="var",0,IF(Q94<=0.005,Q94,0)) -> 0 | S94: =IF(Q94<=0.005,"E","H") -> H | T94: =IF(S94="E",SUM($R$5:R94),0) -> 0 | U94: =IF(T94<=0.1, O94, IF(R94>$G$2, R94*O94, $G$2*O94)) -> 0 | W94: =W93+$W$2 -> 3418 | X94: S90 | Y94: ='Ek.3-A'!X3418 -> 0 | Z94: ='Ek.3-A'!Y3418 -> 0
A95: 1.95 | B95: YERLİ KATKI ORANI RAPORU | D95: 720851209019 | E95: 0.1 | W95: =W94+$W$2 -> 3456 | X95: S91 | Y95: ='Ek.3-A'!X3456 -> 0 | Z95: ='Ek.3-A'!Y3456 -> 0
A96: 1.96 | B96: YERLİ KATKI ORANI RAPORU | D96: 721633909000 | E96: 0.1 | K96: =K94+1 -> 71 | L96: =IF(TRIM('Ek.3-A'!F96)<>"","var","yok") -> yok | M96: =IF('Ek.3-A'!F96="", "", IF(VLOOKUP('Ek.3-A'!F96, Veriler!D:E, 2, 0)=0, "", VLOOKUP('Ek.3-A'!F96, Veriler!D:E, 2, 0))) | N96: =IF('Ek.3-A'!P96="", "", 'Ek.3-A'!P96) | O96: ='Ek.3-A'!S96 -> 0 | P96: ='Ek.3-A'!L96 | Q96: ='Ek.3-A'!M96 | R96: =IF(L96="var",0,IF(Q96<=0.005,Q96,0)) -> 0 | S96: =IF(Q96<=0.005,"E","H") -> H | T96: =IF(S96="E",SUM($R$5:R96),0) -> 0 | U96: =IF(T96<=0.1, O96, IF(R96>$G$2, R96*O96, $G$2*O96)) -> 0 | W96: =W95+$W$2 -> 3494 | X96: S92 | Y96: ='Ek.3-A'!X3494 -> 0 | Z96: ='Ek.3-A'!Y3494 -> 0
A97: 1.97 | B97: YERLİ KATKI ORANI RAPORU | D97: 720720809019 | E97: 0.1 | K97: =K96+1 -> 72 | L97: =IF(TRIM('Ek.3-A'!F97)<>"","var","yok") -> yok | M97: =IF('Ek.3-A'!F97="", "", IF(VLOOKUP('Ek.3-A'!F97, Veriler!D:E, 2, 0)=0, "", VLOOKUP('Ek.3-A'!F97, Veriler!D:E, 2, 0))) | N97: =IF('Ek.3-A'!P97="", "", 'Ek.3-A'!P97) | O97: ='Ek.3-A'!S97 -> 0 | P97: ='Ek.3-A'!L97 | Q97: ='Ek.3-A'!M97 | R97: =IF(L97="var",0,IF(Q97<=0.005,Q97,0)) -> 0 | S97: =IF(Q97<=0.005,"E","H") -> H | T97: =IF(S97="E",SUM($R$5:R97),0) -> 0 | U97: =IF(T97<=0.1, O97, IF(R97>$G$2, R97*O97, $G$2*O97)) -> 0 | W97: =W96+$W$2 -> 3532 | X97: S93 | Y97: ='Ek.3-A'!X3532 -> 0 | Z97: ='Ek.3-A'!Y3532 -> 0
A98: 1.98 | B98: YERLİ KATKI ORANI RAPORU | D98: 720836009000 | E98: 0.1 | K98: =K97+1 -> 73 | L98: =IF(TRIM('Ek.3-A'!F98)<>"","var","yok") -> yok | M98: =IF('Ek.3-A'!F98="", "", IF(VLOOKUP('Ek.3-A'!F98, Veriler!D:E, 2, 0)=0, "", VLOOKUP('Ek.3-A'!F98, Veriler!D:E, 2, 0))) | N98: =IF('Ek.3-A'!P98="", "", 'Ek.3-A'!P98) | O98: ='Ek.3-A'!S98 -> 0 | P98: ='Ek.3-A'!L98 | Q98: ='Ek.3-A'!M98 | R98: =IF(L98="var",0,IF(Q98<=0.005,Q98,0)) -> 0 | S98: =IF(Q98<=0.005,"E","H") -> H | T98: =IF(S98="E",SUM($R$5:R98),0) -> 0 | U98: =IF(T98<=0.1, O98, IF(R98>$G$2, R98*O98, $G$2*O98)) -> 0 | W98: =W97+$W$2 -> 3570 | X98: S94 | Y98: ='Ek.3-A'!X3570 -> 0 | Z98: ='Ek.3-A'!Y3570 -> 0
A99: 1.99 | B99: YERLİ KATKI ORANI RAPORU | D99: 720851919000 | E99: 0.1 | K99: =K98+1 -> 74 | L99: =IF(TRIM('Ek.3-A'!F99)<>"","var","yok") -> yok | M99: =IF('Ek.3-A'!F99="", "", IF(VLOOKUP('Ek.3-A'!F99, Veriler!D:E, 2, 0)=0, "", VLOOKUP('Ek.3-A'!F99, Veriler!D:E, 2, 0))) | N99: =IF('Ek.3-A'!P99="", "", 'Ek.3-A'!P99) | O99: ='Ek.3-A'!S99 -> 0 | P99: ='Ek.3-A'!L99 | Q99: ='Ek.3-A'!M99 | R99: =IF(L99="var",0,IF(Q99<=0.005,Q99,0)) -> 0 | S99: =IF(Q99<=0.005,"E","H") -> H | T99: =IF(S99="E",SUM($R$5:R99),0) -> 0 | U99: =IF(T99<=0.1, O99, IF(R99>$G$2, R99*O99, $G$2*O99)) -> 0 | W99: =W98+$W$2 -> 3608 | X99: S95 | Y99: ='Ek.3-A'!X3608 -> 0 | Z99: ='Ek.3-A'!Y3608 -> 0
A100: 2 | B100: YERLİ KATKI ORANI RAPORU | D100: 720852919000 | E100: 0.1 | K100: =K99+1 -> 75 | L100: =IF(TRIM('Ek.3-A'!F100)<>"","var","yok") -> yok | M100: =IF('Ek.3-A'!F100="", "", IF(VLOOKUP('Ek.3-A'!F100, Veriler!D:E, 2, 0)=0, "", VLOOKUP('Ek.3-A'!F100, Veriler!D:E, 2, 0))) | N100: =IF('Ek.3-A'!P100="", "", 'Ek.3-A'!P100) | O100: ='Ek.3-A'!S100 -> 0 | P100: ='Ek.3-A'!L100 | Q100: ='Ek.3-A'!M100 | R100: =IF(L100="var",0,IF(Q100<=0.005,Q100,0)) -> 0 | S100: =IF(Q100<=0.005,"E","H") -> H | T100: =IF(S100="E",SUM($R$5:R100),0) -> 0 | U100: =IF(T100<=0.1, O100, IF(R100>$G$2, R100*O100, $G$2*O100)) -> 0 | W100: =W99+$W$2 -> 3646 | X100: S96 | Y100: ='Ek.3-A'!X3646 -> 0 | Z100: ='Ek.3-A'!Y3646 -> 0
...
