Workbook

Sheet Ek.3-D
J1: Ek.3-D
A2: YERLİ KATKI ORANI HESAP CETVELİ
A3: Yerli Girdi Maliyet Tutarı | E3: TL | F3: İthal Girdi Maliyet Tutarı | J3: TL
A4: Yerli Girdi | B4: Nihai Ürün Doğrudan ve Dolaylı Malzeme Giderleri Toplamı (T1) | E4: =Veriler!Y207 -> 0 | F4: İthal Girdi | G4: Nihai Ürün Doğrudan ve Dolaylı Malzeme Giderleri Toplamı (T2) | J4: =Veriler!Z207 -> 0
B5: Nihai Ürün Doğrudan ve Dolaylı İşcilik Giderleri Toplamı (T3) | E5: =Veriler!AA9 -> 0 | G5: Nihai Ürün Doğrudan ve Dolaylı İşcilik Giderleri Toplamı (T4) | J5: =Veriler!AB9 -> 0
B6: Nihai Ürün İle İlgili Genel Giderler Toplamı (T5) | E6: =Veriler!AC9 -> 0 | G6: Nihai Ürün İle İlgili Genel Giderler Toplamı (T6) | J6: =Veriler!AD9 -> 0
B7: Yerli Girdi Maliyet Tutarı (= T1+ T3+T5) | E7: =SUM(E4:E6) -> 0 | G7: İthal Girdi Maliyet Tutarı ( =T2+ T4+T6) | J7: =SUM(J4:J6) -> 0
A8: YERLİ KATKI ORANI HESAPLAMASI
A9: Teknolojik Ürün Belgesi Puanı 1
A10: Nihai Ürün Maliyet Tutarı (TL) (Yerli Girdi Maliyet Tutarı +İthal Girdi Maliyet Tutarı=T1+T2+T3+T4+T5+T6) | E10: =IFERROR(E7+J7, " ") -> 0 | F10: Nihai Ürün İçindeki İthal Girdi Maliyet Tutarı (TL) (İthal Girdi Maliyet Tutarı =T2+ T4+T6) | J10: =J7 -> 0
A12: Yerli Katkı Oranı (%) 2 (%100ü geçemez) | C12: =IFERROR(IF(Veriler!Z212>100,100,Veriler!Z212),0) -> 0 | F12: Yerli Malı Belgesi Sınıfı 3 | H12: =IFERROR(VLOOKUP(C12,Veriler!A1:B9900,2)," ")
A13: Üretici Unvanı | F13: Adı ve Soyadı | H13: Unvanı
A14: Ürün Adı
A15: Ürün Kodu (PRODTR/GTİP)
A16: Yerli Katkı Oranı Hesap Cetvelini Düzenleyen (Üretici Yetkilisi)
A17: Mali ve Teknik İnceleme | F17: Adı ve Soyadı | H17: Unvanı
A18: Yerli Katkı Oranı Hesabını Mali Yönden İnceleyen ve Doğruluğunu Teyit Eden Mali Uzman
A19: İncelemeye ibraz olunan defter ve belgelerin ilgili mevzuat hükümlerine uygun olduğu ve gerçeği yansıttığı tespit edilmiştir. Ürünün üretimi kapsamında Türkiye' den ve Türkiye dışından sağlanan hammade, malzeme, ürün, hizmet vb.ye ilişkin tüm faturalar, bedelleri, gümrük beyannameleri, sanayi sicil belgeleri ile üretici bünyesinde gerçekleştirilen faaliyetlere ilişkin kayıtlar incelenmiş ve yerli ve ithal girdiler yukarıda belirtildiği şekilde tespit edilmiştir.
A22: Yerli Katkı Oranı Hesabını Teknik Yönden İnceleyen ve Uygunluğını Teyit Eden Teknik Uzman
A23: Ürünün üretiminde kullanılan girdiler, üretim teknolojisi ve süreci göz önünde bulundurarak kontrol edilmiş ve ürünün üretimi için gerekli olan tüm girdilerin Yerki Katkı Oranı hesabına doğru oranda dahil edildiği tespit edilmiştir.

Sheet Ek.3-B
N1: Ek.3-B / 1
A2: YERLİ KATKI ORANI HESAP CETVELİ
A3: B) Nihai Ürün Doğrudan ve Dolaylı İşçilik Giderleri S / 1
A4: Sıra No | B4: Yerli Girdi | H4: Sıra No | I4: İthal Girdi
B5: işçilik | C5: a=Miktar | D5: Birim | E5: b=Fiyatı(TL) | F5: c= axb= İşçilik Maliyet Tutarı (TL) | I5: İşçilik | J5: a=Miktar | K5: Birim | L5: b=Fiyatı (Döviz cinsinden) | M5: c=Döviz Kuru | N5: d= axbxc =İşçilik Maliyet Tutarı (TL)
B6: Doğrudan | I6: Doğrudan
A7: 1 | F7: =IF(C7*E7 = 0, "", C7*E7) | H7: 1 | N7: =IF(J7*L7*M7 = 0, "", J7*L7*M7)
A8: 2 | F8: =IF(C8*E8 = 0, "", C8*E8) | H8: 2 | N8: =IF(J8*L8*M8 = 0, "", J8*L8*M8)
A9: 3 | F9: =IF(C9*E9 = 0, "", C9*E9) | H9: 3 | N9: =IF(J9*L9*M9 = 0, "", J9*L9*M9)
A10: 4 | F10: =IF(C10*E10 = 0, "", C10*E10) | H10: 4 | N10: =IF(J10*L10*M10 = 0, "", J10*L10*M10)
A11: 5 | F11: =IF(C11*E11 = 0, "", C11*E11) | H11: 5 | N11: =IF(J11*L11*M11 = 0, "", J11*L11*M11)
A12: 6 | F12: =IF(C12*E12 = 0, "", C12*E12) | H12: 6 | N12: =IF(J12*L12*M12 = 0, "", J12*L12*M12)
A13: 7 | F13: =IF(C13*E13 = 0, "", C13*E13) | H13: 7 | N13: =IF(J13*L13*M13 = 0, "", J13*L13*M13)
A14: 8 | F14: =IF(C14*E14 = 0, "", C14*E14) | H14: 8 | N14: =IF(J14*L14*M14 = 0, "", J14*L14*M14)
A15: 9 | F15: =IF(C15*E15 = 0, "", C15*E15) | H15: 9 | N15: =IF(J15*L15*M15 = 0, "", J15*L15*M15)
A16: 10 | F16: =IF(C16*E16 = 0, "", C16*E16) | H16: 10 | N16: =IF(J16*L16*M16 = 0, "", J16*L16*M16)
A17: 11 | F17: =IF(C17*E17 = 0, "", C17*E17) | H17: 11 | N17: =IF(J17*L17*M17 = 0, "", J17*L17*M17)
A18: 12 | F18: =IF(C18*E18 = 0, "", C18*E18) | H18: 12 | N18: =IF(J18*L18*M18 = 0, "", J18*L18*M18)
B19: Dolaylı | I19: Dolaylı
A20: 1 | F20: =IF(C20*E20 = 0, "", C20*E20) | H20: 1 | N20: =IF(J20*L20*M20 = 0, "", J20*L20*M20)
A21: 2 | F21: =IF(C21*E21 = 0, "", C21*E21) | H21: 2 | N21: =IF(J21*L21*M21 = 0, "", J21*L21*M21)
A22: 3 | F22: =IF(C22*E22 = 0, "", C22*E22) | H22: 3 | N22: =IF(J22*L22*M22 = 0, "", J22*L22*M22)
A23: 4 | F23: =IF(C23*E23 = 0, "", C23*E23) | H23: 4 | N23: =IF(J23*L23*M23 = 0, "", J23*L23*M23)
A24: 5 | F24: =IF(C24*E24 = 0, "", C24*E24) | H24: 5 | N24: =IF(J24*L24*M24 = 0, "", J24*L24*M24)
A25: 6 | F25: =IF(C25*E25 = 0, "", C25*E25) | H25: 6 | N25: =IF(J25*L25*M25 = 0, "", J25*L25*M25)
A26: 7 | F26: =IF(C26*E26 = 0, "", C26*E26) | H26: 7 | N26: =IF(J26*L26*M26 = 0, "", J26*L26*M26)
A27: 8 | F27: =IF(C27*E27 = 0, "", C27*E27) | H27: 8 | N27: =IF(J27*L27*M27 = 0, "", J27*L27*M27)
A28: 9 | F28: =IF(C28*E28 = 0, "", C28*E28) | H28: 9 | N28: =IF(J28*L28*M28 = 0, "", J28*L28*M28)
A29: 10 | F29: =IF(C29*E29 = 0, "", C29*E29) | H29: 10 | N29: =IF(J29*L29*M29 = 0, "", J29*L29*M29)
A30: 11 | F30: =IF(C30*E30 = 0, "", C30*E30) | H30: 11 | N30: =IF(J30*L30*M30 = 0, "", J30*L30*M30)
A31: 12 | F31: =IF(C31*E31 = 0, "", C31*E31) | H31: 12 | N31: =IF(J31*L31*M31 = 0, "", J31*L31*M31)
A32: Sayfa Toplamı (TL) T3 *(Genel Dip Toplam Ek.3-D sayfasında otomatik hesaplanacaktır.) | F32: =IF(SUM(F7:F18,F20:F31)=0," ",SUM(F7:F18,F20:F31)) | H32: Sayfa Toplamı (TL) T4 *(Genel Dip Toplam Ek.3-D sayfasında otomatik hesaplanacaktır.) | N32: =IF(SUM(N7:N18,N20:N31)=0," ",SUM(N7:N18,N20:N31))
A36: YERLİ KATKI ORANI HESAP CETVELİ
A37: B) Nihai Ürün Doğrudan ve Dolaylı İşçilik Giderleri S / 2
A38: Sıra No | B38: Yerli Girdi | H38: Sıra No | I38: İthal Girdi
B39: işçilik | C39: a=Miktar | D39: Birim | E39: b=Fiyatı(TL) | F39: c= axb= İşçilik Maliyet Tutarı (TL) | I39: İşçilik | J39: a=Miktar | K39: Birim | L39: b=Fiyatı (Döviz cinsinden) | M39: c=Döviz Kuru | N39: d= axbxc =İşçilik Maliyet Tutarı (TL)
B40: Doğrudan | I40: Doğrudan
A41: =A31+1 -> 13 | F41: =IF(C41*E41 = 0, "", C41*E41) | H41: =H31+1 -> 13 | N41: =IF(J41*L41*M41 = 0, "", J41*L41*M41)
A42: =A41+1 -> 14 | F42: =IF(C42*E42 = 0, "", C42*E42) | H42: =H41+1 -> 14 | N42: =IF(J42*L42*M42 = 0, "", J42*L42*M42)
A43: =A42+1 -> 15 | F43: =IF(C43*E43 = 0, "", C43*E43) | H43: =H42+1 -> 15 | N43: =IF(J43*L43*M43 = 0, "", J43*L43*M43)
...

Sheet Ek.3-C
N1: Ek.3-C / 1
A2: YERLİ KATKI ORANI HESAP CETVELİ
A3: C) Nihai Ürün İle İlgili Genel Giderler S / 1
A4: Sıra No | B4: Yerli Girdi | H4: Sıra No | I4: İthal Girdi*
B5: Genel Gider Türü | C5: a=Miktar | D5: Birim | E5: b=Fiyatı(TL) | F5: c= axb= Genel Gider Tutarı (TL) | I5: Genel Gider Türü | J5: a=Miktar | K5: Birim | L5: b=Fiyatı (Döviz cinsinden) | M5: c=Döviz Kuru | N5: d= axbxc= Genel Gider Tutarı (TL)
A6: 1 | F6: =IF(C6*E6 = 0, "", C6*E6) | H6: 1 | N6: =IF(J6*L6*M6 = 0, "", J6*L6*M6)
A7: 2 | F7: =IF(C7*E7 = 0, "", C7*E7) | H7: 2 | N7: =IF(J7*L7*M7 = 0, "", J7*L7*M7)
A8: 3 | F8: =IF(C8*E8 = 0, "", C8*E8) | H8: 3 | N8: =IF(J8*L8*M8 = 0, "", J8*L8*M8)
A9: 4 | F9: =IF(C9*E9 = 0, "", C9*E9) | H9: 4 | N9: =IF(J9*L9*M9 = 0, "", J9*L9*M9)
A10: 5 | F10: =IF(C10*E10 = 0, "", C10*E10) | H10: 5 | N10: =IF(J10*L10*M10 = 0, "", J10*L10*M10)
A11: 6 | F11: =IF(C11*E11 = 0, "", C11*E11) | H11: 6 | N11: =IF(J11*L11*M11 = 0, "", J11*L11*M11)
A12: 7 | F12: =IF(C12*E12 = 0, "", C12*E12) | H12: 7 | N12: =IF(J12*L12*M12 = 0, "", J12*L12*M12)
A13: 8 | F13: =IF(C13*E13 = 0, "", C13*E13) | H13: 8 | N13: =IF(J13*L13*M13 = 0, "", J13*L13*M13)
A14: 9 | F14: =IF(C14*E14 = 0, "", C14*E14) | H14: 9 | N14: =IF(J14*L14*M14 = 0, "", J14*L14*M14)
A15: 10 | F15: =IF(C15*E15 = 0, "", C15*E15) | H15: 10 | N15: =IF(J15*L15*M15 = 0, "", J15*L15*M15)
A16: 11 | F16: =IF(C16*E16 = 0, "", C16*E16) | H16: 11 | N16: =IF(J16*L16*M16 = 0, "", J16*L16*M16)
A17: 12 | F17: =IF(C17*E17 = 0, "", C17*E17) | H17: 12 | N17: =IF(J17*L17*M17 = 0, "", J17*L17*M17)
... A30: 25 | F30: =IF(C30*E30 = 0, "", C30*E30) | H30: 25 | N30: =IF(J30*L30*M30 = 0, "", J30*L30*M30)
A31: Sayfa Toplamı (TL) T5 *(Genel Dip Toplam Ek.3-D sayfasında otomatik hesaplanacaktır.) | F31: =IF(SUM(F6:F30)=0, " ", SUM(F6:F30)) | H31: Sayfa Toplamı (TL) T6 *(Genel Dip Toplam Ek.3-D sayfasında otomatik hesaplanacaktır.) | N31: =IF(SUM(N6:N30)=0, " ", SUM(N6:N30))
N34: Ek.3-C / 2
A35: YERLİ KATKI ORANI HESAP CETVELİ
A36: C) Nihai Ürün İle İlgili Genel Giderler S / 2
A37: Sıra No | B37: Yerli Girdi | H37: Sıra No | I37: İthal Girdi*
B38: Genel Gider Türü | C38: a=Miktar | D38: Birim | E38: b=Fiyatı(TL) | F38: c= axb= Genel Gider Tutarı (TL) | I38: Genel Gider Türü | J38: a=Miktar | K38: Birim | L38: b=Fiyatı (Döviz cinsinden) | M38: c=Döviz Kuru | N38: d= axbxc= Genel Gider Tutarı (TL)
A39: 26 | F39: =IF(C39*E39 = 0, "", C39*E39) | H39: 26 | N39: =IF(J39*L39*M39 = 0, "", J39*L39*M39)
A40: 27 | F40: =IF(C40*E40 = 0, "", C40*E40) | H40: 27 | N40: =IF(J40*L40*M40 = 0, "", J40*L40*M40)
A41: 28 | F41: =IF(C41*E41 = 0, "", C41*E41) | H41: 28 | N41: =IF(J41*L41*M41 = 0, "", J41*L41*M41)
A42: 29 | F42: =IF(C42*E42 = 0, "", C42*E42) | H42: 29 | N42: =IF(J42*L42*M42 = 0, "", J42*L42*M42)
A43: 30 | F43: =IF(C43*E43 = 0, "", C43*E43) | H43: 30 | N43: =IF(J43*L43*M43 = 0, "", J43*L43*M43)
A44: 31 | F44: =IF(C44*E44 = 0, "", C44*E44) | H44: 31 | N44: =IF(J44*L44*M44 = 0, "", J44*L44*M44)
A45: 32 | F45: =IF(C45*E45 = 0, "", C45*E45) | H45: 32 | N45: =IF(J45*L45*M45 = 0, "", J45*L45*M45)
A46: 33 | F46: =IF(C46*E46 = 0, "", C46*E46) | H46: 33 | N46: =IF(J46*L46*M46 = 0, "", J46*L46*M46)
A47: 34 | F47: =IF(C47*E47 = 0, "", C47*E47) | H47: 34 | N47: =IF(J47*L47*M47 = 0, "", J47*L47*M47)
A48: 35 | F48: =IF(C48*E48 = 0, "", C48*E48) | H48: 35 | N48: =IF(J48*L48*M48 = 0, "", J48*L48*M48)
A49: 36 | F49: =IF(C49*E49 = 0, "", C49*E49) | H49: 36 | N49: =IF(J49*L49*M49 = 0, "", J49*L49*M49)
A50: 37 | F50: =IF(C50*E50 = 0, "", C50*E50) | H50: 37 | N50: =IF(J50*L50*M50 = 0, "", J50*L50*M50)
... A63: 50 | F63: =IF(C63*E63 = 0, "", C63*E63) | H63: 50 | N63: =IF(J63*L63*M63 = 0, "", J63*L63*M63)
A64: Sayfa Toplamı (TL) T5 *(Genel Dip Toplam Ek.3-D sayfasında otomatik hesaplanacaktır.) | F64: =IF(SUM(F39:F63)=0, " ", SUM(F39:F63)) | H64: Sayfa Toplamı (TL) T6 *(Genel Dip Toplam Ek.3-D sayfasında otomatik hesaplanacaktır.) | N64: =IF(SUM(N39:N63)=0, " ", SUM(N39:N63))
N67: Ek.3-C / 3
A68: YERLİ KATKI ORANI HESAP CETVELİ
...

Sheet Ek.3-A
A1: YERLİ KATKI ORANI HESAP CETVELİ
A2: A) Nihai Ürün Doğrudan ve Dolaylı Malzeme Giderleri | U2: S | V2: 1
A3: Sıra No | B3: Malzeme adı / Faturadaki Ürün Adı | D3: Üretici Unvanı | E3: PRODTR Kodu (Yerli girdiler için) | F3: GTİP Kodu (İthal girdiler için) | G3: Gtip Katsayısı | H3: Miktar | I3: Birim | J3: Fiyatı (TL/Döviz) | K3: Döviz Kuru (TL ise 1 alınız) | L3: Fatura Tutarı (TL) | M3: Girdi Maliyet Yüzdesi (%) | N3: Girdi yüzdesi %0,5 altında olan girdiler için %10 sınır kontrolü | O3: Girdi yüzdesi %0,5 altında olan girdiler için %10 sınır kontrolü | P3: SSB/ Müstahsil (E/H) | Q3: YKO (%) (Manuel girilmeli) | R3: Geçerli Yerli Oranı (%) | S3: Yerli Maliyet Tutarı (T1) | T3: Yerli Maliyet Tutarı (T1) | U3: Yerli Maliyet Tutarı (T1) | V3: İthal Maliyet Tutarı (T2)
B4: Doğrudan Girdi (Dolaylı girdiniz varsa en son 201. sayfaya doldurunuz)
A5: 1 | G5: =IF(AND(F5<>"",V5<>"",L5<>0),V5/L5,"") | L5: =IF(AND(H5<>0, J5<>0, K5<>0), H5*J5*K5, "") | M5: =IF(L5="", "", L5/Veriler!$X$1) | N5: =IF(F5<>"", "İthal Girdi", IF(Veriler!T5="", "", IF(Veriler!S5="H", "%0,5 üzerindedir", IF(Veriler!T5>0.1, "%10 sınırı aşılmıştır.", "Uygun")))) -> %0,5 üzerindedir | O5: =IF(M5=""," ",N5) | R5: =IFERROR(IF(AND(T5<>"",L5<>"",L5<>0,T5<>0),T5/L5,"")," ") | S5: =IFERROR(IF(M5<=0.005,IF(F5="",L5,0),IF(F5<>"",0,IF(P5="",0,IF(P5="H",0,IF(Q5<Veriler!$G$2,L5*Veriler!$G$2,L5*Q5)))))," ") -> 0 | T5: =IF(Veriler!T5<=0.1, S5, IF(AND(Veriler!T5>0.1, F5="", P5="E"), IF(Q5>Veriler!$G$2, Q5*S5, IF(Q5<Veriler!$G$2, Veriler!$G$2*S5, Q5*S5)), 0)) -> 0 | U5: =IF(T5=0," ",T5) | V5: =IFERROR(IF(O5="%10 sınırı aşılmıştır.",L5-T5,IFERROR(IF(F5="",IF(S5=1,0,IF(L5-S5=0,"",L5-S5)),IF(Veriler!M5="",L5,IF(L5*Veriler!M5=0,"",L5*Veriler!M5))),L5)),0)
A6: 2 | G6: =IF(AND(F6<>"",V6<>"",L6<>0),V6/L6,"") | L6: =IF(AND(H6<>0, J6<>0, K6<>0), H6*J6*K6, "") | M6: =IF(L6="", "", L6/Veriler!$X$1) | N6: =IF(F6<>"", "İthal Girdi", IF(Veriler!T6="", "", IF(Veriler!S6="H", "%0,5 üzerindedir", IF(Veriler!T6>0.1, "%10 sınırı aşılmıştır.", "Uygun")))) -> %0,5 üzerindedir | O6: =IF(M6=""," ",N6) | R6: =IFERROR(IF(AND(T6<>"",L6<>"",L6<>0,T6<>0),T6/L6,"")," ") | S6: =IFERROR(IF(M6<=0.005,IF(F6="",L6,0),IF(F6<>"",0,IF(P6="",0,IF(P6="H",0,IF(Q6<Veriler!$G$2,L6*Veriler!$G$2,L6*Q6)))))," ") -> 0 | T6: =IF(Veriler!T6<=0.1, S6, IF(AND(Veriler!T6>0.1, F6="", P6="E"), IF(Q6>Veriler!$G$2, Q6*S6, IF(Q6<Veriler!$G$2, Veriler!$G$2*S6, Q6*S6)), 0)) -> 0 | U6: =IF(T6=0," ",T6) | V6: =IFERROR(IF(O6="%10 sınırı aşılmıştır.",L6-T6,IFERROR(IF(F6="",IF(S6=1,0,IF(L6-S6=0,"",L6-S6)),IF(Veriler!M6="",L6,IF(L6*Veriler!M6=0,"",L6*Veriler!M6))),L6)),0)
A7: 3 | G7: =IF(AND(F7<>"",V7<>"",L7<>0),V7/L7,"") | L7: =IF(AND(H7<>0, J7<>0, K7<>0), H7*J7*K7, "") | M7: =IF(L7="", "", L7/Veriler!$X$1) | N7: =IF(F7<>"", "İthal Girdi", IF(Veriler!T7="", "", IF(Veriler!S7="H", "%0,5 üzerindedir", IF(Veriler!T7>0.1, "%10 sınırı aşılmıştır.", "Uygun")))) -> %0,5 üzerindedir | O7: =IF(M7=""," ",N7) | R7: =IFERROR(IF(AND(T7<>"",L7<>"",L7<>0,T7<>0),T7/L7,"")," ") | S7: =IFERROR(IF(M7<=0.005,IF(F7="",L7,0),IF(F7<>"",0,IF(P7="",0,IF(P7="H",0,IF(Q7<Veriler!$G$2,L7*Veriler!$G$2,L7*Q7)))))," ") -> 0 | T7: =IF(Veriler!T7<=0.1, S7, IF(AND(Veriler!T7>0.1, F7="", P7="E"), IF(Q7>Veriler!$G$2, Q7*S7, IF(Q7<Veriler!$G$2, Veriler!$G$2*S7, Q7*S7)), 0)) -> 0 | U7: =IF(T7=0," ",T7) | V7: =IFERROR(IF(O7="%10 sınırı aşılmıştır.",L7-T7,IFERROR(IF(F7="",IF(S7=1,0,IF(L7-S7=0,"",L7-S7)),IF(Veriler!M7="",L7,IF(L7*Veriler!M7=0,"",L7*Veriler!M7))),L7)),0)
A8: 4 | G8: =IF(AND(F8<>"",V8<>"",L8<>0),V8/L8,"") | L8: =IF(AND(H8<>0, J8<>0, K8<>0), H8*J8*K8, "") | M8: =IF(L8="", "", L8/Veriler!$X$1) | N8: =IF(F8<>"", "İthal Girdi", IF(Veriler!T8="", "", IF(Veriler!S8="H", "%0,5 üzerindedir", IF(Veriler!T8>0.1, "%10 sınırı aşılmıştır.", "Uygun")))) -> %0,5 üzerindedir | O8: =IF(M8=""," ",N8) | R8: =IFERROR(IF(AND(T8<>"",L8<>"",L8<>0,T8<>0),T8/L8,"")," ") | S8: =IFERROR(IF(M8<=0.005,IF(F8="",L8,0),IF(F8<>"",0,IF(P8="",0,IF(P8="H",0,IF(Q8<Veriler!$G$2,L8*Veriler!$G$2,L8*Q8)))))," ") -> 0 | T8: =IF(Veriler!T8<=0.1, S8, IF(AND(Veriler!T8>0.1, F8="", P8="E"), IF(Q8>Veriler!$G$2, Q8*S8, IF(Q8<Veriler!$G$2, Veriler!$G$2*S8, Q8*S8)), 0)) -> 0 | U8: =IF(T8=0," ",T8) | V8: =IFERROR(IF(O8="%10 sınırı aşılmıştır.",L8-T8,IFERROR(IF(F8="",IF(S8=1,0,IF(L8-S8=0,"",L8-S8)),IF(Veriler!M8="",L8,IF(L8*Veriler!M8=0,"",L8*Veriler!M8))),L8)),0)
A9: 5 | G9: =IF(AND(F9<>"",V9<>"",L9<>0),V9/L9,"") | L9: =IF(AND(H9<>0, J9<>0, K9<>0), H9*J9*K9, "") | M9: =IF(L9="", "", L9/Veriler!$X$1) | N9: =IF(F9<>"", "İthal Girdi", IF(Veriler!T9="", "", IF(Veriler!S9="H", "%0,5 üzerindedir", IF(Veriler!T9>0.1, "%10 sınırı aşılmıştır.", "Uygun")))) -> %0,5 üzerindedir | O9: =IF(M9=""," ",N9) | R9: =IFERROR(IF(AND(T9<>"",L9<>"",L9<>0,T9<>0),T9/L9,"")," ") | S9: =IFERROR(IF(M9<=0.005,IF(F9="",L9,0),IF(F9<>"",0,IF(P9="",0,IF(P9="H",0,IF(Q9<Veriler!$G$2,L9*Veriler!$G$2,L9*Q9)))))," ") -> 0 | T9: =IF(Veriler!T9<=0.1, S9, IF(AND(Veriler!T9>0.1, F9="", P9="E"), IF(Q9>Veriler!$G$2, Q9*S9, IF(Q9<Veriler!$G$2, Veriler!$G$2*S9, Q9*S9)), 0)) -> 0 | U9: =IF(T9=0," ",T9) | V9: =IFERROR(IF(O9="%10 sınırı aşılmıştır.",L9-T9,IFERROR(IF(F9="",IF(S9=1,0,IF(L9-S9=0,"",L9-S9)),IF(Veriler!M9="",L9,IF(L9*Veriler!M9=0,"",L9*Veriler!M9))),L9)),0)
A10: 6 | G10: =IF(AND(F10<>"",V10<>"",L10<>0),V10/L10,"") | L10: =IF(AND(H10<>0, J10<>0, K10<>0), H10*J10*K10, "") | M10: =IF(L10="", "", L10/Veriler!$X$1) | N10: =IF(F10<>"", "İthal Girdi", IF(Veriler!T10="", "", IF(Veriler!S10="H", "%0,5 üzerindedir", IF(Veriler!T10>0.1, "%10 sınırı aşılmıştır.", "Uygun")))) -> %0,5 üzerindedir | O10: =IF(M10=""," ",N10) | R10: =IFERROR(IF(AND(T10<>"",L10<>"",L10<>0,T10<>0),T10/L10,"")," ") | S10: =IFERROR(IF(M10<=0.005,IF(F10="",L10,0),IF(F10<>"",0,IF(P10="",0,IF(P10="H",0,IF(Q10<Veriler!$G$2,L10*Veriler!$G$2,L10*Q10)))))," ") -> 0 | T10: =IF(Veriler!T10<=0.1, S10, IF(AND(Veriler!T10>0.1, F10="", P10="E"), IF(Q10>Veriler!$G$2, Q10*S10, IF(Q10<Veriler!$G$2, Veriler!$G$2*S10, Q10*S10)), 0)) -> 0 | U10: =IF(T10=0," ",T10) | V10: =IFERROR(IF(O10="%10 sınırı aşılmıştır.",L10-T10,IFERROR(IF(F10="",IF(S10=1,0,IF(L10-S10=0,"",L10-S10)),IF(Veriler!M10="",L10,IF(L10*Veriler!M10=0,"",L10*Veriler!M10))),L10)),0)
A11: 7 | G11: =IF(AND(F11<>"",V11<>"",L11<>0),V11/L11,"") | L11: =IF(AND(H11<>0, J11<>0, K11<>0), H11*J11*K11, "") | M11: =IF(L11="", "", L11/Veriler!$X$1) | N11: =IF(F11<>"", "İthal Girdi", IF(Veriler!T11="", "", IF(Veriler!S11="H", "%0,5 üzerindedir", IF(Veriler!T11>0.1, "%10 sınırı aşılmıştır.", "Uygun")))) -> %0,5 üzerindedir | O11: =IF(M11=""," ",N11) | R11: =IFERROR(IF(AND(T11<>"",L11<>"",L11<>0,T11<>0),T11/L11,"")," ") | S11: =IFERROR(IF(M11<=0.005,IF(F11="",L11,0),IF(F11<>"",0,IF(P11="",0,IF(P11="H",0,IF(Q11<Veriler!$G$2,L11*Veriler!$G$2,L11*Q11)))))," ") -> 0 | T11: =IF(Veriler!T11<=0.1, S11, IF(AND(Veriler!T11>0.1, F11="", P11="E"), IF(Q11>Veriler!$G$2, Q11*S11, IF(Q11<Veriler!$G$2, Veriler!$G$2*S11, Q11*S11)), 0)) -> 0 | U11: =IF(T11=0," ",T11) | V11: =IFERROR(IF(O11="%10 sınırı aşılmıştır.",L11-T11,IFERROR(IF(F11="",IF(S11=1,0,IF(L11-S11=0,"",L11-S11)),IF(Veriler!M11="",L11,IF(L11*Veriler!M11=0,"",L11*Veriler!M11))),L11)),0)
A12: 8 | G12: =IF(AND(F12<>"",V12<>"",L12<>0),V12/L12,"") | L12: =IF(AND(H12<>0, J12<>0, K12<>0), H12*J12*K12, "") | M12: =IF(L12="", "", L12/Veriler!$X$1) | N12: =IF(F12<>"", "İthal Girdi", IF(Veriler!T12="", "", IF(Veriler!S12="H", "%0,5 üzerindedir", IF(Veriler!T12>0.1, "%10 sınırı aşılmıştır.", "Uygun")))) -> %0,5 üzerindedir | O12: =IF(M12=""," ",N12) | R12: =IFERROR(IF(AND(T12<>"",L12<>"",L12<>0,T12<>0),T12/L12,"")," ") | S12: =IFERROR(IF(M12<=0.005,IF(F12="",L12,0),IF(F12<>"",0,IF(P12="",0,IF(P12="H",0,IF(Q12<Veriler!$G$2,L12*Veriler!$G$2,L12*Q12)))))," ") -> 0 | T12: =IF(Veriler!T12<=0.1, S12, IF(AND(Veriler!T12>0.1, F12="", P12="E"), IF(Q12>Veriler!$G$2, Q12*S12, IF(Q12<Veriler!$G$2, Veriler!$G$2*S12, Q12*S12)), 0)) -> 0 | U12: =IF(T12=0," ",T12) | V12: =IFERROR(IF(O12="%10 sınırı aşılmıştır.",L12-T12,IFERROR(IF(F12="",IF(S12=1,0,IF(L12-S12=0,"",L12-S12)),IF(Veriler!M12="",L12,IF(L12*Veriler!M12=0,"",L12*Veriler!M12))),L12)),0)
A13: 9 | G13: =IF(AND(F13<>"",V13<>"",L13<>0),V13/L13,"") | L13: =IF(AND(H13<>0, J13<>0, K13<>0), H13*J13*K13, "") | M13: =IF(L13="", "", L13/Veriler!$X$1) | N13: =IF(F13<>"", "İthal Girdi", IF(Veriler!T13="", "", IF(Veriler!S13="H", "%0,5 üzerindedir", IF(Veriler!T13>0.1, "%10 sınırı aşılmıştır.", "Uygun")))) -> %0,5 üzerindedir | O13: =IF(M13=""," ",N13) | R13: =IFERROR(IF(AND(T13<>"",L13<>"",L13<>0,T13<>0),T13/L13,"")," ") | S13: =IFERROR(IF(M13<=0.005,IF(F13="",L13,0),IF(F13<>"",0,IF(P13="",0,IF(P13="H",0,IF(Q13<Veriler!$G$2,L13*Veriler!$G$2,L13*Q13)))))," ") -> 0 | T13: =IF(Veriler!T13<=0.1, S13, IF(AND(Veriler!T13>0.1, F13="", P13="E"), IF(Q13>Veriler!$G$2, Q13*S13, IF(Q13<Veriler!$G$2, Veriler!$G$2*S13, Q13*S13)), 0)) -> 0 | U13: =IF(T13=0," ",T13) | V13: =IFERROR(IF(O13="%10 sınırı aşılmıştır.",L13-T13,IFERROR(IF(F13="",IF(S13=1,0,IF(L13-S13=0,"",L13-S13)),IF(Veriler!M13="",L13,IF(L13*Veriler!M13=0,"",L13*Veriler!M13))),L13)),0)
A14: 10 | G14: =IF(AND(F14<>"",V14<>"",L14<>0),V14/L14,"") | L14: =IF(AND(H14<>0, J14<>0, K14<>0), H14*J14*K14, "") | M14: =IF(L14="", "", L14/Veriler!$X$1) | N14: =IF(F14<>"", "İthal Girdi", IF(Veriler!T14="", "", IF(Veriler!S14="H", "%0,5 üzerindedir", IF(Veriler!T14>0.1, "%10 sınırı aşılmıştır.", "Uygun")))) -> %0,5 üzerindedir | O14: =IF(M14=""," ",N14) | R14: =IFERROR(IF(AND(T14<>"",L14<>"",L14<>0,T14<>0),T14/L14,"")," ") | S14: =IFERROR(IF(M14<=0.005,IF(F14="",L14,0),IF(F14<>"",0,IF(P14="",0,IF(P14="H",0,IF(Q14<Veriler!$G$2,L14*Veriler!$G$2,L14*Q14)))))," ") -> 0 | T14: =IF(Veriler!T14<=0.1, S14, IF(AND(Veriler!T14>0.1, F14="", P14="E"), IF(Q14>Veriler!$G$2, Q14*S14, IF(Q14<Veriler!$G$2, Veriler!$G$2*S14, Q14*S14)), 0)) -> 0 | U14: =IF(T14=0," ",T14) | V14: =IFERROR(IF(O14="%10 sınırı aşılmıştır.",L14-T14,IFERROR(IF(F14="",IF(S14=1,0,IF(L14-S14=0,"",L14-S14)),IF(Veriler!M14="",L14,IF(L14*Veriler!M14=0,"",L14*Veriler!M14))),L14)),0)
A15: 11 | G15: =IF(AND(F15<>"",V15<>"",L15<>0),V15/L15,"") | L15: =IF(AND(H15<>0, J15<>0, K15<>0), H15*J15*K15, "") | M15: =IF(L15="", "", L15/Veriler!$X$1) | N15: =IF(F15<>"", "İthal Girdi", IF(Veriler!T15="", "", IF(Veriler!S15="H", "%0,5 üzerindedir", IF(Veriler!T15>0.1, "%10 sınırı aşılmıştır.", "Uygun")))) -> %0,5 üzerindedir | O15: =IF(M15=""," ",N15) | R15: =IFERROR(IF(AND(T15<>"",L15<>"",L15<>0,T15<>0),T15/L15,"")," ") | S15: =IFERROR(IF(M15<=0.005,IF(F15="",L15,0),IF(F15<>"",0,IF(P15="",0,IF(P15="H",0,IF(Q15<Veriler!$G$2,L15*Veriler!$G$2,L15*Q15)))))," ") -> 0 | T15: =IF(Veriler!T15<=0.1, S15, IF(AND(Veriler!T15>0.1, F15="", P15="E"), IF(Q15>Veriler!$G$2, Q15*S15, IF(Q15<Veriler!$G$2, Veriler!$G$2*S15, Q15*S15)), 0)) -> 0 | U15: =IF(T15=0," ",T15) | V15: =IFERROR(IF(O15="%10 sınırı aşılmıştır.",L15-T15,IFERROR(IF(F15="",IF(S15=1,0,IF(L15-S15=0,"",L15-S15)),IF(Veriler!M15="",L15,IF(L15*Veriler!M15=0,"",L15*Veriler!M15))),L15)),0)
A16: 12 | G16: =IF(AND(F16<>"",V16<>"",L16<>0),V16/L16,"") | L16: =IF(AND(H16<>0, J16<>0, K16<>0), H16*J16*K16, "") | M16: =IF(L16="", "", L16/Veriler!$X$1) | N16: =IF(F16<>"", "İthal Girdi", IF(Veriler!T16="", "", IF(Veriler!S16="H", "%0,5 üzerindedir", IF(Veriler!T16>0.1, "%10 sınırı aşılmıştır.", "Uygun")))) -> %0,5 üzerindedir | O16: =IF(M16=""," ",N16) | R16: =IFERROR(IF(AND(T16<>"",L16<>"",L16<>0,T16<>0),T16/L16,"")," ") | S16: =IFERROR(IF(M16<=0.005,IF(F16="",L16,0),IF(F16<>"",0,IF(P16="",0,IF(P16="H",0,IF(Q16<Veriler!$G$2,L16*Veriler!$G$2,L16*Q16)))))," ") -> 0 | T16: =IF(Veriler!T16<=0.1, S16, IF(AND(Veriler!T16>0.1, F16="", P16="E"), IF(Q16>Veriler!$G$2, Q16*S16, IF(Q16<Veriler!$G$2, Veriler!$G$2*S16, Q16*S16)), 0)) -> 0 | U16: =IF(T16=0," ",T16) | V16: =IFERROR(IF(O16="%10 sınırı aşılmıştır.",L16-T16,IFERROR(IF(F16="",IF(S16=1,0,IF(L16-S16=0,"",L16-S16)),IF(Veriler!M16="",L16,IF(L16*Veriler!M16=0,"",L16*Veriler!M16))),L16)),0)
... A18: 14 | G18: =IF(AND(F18<>"",V18<>"",L18<>0),V18/L18,"") | L18: =IF(AND(H18<>0, J18<>0, K18<>0), H18*J18*K18, "") | M18: =IF(L18="", "", L18/Veriler!$X$1) | N18: =IF(F18<>"", "İthal Girdi", IF(Veriler!T18="", "", IF(Veriler!S18="H", "%0,5 üzerindedir", IF(Veriler!T18>0.1, "%10 sınırı aşılmıştır.", "Uygun")))) -> %0,5 üzerindedir | O18: =IF(M18=""," ",N18) | R18: =IFERROR(IF(AND(T18<>"",L18<>"",L18<>0,T18<>0),T18/L18,"")," ") | S18: =IFERROR(IF(M18<=0.005,IF(F18="",L18,0),IF(F18<>"",0,IF(P18="",0,IF(P18="H",0,IF(Q18<Veriler!$G$2,L18*Veriler!$G$2,L18*Q18)))))," ") -> 0 | T18: =IF(Veriler!T18<=0.1, S18, IF(AND(Veriler!T18>0.1, F18="", P18="E"), IF(Q18>Veriler!$G$2, Q18*S18, IF(Q18<Veriler!$G$2, Veriler!$G$2*S18, Q18*S18)), 0)) -> 0 | U18: =IF(T18=0," ",T18) | V18: =IFERROR(IF(O18="%10 sınırı aşılmıştır.",L18-T18,IFERROR(IF(F18="",IF(S18=1,0,IF(L18-S18=0,"",L18-S18)),IF(Veriler!M18="",L18,IF(L18*Veriler!M18=0,"",L18*Veriler!M18))),L18)),0)
B19: Dolaylı
A20: =A18+1 -> 15 | G20: =IF(AND(F20<>"",V20<>"",L20<>0),V20/L20,"") | L20: =IF(AND(H20<>0, J20<>0, K20<>0), H20*J20*K20, "") | M20: =IF(L20="", "", L20/Veriler!$X$1) | N20: =IF(F20<>"", "İthal Girdi", IF(Veriler!T20="", "", IF(Veriler!S20="H", "%0,5 üzerindedir", IF(Veriler!T20>0.1, "%10 sınırı aşılmıştır.", "Uygun")))) -> %0,5 üzerindedir | O20: =IF(M20=""," ",N20) | R20: =IFERROR(IF(AND(T20<>"",L20<>"",L20<>0,T20<>0),T20/L20,"")," ") | S20: =IFERROR(IF(M20<=0.005,IF(F20="",L20,0),IF(F20<>"",0,IF(P20="",0,IF(P20="H",0,IF(Q20<Veriler!$G$2,L20*Veriler!$G$2,L20*Q20)))))," ") -> 0 | T20: =IF(Veriler!T20<=0.1, S20, IF(AND(Veriler!T20>0.1, F20="", P20="E"), IF(Q20>Veriler!$G$2, Q20*S20, IF(Q20<Veriler!$G$2, Veriler!$G$2*S20, Q20*S20)), 0)) -> 0 | U20: =IF(T20=0," ",T20) | V20: =IFERROR(IF(O20="%10 sınırı aşılmıştır.",L20-T20,IFERROR(IF(F20="",IF(S20=1,0,IF(L20-S20=0,"",L20-S20)),IF(Veriler!M20="",L20,IF(L20*Veriler!M20=0,"",L20*Veriler!M20))),L20)),0)
A21: =A20+1 -> 16 | G21: =IF(AND(F21<>"",V21<>"",L21<>0),V21/L21,"") | L21: =IF(AND(H21<>0, J21<>0, K21<>0), H21*J21*K21, "") | M21: =IF(L21="", "", L21/Veriler!$X$1) | N21: =IF(F21<>"", "İthal Girdi", IF(Veriler!T21="", "", IF(Veriler!S21="H", "%0,5 üzerindedir", IF(Veriler!T21>0.1, "%10 sınırı aşılmıştır.", "Uygun")))) -> %0,5 üzerindedir | O21: =IF(M21=""," ",N21) | R21: =IFERROR(IF(AND(T21<>"",L21<>"",L21<>0,T21<>0),T21/L21,"")," ") | S21: =IFERROR(IF(M21<=0.005,IF(F21="",L21,0),IF(F21<>"",0,IF(P21="",0,IF(P21="H",0,IF(Q21<Veriler!$G$2,L21*Veriler!$G$2,L21*Q21)))))," ") -> 0 | T21: =IF(Veriler!T21<=0.1, S21, IF(AND(Veriler!T21>0.1, F21="", P21="E"), IF(Q21>Veriler!$G$2, Q21*S21, IF(Q21<Veriler!$G$2, Veriler!$G$2*S21, Q21*S21)), 0)) -> 0 | U21: =IF(T21=0," ",T21) | V21: =IFERROR(IF(O21="%10 sınırı aşılmıştır.",L21-T21,IFERROR(IF(F21="",IF(S21=1,0,IF(L21-S21=0,"",L21-S21)),IF(Veriler!M21="",L21,IF(L21*Veriler!M21=0,"",L21*Veriler!M21))),L21)),0)
A22: =A21+1 -> 17 | G22: =IF(AND(F22<>"",V22<>"",L22<>0),V22/L22,"") | L22: =IF(AND(H22<>0, J22<>0, K22<>0), H22*J22*K22, "") | M22: =IF(L22="", "", L22/Veriler!$X$1) | N22: =IF(F22<>"", "İthal Girdi", IF(Veriler!T22="", "", IF(Veriler!S22="H", "%0,5 üzerindedir", IF(Veriler!T22>0.1, "%10 sınırı aşılmıştır.", "Uygun")))) -> %0,5 üzerindedir | O22: =IF(M22=""," ",N22) | R22: =IFERROR(IF(AND(T22<>"",L22<>"",L22<>0,T22<>0),T22/L22,"")," ") | S22: =IFERROR(IF(M22<=0.005,IF(F22="",L22,0),IF(F22<>"",0,IF(P22="",0,IF(P22="H",0,IF(Q22<Veriler!$G$2,L22*Veriler!$G$2,L22*Q22)))))," ") -> 0 | T22: =IF(Veriler!T22<=0.1, S22, IF(AND(Veriler!T22>0.1, F22="", P22="E"), IF(Q22>Veriler!$G$2, Q22*S22, IF(Q22<Veriler!$G$2, Veriler!$G$2*S22, Q22*S22)), 0)) -> 0 | U22: =IF(T22=0," ",T22) | V22: =IFERROR(IF(O22="%10 sınırı aşılmıştır.",L22-T22,IFERROR(IF(F22="",IF(S22=1,0,IF(L22-S22=0,"",L22-S22)),IF(Veriler!M22="",L22,IF(L22*Veriler!M22=0,"",L22*Veriler!M22))),L22)),0)
A23: =A22+1 -> 18 | G23: =IF(AND(F23<>"",V23<>"",L23<>0),V23/L23,"") | L23: =IF(AND(H23<>0, J23<>0, K23<>0), H23*J23*K23, "") | M23: =IF(L23="", "", L23/Veriler!$X$1) | N23: =IF(F23<>"", "İthal Girdi", IF(Veriler!T23="", "", IF(Veriler!S23="H", "%0,5 üzerindedir", IF(Veriler!T23>0.1, "%10 sınırı aşılmıştır.", "Uygun")))) -> %0,5 üzerindedir | O23: =IF(M23=""," ",N23) | R23: =IFERROR(IF(AND(T23<>"",L23<>"",L23<>0,T23<>0),T23/L23,"")," ") | S23: =IFERROR(IF(M23<=0.005,IF(F23="",L23,0),IF(F23<>"",0,IF(P23="",0,IF(P23="H",0,IF(Q23<Veriler!$G$2,L23*Veriler!$G$2,L23*Q23)))))," ") -> 0 | T23: =IF(Veriler!T23<=0.1, S23, IF(AND(Veriler!T23>0.1, F23="", P23="E"), IF(Q23>Veriler!$G$2, Q23*S23, IF(Q23<Veriler!$G$2, Veriler!$G$2*S23, Q23*S23)), 0)) -> 0 | U23: =IF(T23=0," ",T23) | V23: =IFERROR(IF(O23="%10 sınırı aşılmıştır.",L23-T23,IFERROR(IF(F23="",IF(S23=1,0,IF(L23-S23=0,"",L23-S23)),IF(Veriler!M23="",L23,IF(L23*Veriler!M23=0,"",L23*Veriler!M23))),L23)),0)
A24: =A23+1 -> 19 | G24: =IF(AND(F24<>"",V24<>"",L24<>0),V24/L24,"") | L24: =IF(AND(H24<>0, J24<>0, K24<>0), H24*J24*K24, "") | M24: =IF(L24="", "", L24/Veriler!$X$1) | N24: =IF(F24<>"", "İthal Girdi", IF(Veriler!T24="", "", IF(Veriler!S24="H", "%0,5 üzerindedir", IF(Veriler!T24>0.1, "%10 sınırı aşılmıştır.", "Uygun")))) -> %0,5 üzerindedir | O24: =IF(M24=""," ",N24) | R24: =IFERROR(IF(AND(T24<>"",L24<>"",L24<>0,T24<>0),T24/L24,"")," ") | S24: =IFERROR(IF(M24<=0.005,IF(F24="",L24,0),IF(F24<>"",0,IF(P24="",0,IF(P24="H",0,IF(Q24<Veriler!$G$2,L24*Veriler!$G$2,L24*Q24)))))," ") -> 0 | T24: =IF(Veriler!T24<=0.1, S24, IF(AND(Veriler!T24>0.1, F24="", P24="E"), IF(Q24>Veriler!$G$2, Q24*S24, IF(Q24<Veriler!$G$2, Veriler!$G$2*S24, Q24*S24)), 0)) -> 0 | U24: =IF(T24=0," ",T24) | V24: =IFERROR(IF(O24="%10 sınırı aşılmıştır.",L24-T24,IFERROR(IF(F24="",IF(S24=1,0,IF(L24-S24=0,"",L24-S24)),IF(Veriler!M24="",L24,IF(L24*Veriler!M24=0,"",L24*Veriler!M24))),L24)),0)
A25: =A24+1 -> 20 | G25: =IF(AND(F25<>"",V25<>"",L25<>0),V25/L25,"") | L25: =IF(AND(H25<>0, J25<>0, K25<>0), H25*J25*K25, "") | M25: =IF(L25="", "", L25/Veriler!$X$1) | N25: =IF(F25<>"", "İthal Girdi", IF(Veriler!T25="", "", IF(Veriler!S25="H", "%0,5 üzerindedir", IF(Veriler!T25>0.1, "%10 sınırı aşılmıştır.", "Uygun")))) -> %0,5 üzerindedir | O25: =IF(M25=""," ",N25) | R25: =IFERROR(IF(AND(T25<>"",L25<>"",L25<>0,T25<>0),T25/L25,"")," ") | S25: =IFERROR(IF(M25<=0.005,IF(F25="",L25,0),IF(F25<>"",0,IF(P25="",0,IF(P25="H",0,IF(Q25<Veriler!$G$2,L25*Veriler!$G$2,L25*Q25)))))," ") -> 0 | T25: =IF(Veriler!T25<=0.1, S25, IF(AND(Veriler!T25>0.1, F25="", P25="E"), IF(Q25>Veriler!$G$2, Q25*S25, IF(Q25<Veriler!$G$2, Veriler!$G$2*S25, Q25*S25)), 0)) -> 0 | U25: =IF(T25=0," ",T25) | V25: =IFERROR(IF(O25="%10 sınırı aşılmıştır.",L25-T25,IFERROR(IF(F25="",IF(S25=1,0,IF(L25-S25=0,"",L25-S25)),IF(Veriler!M25="",L25,IF(L25*Veriler!M25=0,"",L25*Veriler!M25))),L25)),0)
A26: =A25+1 -> 21 | G26: =IF(AND(F26<>"",V26<>"",L26<>0),V26/L26,"") | L26: =IF(AND(H26<>0, J26<>0, K26<>0), H26*J26*K26, "") | M26: =IF(L26="", "", L26/Veriler!$X$1) | N26: =IF(F26<>"", "İthal Girdi", IF(Veriler!T26="", "", IF(Veriler!S26="H", "%0,5 üzerindedir", IF(Veriler!T26>0.1, "%10 sınırı aşılmıştır.", "Uygun")))) -> %0,5 üzerindedir | O26: =IF(M26=""," ",N26) | R26: =IFERROR(IF(AND(T26<>"",L26<>"",L26<>0,T26<>0),T26/L26,"")," ") | S26: =IFERROR(IF(M26<=0.005,IF(F26="",L26,0),IF(F26<>"",0,IF(P26="",0,IF(P26="H",0,IF(Q26<Veriler!$G$2,L26*Veriler!$G$2,L26*Q26)))))," ") -> 0 | T26: =IF(Veriler!T26<=0.1, S26, IF(AND(Veriler!T26>0.1, F26="", P26="E"), IF(Q26>Veriler!$G$2, Q26*S26, IF(Q26<Veriler!$G$2, Veriler!$G$2*S26, Q26*S26)), 0)) -> 0 | U26: =IF(T26=0," ",T26) | V26: =IFERROR(IF(O26="%10 sınırı aşılmıştır.",L26-T26,IFERROR(IF(F26="",IF(S26=1,0,IF(L26-S26=0,"",L26-S26)),IF(Veriler!M26="",L26,IF(L26*Veriler!M26=0,"",L26*Veriler!M26))),L26)),0)
A27: =A26+1 -> 22 | G27: =IF(AND(F27<>"",V27<>"",L27<>0),V27/L27,"") | L27: =IF(AND(H27<>0, J27<>0, K27<>0), H27*J27*K27, "") | M27: =IF(L27="", "", L27/Veriler!$X$1) | N27: =IF(F27<>"", "İthal Girdi", IF(Veriler!T27="", "", IF(Veriler!S27="H", "%0,5 üzerindedir", IF(Veriler!T27>0.1, "%10 sınırı aşılmıştır.", "Uygun")))) -> %0,5 üzerindedir | O27: =IF(M27=""," ",N27) | R27: =IFERROR(IF(AND(T27<>"",L27<>"",L27<>0,T27<>0),T27/L27,"")," ") | S27: =IFERROR(IF(M27<=0.005,IF(F27="",L27,0),IF(F27<>"",0,IF(P27="",0,IF(P27="H",0,IF(Q27<Veriler!$G$2,L27*Veriler!$G$2,L27*Q27)))))," ") -> 0 | T27: =IF(Veriler!T27<=0.1, S27, IF(AND(Veriler!T27>0.1, F27="", P27="E"), IF(Q27>Veriler!$G$2, Q27*S27, IF(Q27<Veriler!$G$2, Veriler!$G$2*S27, Q27*S27)), 0)) -> 0 | U27: =IF(T27=0," ",T27) | V27: =IFERROR(IF(O27="%10 sınırı aşılmıştır.",L27-T27,IFERROR(IF(F27="",IF(S27=1,0,IF(L27-S27=0,"",L27-S27)),IF(Veriler!M27="",L27,IF(L27*Veriler!M27=0,"",L27*Veriler!M27))),L27)),0)
A28: =A27+1 -> 23 | G28: =IF(AND(F28<>"",V28<>"",L28<>0),V28/L28,"") | L28: =IF(AND(H28<>0, J28<>0, K28<>0), H28*J28*K28, "") | M28: =IF(L28="", "", L28/Veriler!$X$1) | N28: =IF(F28<>"", "İthal Girdi", IF(Veriler!T28="", "", IF(Veriler!S28="H", "%0,5 üzerindedir", IF(Veriler!T28>0.1, "%10 sınırı aşılmıştır.", "Uygun")))) -> %0,5 üzerindedir | O28: =IF(M28=""," ",N28) | R28: =IFERROR(IF(AND(T28<>"",L28<>"",L28<>0,T28<>0),T28/L28,"")," ") | S28: =IFERROR(IF(M28<=0.005,IF(F28="",L28,0),IF(F28<>"",0,IF(P28="",0,IF(P28="H",0,IF(Q28<Veriler!$G$2,L28*Veriler!$G$2,L28*Q28)))))," ") -> 0 | T28: =IF(Veriler!T28<=0.1, S28, IF(AND(Veriler!T28>0.1, F28="", P28="E"), IF(Q28>Veriler!$G$2, Q28*S28, IF(Q28<Veriler!$G$2, Veriler!$G$2*S28, Q28*S28)), 0)) -> 0 | U28: =IF(T28=0," ",T28) | V28: =IFERROR(IF(O28="%10 sınırı aşılmıştır.",L28-T28,IFERROR(IF(F28="",IF(S28=1,0,IF(L28-S28=0,"",L28-S28)),IF(Veriler!M28="",L28,IF(L28*Veriler!M28=0,"",L28*Veriler!M28))),L28)),0)
A29: =A28+1 -> 24 | G29: =IF(AND(F29<>"",V29<>"",L29<>0),V29/L29,"") | L29: =IF(AND(H29<>0, J29<>0, K29<>0), H29*J29*K29, "") | M29: =IF(L29="", "", L29/Veriler!$X$1) | N29: =IF(F29<>"", "İthal Girdi", IF(Veriler!T29="", "", IF(Veriler!S29="H", "%0,5 üzerindedir", IF(Veriler!T29>0.1, "%10 sınırı aşılmıştır.", "Uygun")))) -> %0,5 üzerindedir | O29: =IF(M29=""," ",N29) | R29: =IFERROR(IF(AND(T29<>"",L29<>"",L29<>0,T29<>0),T29/L29,"")," ") | S29: =IFERROR(IF(M29<=0.005,IF(F29="",L29,0),IF(F29<>"",0,IF(P29="",0,IF(P29="H",0,IF(Q29<Veriler!$G$2,L29*Veriler!$G$2,L29*Q29)))))," ") -> 0 | T29: =IF(Veriler!T29<=0.1, S29, IF(AND(Veriler!T29>0.1, F29="", P29="E"), IF(Q29>Veriler!$G$2, Q29*S29, IF(Q29<Veriler!$G$2, Veriler!$G$2*S29, Q29*S29)), 0)) -> 0 | U29: =IF(T29=0," ",T29) | V29: =IFERROR(IF(O29="%10 sınırı aşılmıştır.",L29-T29,IFERROR(IF(F29="",IF(S29=1,0,IF(L29-S29=0,"",L29-S29)),IF(Veriler!M29="",L29,IF(L29*Veriler!M29=0,"",L29*Veriler!M29))),L29)),0)
A30: =A29+1 -> 25 | G30: =IF(AND(F30<>"",V30<>"",L30<>0),V30/L30,"") | L30: =IF(AND(H30<>0, J30<>0, K30<>0), H30*J30*K30, "") | M30: =IF(L30="", "", L30/Veriler!$X$1) | N30: =IF(F30<>"", "İthal Girdi", IF(Veriler!T30="", "", IF(Veriler!S30="H", "%0,5 üzerindedir", IF(Veriler!T30>0.1, "%10 sınırı aşılmıştır.", "Uygun")))) -> %0,5 üzerindedir | O30: =IF(M30=""," ",N30) | R30: =IFERROR(IF(AND(T30<>"",L30<>"",L30<>0,T30<>0),T30/L30,"")," ") | S30: =IFERROR(IF(M30<=0.005,IF(F30="",L30,0),IF(F30<>"",0,IF(P30="",0,IF(P30="H",0,IF(Q30<Veriler!$G$2,L30*Veriler!$G$2,L30*Q30)))))," ") -> 0 | T30: =IF(Veriler!T30<=0.1, S30, IF(AND(Veriler!T30>0.1, F30="", P30="E"), IF(Q30>Veriler!$G$2, Q30*S30, IF(Q30<Veriler!$G$2, Veriler!$G$2*S30, Q30*S30)), 0)) -> 0 | U30: =IF(T30=0," ",T30) | V30: =IFERROR(IF(O30="%10 sınırı aşılmıştır.",L30-T30,IFERROR(IF(F30="",IF(S30=1,0,IF(L30-S30=0,"",L30-S30)),IF(Veriler!M30="",L30,IF(L30*Veriler!M30=0,"",L30*Veriler!M30))),L30)),0)
A31: =A30+1 -> 26 | G31: =IF(AND(F31<>"",V31<>"",L31<>0),V31/L31,"") | L31: =IF(AND(H31<>0, J31<>0, K31<>0), H31*J31*K31, "") | M31: =IF(L31="", "", L31/Veriler!$X$1) | N31: =IF(F31<>"", "İthal Girdi", IF(Veriler!T31="", "", IF(Veriler!S31="H", "%0,5 üzerindedir", IF(Veriler!T31>0.1, "%10 sınırı aşılmıştır.", "Uygun")))) -> %0,5 üzerindedir | O31: =IF(M31=""," ",N31) | R31: =IFERROR(IF(AND(T31<>"",L31<>"",L31<>0,T31<>0),T31/L31,"")," ") | S31: =IFERROR(IF(M31<=0.005,IF(F31="",L31,0),IF(F31<>"",0,IF(P31="",0,IF(P31="H",0,IF(Q31<Veriler!$G$2,L31*Veriler!$G$2,L31*Q31)))))," ") -> 0 | T31: =IF(Veriler!T31<=0.1, S31, IF(AND(Veriler!T31>0.1, F31="", P31="E"), IF(Q31>Veriler!$G$2, Q31*S31, IF(Q31<Veriler!$G$2, Veriler!$G$2*S31, Q31*S31)), 0)) -> 0 | U31: =IF(T31=0," ",T31) | V31: =IFERROR(IF(O31="%10 sınırı aşılmıştır.",L31-T31,IFERROR(IF(F31="",IF(S31=1,0,IF(L31-S31=0,"",L31-S31)),IF(Veriler!M31="",L31,IF(L31*Veriler!M31=0,"",L31*Veriler!M31))),L31)),0)
A32: =A31+1 -> 27 | G32: =IF(AND(F32<>"",V32<>"",L32<>0),V32/L32,"") | L32: =IF(AND(H32<>0, J32<>0, K32<>0), H32*J32*K32, "") | M32: =IF(L32="", "", L32/Veriler!$X$1) | N32: =IF(F32<>"", "İthal Girdi", IF(Veriler!T32="", "", IF(Veriler!S32="H", "%0,5 üzerindedir", IF(Veriler!T32>0.1, "%10 sınırı aşılmıştır.", "Uygun")))) -> %0,5 üzerindedir | O32: =IF(M32=""," ",N32) | R32: =IFERROR(IF(AND(T32<>"",L32<>"",L32<>0,T32<>0),T32/L32,"")," ") | S32: =IFERROR(IF(M32<=0.005,IF(F32="",L32,0),IF(F32<>"",0,IF(P32="",0,IF(P32="H",0,IF(Q32<Veriler!$G$2,L32*Veriler!$G$2,L32*Q32)))))," ") -> 0 | T32: =IF(Veriler!T32<=0.1, S32, IF(AND(Veriler!T32>0.1, F32="", P32="E"), IF(Q32>Veriler!$G$2, Q32*S32, IF(Q32<Veriler!$G$2, Veriler!$G$2*S32, Q32*S32)), 0)) -> 0 | U32: =IF(T32=0," ",T32) | V32: =IFERROR(IF(O32="%10 sınırı aşılmıştır.",L32-T32,IFERROR(IF(F32="",IF(S32=1,0,IF(L32-S32=0,"",L32-S32)),IF(Veriler!M32="",L32,IF(L32*Veriler!M32=0,"",L32*Veriler!M32))),L32)),0)
A33: =A32+1 -> 28 | G33: =IF(AND(F33<>"",V33<>"",L33<>0),V33/L33,"") | L33: =IF(AND(H33<>0, J33<>0, K33<>0), H33*J33*K33, "") | M33: =IF(L33="", "", L33/Veriler!$X$1) | N33: =IF(F33<>"", "İthal Girdi", IF(Veriler!T33="", "", IF(Veriler!S33="H", "%0,5 üzerindedir", IF(Veriler!T33>0.1, "%10 sınırı aşılmıştır.", "Uygun")))) -> %0,5 üzerindedir | O33: =IF(M33=""," ",N33) | R33: =IFERROR(IF(AND(T33<>"",L33<>"",L33<>0,T33<>0),T33/L33,"")," ") | S33: =IFERROR(IF(M33<=0.005,IF(F33="",L33,0),IF(F33<>"",0,IF(P33="",0,IF(P33="H",0,IF(Q33<Veriler!$G$2,L33*Veriler!$G$2,L33*Q33)))))," ") -> 0 | T33: =IF(Veriler!T33<=0.1, S33, IF(AND(Veriler!T33>0.1, F33="", P33="E"), IF(Q33>Veriler!$G$2, Q33*S33, IF(Q33<Veriler!$G$2, Veriler!$G$2*S33, Q33*S33)), 0)) -> 0 | U33: =IF(T33=0," ",T33) | V33: =IFERROR(IF(O33="%10 sınırı aşılmıştır.",L33-T33,IFERROR(IF(F33="",IF(S33=1,0,IF(L33-S33=0,"",L33-S33)),IF(Veriler!M33="",L33,IF(L33*Veriler!M33=0,"",L33*Veriler!M33))),L33)),0)
L34: =SUM(L5:L18,L20:L33) -> 0
S35: T1 | T35: T1 | U35: T1 | V35: T2
A36: Sayfa Toplamı (TL) *(Genel Dip Toplam Ek.3-D sayfasında otomatik hesaplanacaktır.) | S36: =SUM(S5:S18,S20:S33) -> 0 | T36: =IF(SUM(T5:T18,T20:T33)=0," ",SUM(T5:T18,T20:T33)) | U36: =IF(SUM(U5:U18,U20:U33)=0," ",SUM(U5:U18,U20:U33)) | V36: =IF(SUM(V5:V18,V20:V33)=0," ",SUM(V5:V18,V20:V33)) | X36: =SUM(U5:U18,U20:U33) -> 0 | Y36: =SUM(V5:V18,V20:V33) -> 0
A38: R03
A39: YERLİ KATKI ORANI HESAP CETVELİ
A40: A) Nihai Ürün Doğrudan ve Dolaylı Malzeme Giderleri | U40: S | V40: =V2+1 -> 2
A41: Sıra No | B41: Malzeme adı / Faturadaki Ürün Adı | D41: Üretici Unvanı | E41: PRODTR Kodu (Yerli girdiler için) | F41: GTİP Kodu (İthal girdiler için) | G41: Gtip Katsayısı | H41: Miktar | I41: Birim | J41: Fiyatı (TL/Döviz) | K41: Döviz Kuru (TL ise 1 alınız) | L41: Fatura Tutarı (TL) | M41: Girdi Maliyet Yüzdesi (%) | N41: Girdi yüzdesi %0,5 altında olan girdiler için %10 sınır kontrolü | O41: Girdi yüzdesi %0,5 altında olan girdiler için %10 sınır kontrolü | P41: SSB/ Müstahsil (E/H) | Q41: YKO (%) (Manuel girilmeli) | R41: Geçerli Yerli Oranı (%) | S41: Yerli Maliyet Tutarı (T1) | T41: Yerli Maliyet Tutarı (T1) | U41: Yerli Maliyet Tutarı (T1) | V41: İthal Maliyet Tutarı (T2)
B42: Doğrudan Girdi (Dolaylı girdiniz varsa en son 201. sayfaya doldurunuz)
...

Sheet Veriler
A1: 1.01 | B1: YERLİ KATKI ORANI RAPORU | C1: İndis | D1: GTİP kodu | E1: GTİP yüzdesi | G1: BAKANLIK YÜZDESİ | L1: PROD KONTROL | O1: PROD | Q1: =SUM(AO:AO) -> 0 | R1: =Q1 -> 0 | S1: ='Ek.3-D'!E5 -> 0 | T1: ='Ek.3-D'!J5 -> 0 | U1: ='Ek.3-D'!E6 -> 0 | W1: ='Ek.3-D'!J6 -> 0 | X1: =SUM(R1:W1) -> 0 | Z1: =X1/10 -> 0
A2: 1.02 | B2: YERLİ KATKI ORANI RAPORU | D2: 290941000000 | E2: 0.1 | G2: 0.4 | L2: =IF(O2=29,1,0) -> #VALUE! | O2: =--LEFT('Ek.3-D'!C15,2) -> #VALUE! | W2: 38
A3: 1.03 | B3: YERLİ KATKI ORANI RAPORU | D3: 844831000000 | E3: 0.1 | L3: Gtip | M3: GTİP Listesi | N3: SSB | O3: Yerli Maliyet tutarı | P3: Fatura tutarı | Q3: Girdi Maliyet Yüzdesi | S3: 0,5 durumu | T3: 0,5 kümülatif toplam | AE3: Yerli <0,5 Toplam Maliyet | AF3: Yerli >0,5 Toplam Maliyet
A4: 1.04 | B4: YERLİ KATKI ORANI RAPORU | D4: 844851900011 | E4: 0.1 | Y4: YERLİ (T1) | Z4: İTHAL (T2) | AA4: T3 | AB4: T4 | AC4: T5 | AD4: T6
A5: 1.05 | B5: YERLİ KATKI ORANI RAPORU | D5: 847330200000 | E5: 0.1 | K5: 1 | L5: =IF(TRIM('Ek.3-A'!F5)<>"","var","yok") -> yok | M5: =IFERROR(IF('Ek.3-A'!F5="", "", IF(VLOOKUP('Ek.3-A'!F5, Veriler!D:E, 2, 0)=0, "", VLOOKUP('Ek.3-A'!F5, Veriler!D:E, 2, 0)))," ") | N5: =IF('Ek.3-A'!P5="", "", 'Ek.3-A'!P5) | O5: ='Ek.3-A'!S5 -> 0 | P5: ='Ek.3-A'!L5 | Q5: ='Ek.3-A'!M5 | R5: =IF(L5="var",0,IF(Q5<=0.005,Q5,0)) -> 0 | S5: =IF(Q5<=0.005,"E","H") -> H | T5: =IF(S5="E",SUM($R$5:R5),0) -> 0 | U5: =IF(T5<=0.1, O5, IF(R5>$G$2, R5*O5, $G$2*O5)) -> 0 | W5: 36 | X5: S1 | Y5: ='Ek.3-A'!X36 -> 0 | Z5: ='Ek.3-A'!Y36 -> 0 | AA5: ='Ek.3-B'!F32 | AB5: ='Ek.3-B'!N32 | AC5: ='Ek.3-C'!F31 | AD5: ='Ek.3-C'!N31 | AE5: =SUM(AA5:AA7633) -> 0
A6: 1.06 | B6: YERLİ KATKI ORANI RAPORU | D6: 847330800000 | E6: 0.1 | K6: =K5+1 -> 2 | L6: =IF(TRIM('Ek.3-A'!F6)<>"","var","yok") -> yok | M6: =IFERROR(IF('Ek.3-A'!F6="", "", IF(VLOOKUP('Ek.3-A'!F6, Veriler!D:E, 2, 0)=0, "", VLOOKUP('Ek.3-A'!F6, Veriler!D:E, 2, 0)))," ") | N6: =IF('Ek.3-A'!P6="", "", 'Ek.3-A'!P6) | O6: ='Ek.3-A'!S6 -> 0 | P6: ='Ek.3-A'!L6 | Q6: ='Ek.3-A'!M6 | R6: =IF(L6="var",0,IF(Q6<=0.005,Q6,0)) -> 0 | S6: =IF(Q6<=0.005,"E","H") -> H | T6: =IF(S6="E",SUM($R$5:R6),0) -> 0 | U6: =IF(T6<=0.1, O6, IF(R6>$G$2, R6*O6, $G$2*O6)) -> 0 | W6: =W5+$W$2 -> 74 | X6: S2 | Y6: ='Ek.3-A'!X74 -> 0 | Z6: ='Ek.3-A'!Y74 -> 0 | AA6: ='Ek.3-B'!F66 | AB6: ='Ek.3-B'!N66 | AC6: ='Ek.3-C'!F64 | AD6: ='Ek.3-C'!N64
A7: 1.07 | B7: YERLİ KATKI ORANI RAPORU | D7: 852990920000 | E7: 0.1 | K7: =K6+1 -> 3 | L7: =IF(TRIM('Ek.3-A'!F7)<>"","var","yok") -> yok | M7: =IFERROR(IF('Ek.3-A'!F7="", "", IF(VLOOKUP('Ek.3-A'!F7, Veriler!D:E, 2, 0)=0, "", VLOOKUP('Ek.3-A'!F7, Veriler!D:E, 2, 0)))," ") | N7: =IF('Ek.3-A'!P7="", "", 'Ek.3-A'!P7) | O7: ='Ek.3-A'!S7 -> 0 | P7: ='Ek.3-A'!L7 | Q7: ='Ek.3-A'!M7 | R7: =IF(L7="var",0,IF(Q7<=0.005,Q7,0)) -> 0 | S7: =IF(Q7<=0.005,"E","H") -> H | T7: =IF(S7="E",SUM($R$5:R7),0) -> 0 | U7: =IF(T7<=0.1, O7, IF(R7>$G$2, R7*O7, $G$2*O7)) -> 0 | W7: =W6+$W$2 -> 112 | X7: S3 | Y7: ='Ek.3-A'!X112 -> 0 | Z7: ='Ek.3-A'!Y112 -> 0 | AA7: ='Ek.3-B'!F100 | AB7: ='Ek.3-B'!N100 | AC7: ='Ek.3-C'!F97 | AD7: ='Ek.3-C'!N97
A8: 1.08 | B8: YERLİ KATKI ORANI RAPORU | C8: 1 | D8: 870829109000 | E8: 0.1 | K8: =K7+1 -> 4 | L8: =IF(TRIM('Ek.3-A'!F8)<>"","var","yok") -> yok | M8: =IFERROR(IF('Ek.3-A'!F8="", "", IF(VLOOKUP('Ek.3-A'!F8, Veriler!D:E, 2, 0)=0, "", VLOOKUP('Ek.3-A'!F8, Veriler!D:E, 2, 0)))," ") | N8: =IF('Ek.3-A'!P8="", "", 'Ek.3-A'!P8) | O8: ='Ek.3-A'!S8 -> 0 | P8: ='Ek.3-A'!L8 | Q8: ='Ek.3-A'!M8 | R8: =IF(L8="var",0,IF(Q8<=0.005,Q8,0)) -> 0 | S8: =IF(Q8<=0.005,"E","H") -> H | T8: =IF(S8="E",SUM($R$5:R8),0) -> 0 | U8: =IF(T8<=0.1, O8, IF(R8>$G$2, R8*O8, $G$2*O8)) -> 0 | W8: =W7+$W$2 -> 150 | X8: S4 | Y8: ='Ek.3-A'!X150 -> 0 | Z8: ='Ek.3-A'!Y150 -> 0 | AA8: ='Ek.3-B'!F134 | AB8: ='Ek.3-B'!N134 | AC8: ='Ek.3-C'!F130 | AD8: ='Ek.3-C'!N130
A9: 1.09 | B9: YERLİ KATKI ORANI RAPORU | D9: 870840500000 | E9: 0.1 | K9: =K8+1 -> 5 | L9: =IF(TRIM('Ek.3-A'!F9)<>"","var","yok") -> yok | M9: =IFERROR(IF('Ek.3-A'!F9="", "", IF(VLOOKUP('Ek.3-A'!F9, Veriler!D:E, 2, 0)=0, "", VLOOKUP('Ek.3-A'!F9, Veriler!D:E, 2, 0)))," ") | N9: =IF('Ek.3-A'!P9="", "", 'Ek.3-A'!P9) | O9: ='Ek.3-A'!S9 -> 0 | P9: ='Ek.3-A'!L9 | Q9: ='Ek.3-A'!M9 | R9: =IF(L9="var",0,IF(Q9<=0.005,Q9,0)) -> 0 | S9: =IF(Q9<=0.005,"E","H") -> H | T9: =IF(S9="E",SUM($R$5:R9),0) -> 0 | U9: =IF(T9<=0.1, O9, IF(R9>$G$2, R9*O9, $G$2*O9)) -> 0 | W9: =W8+$W$2 -> 188 | X9: S5 | Y9: ='Ek.3-A'!X188 -> 0 | Z9: ='Ek.3-A'!Y188 -> 0 | AA9: =SUM(AA5:AA8) -> 0 | AB9: =SUM(AB5:AB8) -> 0 | AC9: =SUM(AC5:AC8) -> 0 | AD9: =SUM(AD5:AD8) -> 0
A10: 1.1 | B10: YERLİ KATKI ORANI RAPORU | D10: 870895990000 | E10: 0.1 | K10: =K9+1 -> 6 | L10: =IF(TRIM('Ek.3-A'!F10)<>"","var","yok") -> yok | M10: =IFERROR(IF('Ek.3-A'!F10="", "", IF(VLOOKUP('Ek.3-A'!F10, Veriler!D:E, 2, 0)=0, "", VLOOKUP('Ek.3-A'!F10, Veriler!D:E, 2, 0)))," ") | N10: =IF('Ek.3-A'!P10="", "", 'Ek.3-A'!P10) | O10: ='Ek.3-A'!S10 -> 0 | P10: ='Ek.3-A'!L10 | Q10: ='Ek.3-A'!M10 | R10: =IF(L10="var",0,IF(Q10<=0.005,Q10,0)) -> 0 | S10: =IF(Q10<=0.005,"E","H") -> H | T10: =IF(S10="E",SUM($R$5:R10),0) -> 0 | U10: =IF(T10<=0.1, O10, IF(R10>$G$2, R10*O10, $G$2*O10)) -> 0 | W10: =W9+$W$2 -> 226 | X10: S6 | Y10: ='Ek.3-A'!X226 -> 0 | Z10: ='Ek.3-A'!Y226 -> 0
A11: 1.11 | B11: YERLİ KATKI ORANI RAPORU | D11: 880720000000 | E11: 0.1 | K11: =K10+1 -> 7 | L11: =IF(TRIM('Ek.3-A'!F11)<>"","var","yok") -> yok | M11: =IFERROR(IF('Ek.3-A'!F11="", "", IF(VLOOKUP('Ek.3-A'!F11, Veriler!D:E, 2, 0)=0, "", VLOOKUP('Ek.3-A'!F11, Veriler!D:E, 2, 0)))," ") | N11: =IF('Ek.3-A'!P11="", "", 'Ek.3-A'!P11) | O11: ='Ek.3-A'!S11 -> 0 | P11: ='Ek.3-A'!L11 | Q11: ='Ek.3-A'!M11 | R11: =IF(L11="var",0,IF(Q11<=0.005,Q11,0)) -> 0 | S11: =IF(Q11<=0.005,"E","H") -> H | T11: =IF(S11="E",SUM($R$5:R11),0) -> 0 | U11: =IF(T11<=0.1, O11, IF(R11>$G$2, R11*O11, $G$2*O11)) -> 0 | W11: =W10+$W$2 -> 264 | X11: S7 | Y11: ='Ek.3-A'!X264 -> 0 | Z11: ='Ek.3-A'!Y264 -> 0
A12: 1.12 | B12: YERLİ KATKI ORANI RAPORU | D12: 880710000000 | E12: 0.1 | K12: =K11+1 -> 8 | L12: =IF(TRIM('Ek.3-A'!F12)<>"","var","yok") -> yok | M12: =IFERROR(IF('Ek.3-A'!F12="", "", IF(VLOOKUP('Ek.3-A'!F12, Veriler!D:E, 2, 0)=0, "", VLOOKUP('Ek.3-A'!F12, Veriler!D:E, 2, 0)))," ") | N12: =IF('Ek.3-A'!P12="", "", 'Ek.3-A'!P12) | O12: ='Ek.3-A'!S12 -> 0 | P12: ='Ek.3-A'!L12 | Q12: ='Ek.3-A'!M12 | R12: =IF(L12="var",0,IF(Q12<=0.005,Q12,0)) -> 0 | S12: =IF(Q12<=0.005,"E","H") -> H | T12: =IF(S12="E",SUM($R$5:R12),0) -> 0 | U12: =IF(T12<=0.1, O12, IF(R12>$G$2, R12*O12, $G$2*O12)) -> 0 | W12: =W11+$W$2 -> 302 | X12: S8 | Y12: ='Ek.3-A'!X302 -> 0 | Z12: ='Ek.3-A'!Y302 -> 0
A13: 1.13 | B13: YERLİ KATKI ORANI RAPORU | D13: 291712000011 | E13: 0.1 | K13: =K12+1 -> 9 | L13: =IF(TRIM('Ek.3-A'!F13)<>"","var","yok") -> yok | M13: =IFERROR(IF('Ek.3-A'!F13="", "", IF(VLOOKUP('Ek.3-A'!F13, Veriler!D:E, 2, 0)=0, "", VLOOKUP('Ek.3-A'!F13, Veriler!D:E, 2, 0)))," ") | N13: =IF('Ek.3-A'!P13="", "", 'Ek.3-A'!P13) | O13: ='Ek.3-A'!S13 -> 0 | P13: ='Ek.3-A'!L13 | Q13: ='Ek.3-A'!M13 | R13: =IF(L13="var",0,IF(Q13<=0.005,Q13,0)) -> 0 | S13: =IF(Q13<=0.005,"E","H") -> H | T13: =IF(S13="E",SUM($R$5:R13),0) -> 0 | U13: =IF(T13<=0.1, O13, IF(R13>$G$2, R13*O13, $G$2*O13)) -> 0 | W13: =W12+$W$2 -> 340 | X13: S9 | Y13: ='Ek.3-A'!X340 -> 0 | Z13: ='Ek.3-A'!Y340 -> 0
A14: 1.14 | B14: YERLİ KATKI ORANI RAPORU | D14: 442199990019 | E14: 0.1 | K14: =K13+1 -> 10 | L14: =IF(TRIM('Ek.3-A'!F14)<>"","var","yok") -> yok | M14: =IFERROR(IF('Ek.3-A'!F14="", "", IF(VLOOKUP('Ek.3-A'!F14, Veriler!D:E, 2, 0)=0, "", VLOOKUP('Ek.3-A'!F14, Veriler!D:E, 2, 0)))," ") | N14: =IF('Ek.3-A'!P14="", "", 'Ek.3-A'!P14) | O14: ='Ek.3-A'!S14 -> 0 | P14: ='Ek.3-A'!L14 | Q14: ='Ek.3-A'!M14 | R14: =IF(L14="var",0,IF(Q14<=0.005,Q14,0)) -> 0 | S14: =IF(Q14<=0.005,"E","H") -> H | T14: =IF(S14="E",SUM($R$5:R14),0) -> 0 | U14: =IF(T14<=0.1, O14, IF(R14>$G$2, R14*O14, $G$2*O14)) -> 0 | W14: =W13+$W$2 -> 378 | X14: S10 | Y14: ='Ek.3-A'!X378 -> 0 | Z14: ='Ek.3-A'!Y378 -> 0
A15: 1.15 | B15: YERLİ KATKI ORANI RAPORU | D15: 291611001000 | E15: 0.1 | K15: =K14+1 -> 11 | L15: =IF(TRIM('Ek.3-A'!F15)<>"","var","yok") -> yok | M15: =IFERROR(IF('Ek.3-A'!F15="", "", IF(VLOOKUP('Ek.3-A'!F15, Veriler!D:E, 2, 0)=0, "", VLOOKUP('Ek.3-A'!F15, Veriler!D:E, 2, 0)))," ") | N15: =IF('Ek.3-A'!P15="", "", 'Ek.3-A'!P15) | O15: ='Ek.3-A'!S15 -> 0 | P15: ='Ek.3-A'!L15 | Q15: ='Ek.3-A'!M15 | R15: =IF(L15="var",0,IF(Q15<=0.005,Q15,0)) -> 0 | S15: =IF(Q15<=0.005,"E","H") -> H | T15: =IF(S15="E",SUM($R$5:R15),0) -> 0 | U15: =IF(T15<=0.1, O15, IF(R15>$G$2, R15*O15, $G$2*O15)) -> 0 | W15: =W14+$W$2 -> 416 | X15: S11 | Y15: ='Ek.3-A'!X416 -> 0 | Z15: ='Ek.3-A'!Y416 -> 0
A16: 1.16 | B16: YERLİ KATKI ORANI RAPORU | D16: 390330000000 | E16: 0.1 | K16: =K15+1 -> 12 | L16: =IF(TRIM('Ek.3-A'!F16)<>"","var","yok") -> yok | M16: =IFERROR(IF('Ek.3-A'!F16="", "", IF(VLOOKUP('Ek.3-A'!F16, Veriler!D:E, 2, 0)=0, "", VLOOKUP('Ek.3-A'!F16, Veriler!D:E, 2, 0)))," ") | N16: =IF('Ek.3-A'!P16="", "", 'Ek.3-A'!P16) | O16: ='Ek.3-A'!S16 -> 0 | P16: ='Ek.3-A'!L16 | Q16: ='Ek.3-A'!M16 | R16: =IF(L16="var",0,IF(Q16<=0.005,Q16,0)) -> 0 | S16: =IF(Q16<=0.005,"E","H") -> H | T16: =IF(S16="E",SUM($R$5:R16),0) -> 0 | U16: =IF(T16<=0.1, O16, IF(R16>$G$2, R16*O16, $G$2*O16)) -> 0 | W16: =W15+$W$2 -> 454 | X16: S12 | Y16: ='Ek.3-A'!X454 -> 0 | Z16: ='Ek.3-A'!Y454 -> 0
A17: 1.17 | B17: YERLİ KATKI ORANI RAPORU | D17: 720450001000 | E17: 0.1 | K17: =K16+1 -> 13 | L17: =IF(TRIM('Ek.3-A'!F17)<>"","var","yok") -> yok | M17: =IFERROR(IF('Ek.3-A'!F17="", "", IF(VLOOKUP('Ek.3-A'!F17, Veriler!D:E, 2, 0)=0, "", VLOOKUP('Ek.3-A'!F17, Veriler!D:E, 2, 0)))," ") | N17: =IF('Ek.3-A'!P17="", "", 'Ek.3-A'!P17) | O17: ='Ek.3-A'!S17 -> 0 | P17: ='Ek.3-A'!L17 | Q17: ='Ek.3-A'!M17 | R17: =IF(L17="var",0,IF(Q17<=0.005,Q17,0)) -> 0 | S17: =IF(Q17<=0.005,"E","H") -> H | T17: =IF(S17="E",SUM($R$5:R17),0) -> 0 | U17: =IF(T17<=0.1, O17, IF(R17>$G$2, R17*O17, $G$2*O17)) -> 0 | W17: =W16+$W$2 -> 492 | X17: S13 | Y17: ='Ek.3-A'!X492 -> 0 | Z17: ='Ek.3-A'!Y492 -> 0
A18: 1.18 | B18: YERLİ KATKI ORANI RAPORU | D18: 720429000019 | E18: 0.1 | K18: =K17+1 -> 14 | L18: =IF(TRIM('Ek.3-A'!F18)<>"","var","yok") -> yok | M18: =IFERROR(IF('Ek.3-A'!F18="", "", IF(VLOOKUP('Ek.3-A'!F18, Veriler!D:E, 2, 0)=0, "", VLOOKUP('Ek.3-A'!F18, Veriler!D:E, 2, 0)))," ") | N18: =IF('Ek.3-A'!P18="", "", 'Ek.3-A'!P18) | O18: ='Ek.3-A'!S18 -> 0 | P18: ='Ek.3-A'!L18 | Q18: ='Ek.3-A'!M18 | R18: =IF(L18="var",0,IF(Q18<=0.005,Q18,0)) -> 0 | S18: =IF(Q18<=0.005,"E","H") -> H | T18: =IF(S18="E",SUM($R$5:R18),0) -> 0 | U18: =IF(T18<=0.1, O18, IF(R18>$G$2, R18*O18, $G$2*O18)) -> 0 | W18: =W17+$W$2 -> 530 | X18: S14 | Y18: ='Ek.3-A'!X530 -> 0 | Z18: ='Ek.3-A'!Y530 -> 0
A19: 1.19 | B19: YERLİ KATKI ORANI RAPORU | D19: 720429000011 | E19: 0.1 | W19: =W18+$W$2 -> 568 | X19: S15 | Y19: ='Ek.3-A'!X568 -> 0 | Z19: ='Ek.3-A'!Y568 -> 0
A20: 1.2 | B20: YERLİ KATKI ORANI RAPORU | D20: 720421900019 | E20: 0.1 | K20: =K18+1 -> 15 | L20: =IF(TRIM('Ek.3-A'!F20)<>"","var","yok") -> yok | M20: =IFERROR(IF('Ek.3-A'!F20="", "", IF(VLOOKUP('Ek.3-A'!F20, Veriler!D:E, 2, 0)=0, "", VLOOKUP('Ek.3-A'!F20, Veriler!D:E, 2, 0)))," ") | N20: =IF('Ek.3-A'!P20="", "", 'Ek.3-A'!P20) | O20: ='Ek.3-A'!S20 -> 0 | P20: ='Ek.3-A'!L20 | Q20: ='Ek.3-A'!M20 | R20: =IF(L20="var",0,IF(Q20<=0.005,Q20,0)) -> 0 | S20: =IF(Q20<=0.005,"E","H") -> H | T20: =IF(S20="E",SUM($R$5:R20),0) -> 0 | U20: =IF(T20<=0.1, O20, IF(R20>$G$2, R20*O20, $G$2*O20)) -> 0 | W20: =W19+$W$2 -> 606 | X20: S16 | Y20: ='Ek.3-A'!X606 -> 0 | Z20: ='Ek.3-A'!Y606 -> 0
A21: 1.21 | B21: YERLİ KATKI ORANI RAPORU | D21: 720421900011 | E21: 0.1 | K21: =K20+1 -> 16 | L21: =IF(TRIM('Ek.3-A'!F21)<>"","var","yok") -> yok | M21: =IFERROR(IF('Ek.3-A'!F21="", "", IF(VLOOKUP('Ek.3-A'!F21, Veriler!D:E, 2, 0)=0, "", VLOOKUP('Ek.3-A'!F21, Veriler!D:E, 2, 0)))," ") | N21: =IF('Ek.3-A'!P21="", "", 'Ek.3-A'!P21) | O21: ='Ek.3-A'!S21 -> 0 | P21: ='Ek.3-A'!L21 | Q21: ='Ek.3-A'!M21 | R21: =IF(L21="var",0,IF(Q21<=0.005,Q21,0)) -> 0 | S21: =IF(Q21<=0.005,"E","H") -> H | T21: =IF(S21="E",SUM($R$5:R21),0) -> 0 | U21: =IF(T21<=0.1, O21, IF(R21>$G$2, R21*O21, $G$2*O21)) -> 0 | W21: =W20+$W$2 -> 644 | X21: S17 | Y21: ='Ek.3-A'!X644 -> 0 | Z21: ='Ek.3-A'!Y644 -> 0
A22: 1.22 | B22: YERLİ KATKI ORANI RAPORU | D22: 720421100019 | E22: 0.1 | K22: =K21+1 -> 17 | L22: =IF(TRIM('Ek.3-A'!F22)<>"","var","yok") -> yok | M22: =IFERROR(IF('Ek.3-A'!F22="", "", IF(VLOOKUP('Ek.3-A'!F22, Veriler!D:E, 2, 0)=0, "", VLOOKUP('Ek.3-A'!F22, Veriler!D:E, 2, 0)))," ") | N22: =IF('Ek.3-A'!P22="", "", 'Ek.3-A'!P22) | O22: ='Ek.3-A'!S22 -> 0 | P22: ='Ek.3-A'!L22 | Q22: ='Ek.3-A'!M22 | R22: =IF(L22="var",0,IF(Q22<=0.005,Q22,0)) -> 0 | S22: =IF(Q22<=0.005,"E","H") -> H | T22: =IF(S22="E",SUM($R$5:R22),0) -> 0 | U22: =IF(T22<=0.1, O22, IF(R22>$G$2, R22*O22, $G$2*O22)) -> 0 | W22: =W21+$W$2 -> 682 | X22: S18 | Y22: ='Ek.3-A'!X682 -> 0 | Z22: ='Ek.3-A'!Y682 -> 0
A23: 1.23 | B23: YERLİ KATKI ORANI RAPORU | D23: 720421100011 | E23: 0.1 | K23: =K22+1 -> 18 | L23: =IF(TRIM('Ek.3-A'!F23)<>"","var","yok") -> yok | M23: =IFERROR(IF('Ek.3-A'!F23="", "", IF(VLOOKUP('Ek.3-A'!F23, Veriler!D:E, 2, 0)=0, "", VLOOKUP('Ek.3-A'!F23, Veriler!D:E, 2, 0)))," ") | N23: =IF('Ek.3-A'!P23="", "", 'Ek.3-A'!P23) | O23: ='Ek.3-A'!S23 -> 0 | P23: ='Ek.3-A'!L23 | Q23: ='Ek.3-A'!M23 | R23: =IF(L23="var",0,IF(Q23<=0.005,Q23,0)) -> 0 | S23: =IF(Q23<=0.005,"E","H") -> H | T23: =IF(S23="E",SUM($R$5:R23),0) -> 0 | U23: =IF(T23<=0.1, O23, IF(R23>$G$2, R23*O23, $G$2*O23)) -> 0 | W23: =W22+$W$2 -> 720 | X23: S19 | Y23: ='Ek.3-A'!X720 -> 0 | Z23: ='Ek.3-A'!Y720 -> 0
A24: 1.24 | B24: YERLİ KATKI ORANI RAPORU | D24: 760511000000 | E24: 0.1 | K24: =K23+1 -> 19 | L24: =IF(TRIM('Ek.3-A'!F24)<>"","var","yok") -> yok | M24: =IFERROR(IF('Ek.3-A'!F24="", "", IF(VLOOKUP('Ek.3-A'!F24, Veriler!D:E, 2, 0)=0, "", VLOOKUP('Ek.3-A'!F24, Veriler!D:E, 2, 0)))," ") | N24: =IF('Ek.3-A'!P24="", "", 'Ek.3-A'!P24) | O24: ='Ek.3-A'!S24 -> 0 | P24: ='Ek.3-A'!L24 | Q24: ='Ek.3-A'!M24 | R24: =IF(L24="var",0,IF(Q24<=0.005,Q24,0)) -> 0 | S24: =IF(Q24<=0.005,"E","H") -> H | T24: =IF(S24="E",SUM($R$5:R24),0) -> 0 | U24: =IF(T24<=0.1, O24, IF(R24>$G$2, R24*O24, $G$2*O24)) -> 0 | W24: =W23+$W$2 -> 758 | X24: S20 | Y24: ='Ek.3-A'!X758 -> 0 | Z24: ='Ek.3-A'!Y758 -> 0
A25: 1.25 | B25: YERLİ KATKI ORANI RAPORU | D25: 720110300000 | E25: 0.1 | K25: =K24+1 -> 20 | L25: =IF(TRIM('Ek.3-A'!F25)<>"","var","yok") -> yok | M25: =IFERROR(IF('Ek.3-A'!F25="", "", IF(VLOOKUP('Ek.3-A'!F25, Veriler!D:E, 2, 0)=0, "", VLOOKUP('Ek.3-A'!F25, Veriler!D:E, 2, 0)))," ") | N25: =IF('Ek.3-A'!P25="", "", 'Ek.3-A'!P25) | O25: ='Ek.3-A'!S25 -> 0 | P25: ='Ek.3-A'!L25 | Q25: ='Ek.3-A'!M25 | R25: =IF(L25="var",0,IF(Q25<=0.005,Q25,0)) -> 0 | S25: =IF(Q25<=0.005,"E","H") -> H | T25: =IF(S25="E",SUM($R$5:R25),0) -> 0 | U25: =IF(T25<=0.1, O25, IF(R25>$G$2, R25*O25, $G$2*O25)) -> 0 | W25: =W24+$W$2 -> 796 | X25: S21 | Y25: ='Ek.3-A'!X796 -> 0 | Z25: ='Ek.3-A'!Y796 -> 0
A26: 1.26 | B26: YERLİ KATKI ORANI RAPORU | D26: 720110900000 | E26: 0.1 | K26: =K25+1 -> 21 | L26: =IF(TRIM('Ek.3-A'!F26)<>"","var","yok") -> yok | M26: =IFERROR(IF('Ek.3-A'!F26="", "", IF(VLOOKUP('Ek.3-A'!F26, Veriler!D:E, 2, 0)=0, "", VLOOKUP('Ek.3-A'!F26, Veriler!D:E, 2, 0)))," ") | N26: =IF('Ek.3-A'!P26="", "", 'Ek.3-A'!P26) | O26: ='Ek.3-A'!S26 -> 0 | P26: ='Ek.3-A'!L26 | Q26: ='Ek.3-A'!M26 | R26: =IF(L26="var",0,IF(Q26<=0.005,Q26,0)) -> 0 | S26: =IF(Q26<=0.005,"E","H") -> H | T26: =IF(S26="E",SUM($R$5:R26),0) -> 0 | U26: =IF(T26<=0.1, O26, IF(R26>$G$2, R26*O26, $G$2*O26)) -> 0 | W26: =W25+$W$2 -> 834 | X26: S22 | Y26: ='Ek.3-A'!X834 -> 0 | Z26: ='Ek.3-A'!Y834 -> 0
A27: 1.27 | B27: YERLİ KATKI ORANI RAPORU | D27: 750300100000 | E27: 0.1 | K27: =K26+1 -> 22 | L27: =IF(TRIM('Ek.3-A'!F27)<>"","var","yok") -> yok | M27: =IFERROR(IF('Ek.3-A'!F27="", "", IF(VLOOKUP('Ek.3-A'!F27, Veriler!D:E, 2, 0)=0, "", VLOOKUP('Ek.3-A'!F27, Veriler!D:E, 2, 0)))," ") | N27: =IF('Ek.3-A'!P27="", "", 'Ek.3-A'!P27) | O27: ='Ek.3-A'!S27 -> 0 | P27: ='Ek.3-A'!L27 | Q27: ='Ek.3-A'!M27 | R27: =IF(L27="var",0,IF(Q27<=0.005,Q27,0)) -> 0 | S27: =IF(Q27<=0.005,"E","H") -> H | T27: =IF(S27="E",SUM($R$5:R27),0) -> 0 | U27: =IF(T27<=0.1, O27, IF(R27>$G$2, R27*O27, $G$2*O27)) -> 0 | W27: =W26+$W$2 -> 872 | X27: S23 | Y27: ='Ek.3-A'!X872 -> 0 | Z27: ='Ek.3-A'!Y872 -> 0
A28: 1.28 | B28: YERLİ KATKI ORANI RAPORU | D28: 390110900011 | E28: 0.1 | K28: =K27+1 -> 23 | L28: =IF(TRIM('Ek.3-A'!F28)<>"","var","yok") -> yok | M28: =IFERROR(IF('Ek.3-A'!F28="", "", IF(VLOOKUP('Ek.3-A'!F28, Veriler!D:E, 2, 0)=0, "", VLOOKUP('Ek.3-A'!F28, Veriler!D:E, 2, 0)))," ") | N28: =IF('Ek.3-A'!P28="", "", 'Ek.3-A'!P28) | O28: ='Ek.3-A'!S28 -> 0 | P28: ='Ek.3-A'!L28 | Q28: ='Ek.3-A'!M28 | R28: =IF(L28="var",0,IF(Q28<=0.005,Q28,0)) -> 0 | S28: =IF(Q28<=0.005,"E","H") -> H | T28: =IF(S28="E",SUM($R$5:R28),0) -> 0 | U28: =IF(T28<=0.1, O28, IF(R28>$G$2, R28*O28, $G$2*O28)) -> 0 | W28: =W27+$W$2 -> 910 | X28: S24 | Y28: ='Ek.3-A'!X910 -> 0 | Z28: ='Ek.3-A'!Y910 -> 0
A29: 1.29 | B29: YERLİ KATKI ORANI RAPORU | D29: 291830000029 | E29: 0.1 | K29: =K28+1 -> 24 | L29: =IF(TRIM('Ek.3-A'!F29)<>"","var","yok") -> yok | M29: =IFERROR(IF('Ek.3-A'!F29="", "", IF(VLOOKUP('Ek.3-A'!F29, Veriler!D:E, 2, 0)=0, "", VLOOKUP('Ek.3-A'!F29, Veriler!D:E, 2, 0)))," ") | N29: =IF('Ek.3-A'!P29="", "", 'Ek.3-A'!P29) | O29: ='Ek.3-A'!S29 -> 0 | P29: ='Ek.3-A'!L29 | Q29: ='Ek.3-A'!M29 | R29: =IF(L29="var",0,IF(Q29<=0.005,Q29,0)) -> 0 | S29: =IF(Q29<=0.005,"E","H") -> H | T29: =IF(S29="E",SUM($R$5:R29),0) -> 0 | U29: =IF(T29<=0.1, O29, IF(R29>$G$2, R29*O29, $G$2*O29)) -> 0 | W29: =W28+$W$2 -> 948 | X29: S25 | Y29: ='Ek.3-A'!X948 -> 0 | Z29: ='Ek.3-A'!Y948 -> 0
A30: 1.3 | B30: YERLİ KATKI ORANI RAPORU | D30: 820900800000 | E30: 0.1 | K30: =K29+1 -> 25 | L30: =IF(TRIM('Ek.3-A'!F30)<>"","var","yok") -> yok | M30: =IFERROR(IF('Ek.3-A'!F30="", "", IF(VLOOKUP('Ek.3-A'!F30, Veriler!D:E, 2, 0)=0, "", VLOOKUP('Ek.3-A'!F30, Veriler!D:E, 2, 0)))," ") | N30: =IF('Ek.3-A'!P30="", "", 'Ek.3-A'!P30) | O30: ='Ek.3-A'!S30 -> 0 | P30: ='Ek.3-A'!L30 | Q30: ='Ek.3-A'!M30 | R30: =IF(L30="var",0,IF(Q30<=0.005,Q30,0)) -> 0 | S30: =IF(Q30<=0.005,"E","H") -> H | T30: =IF(S30="E",SUM($R$5:R30),0) -> 0 | U30: =IF(T30<=0.1, O30, IF(R30>$G$2, R30*O30, $G$2*O30)) -> 0 | W30: =W29+$W$2 -> 986 | X30: S26 | Y30: ='Ek.3-A'!X986 -> 0 | Z30: ='Ek.3-A'!Y986 -> 0
A31: 1.31 | B31: YERLİ KATKI ORANI RAPORU | D31: 820900200000 | E31: 0.1 | K31: =K30+1 -> 26 | L31: =IF(TRIM('Ek.3-A'!F31)<>"","var","yok") -> yok | M31: =IFERROR(IF('Ek.3-A'!F31="", "", IF(VLOOKUP('Ek.3-A'!F31, Veriler!D:E, 2, 0)=0, "", VLOOKUP('Ek.3-A'!F31, Veriler!D:E, 2, 0)))," ") | N31: =IF('Ek.3-A'!P31="", "", 'Ek.3-A'!P31) | O31: ='Ek.3-A'!S31 -> 0 | P31: ='Ek.3-A'!L31 | Q31: ='Ek.3-A'!M31 | R31: =IF(L31="var",0,IF(Q31<=0.005,Q31,0)) -> 0 | S31: =IF(Q31<=0.005,"E","H") -> H | T31: =IF(S31="E",SUM($R$5:R31),0) -> 0 | U31: =IF(T31<=0.1, O31, IF(R31>$G$2, R31*O31, $G$2*O31)) -> 0 | W31: =W30+$W$2 -> 1024 | X31: S27 | Y31: ='Ek.3-A'!X1024 -> 0 | Z31: ='Ek.3-A'!Y1024 -> 0
A32: 1.32 | B32: YERLİ KATKI ORANI RAPORU | D32: 850110930000 | E32: 0.1 | K32: =K31+1 -> 27 | L32: =IF(TRIM('Ek.3-A'!F32)<>"","var","yok") -> yok | M32: =IFERROR(IF('Ek.3-A'!F32="", "", IF(VLOOKUP('Ek.3-A'!F32, Veriler!D:E, 2, 0)=0, "", VLOOKUP('Ek.3-A'!F32, Veriler!D:E, 2, 0)))," ") | N32: =IF('Ek.3-A'!P32="", "", 'Ek.3-A'!P32) | O32: ='Ek.3-A'!S32 -> 0 | P32: ='Ek.3-A'!L32 | Q32: ='Ek.3-A'!M32 | R32: =IF(L32="var",0,IF(Q32<=0.005,Q32,0)) -> 0 | S32: =IF(Q32<=0.005,"E","H") -> H | T32: =IF(S32="E",SUM($R$5:R32),0) -> 0 | U32: =IF(T32<=0.1, O32, IF(R32>$G$2, R32*O32, $G$2*O32)) -> 0 | W32: =W31+$W$2 -> 1062 | X32: S28 | Y32: ='Ek.3-A'!X1062 -> 0 | Z32: ='Ek.3-A'!Y1062 -> 0
A33: 1.33 | B33: YERLİ KATKI ORANI RAPORU | D33: 260600000000 | E33: 0.1 | K33: =K32+1 -> 28 | L33: =IF(TRIM('Ek.3-A'!F33)<>"","var","yok") -> yok | M33: =IFERROR(IF('Ek.3-A'!F33="", "", IF(VLOOKUP('Ek.3-A'!F33, Veriler!D:E, 2, 0)=0, "", VLOOKUP('Ek.3-A'!F33, Veriler!D:E, 2, 0)))," ") | N33: =IF('Ek.3-A'!P33="", "", 'Ek.3-A'!P33) | O33: ='Ek.3-A'!S33 -> 0 | P33: ='Ek.3-A'!L33 | Q33: ='Ek.3-A'!M33 | R33: =IF(L33="var",0,IF(Q33<=0.005,Q33,0)) -> 0 | S33: =IF(Q33<=0.005,"E","H") -> H | T33: =IF(S33="E",SUM($R$5:R33),0) -> 0 | U33: =IF(T33<=0.1, O33, IF(R33>$G$2, R33*O33, $G$2*O33)) -> 0 | W33: =W32+$W$2 -> 1100 | X33: S29 | Y33: ='Ek.3-A'!X1100 -> 0 | Z33: ='Ek.3-A'!Y1100 -> 0
A34: 1.34 | B34: YERLİ KATKI ORANI RAPORU | D34: 281830000000 | E34: 0.1 | W34: =W33+$W$2 -> 1138 | X34: S30 | Y34: ='Ek.3-A'!X1138 -> 0 | Z34: ='Ek.3-A'!Y1138 -> 0 | AO34: ='Ek.3-A'!L34 -> 0
A35: 1.35 | B35: YERLİ KATKI ORANI RAPORU | D35: 281820000000 | E35: 0.1 | W35: =W34+$W$2 -> 1176 | X35: S31 | Y35: ='Ek.3-A'!X1176 -> 0 | Z35: ='Ek.3-A'!Y1176 -> 0
A36: 1.36 | B36: YERLİ KATKI ORANI RAPORU | D36: 760200900000 | E36: 0.1 | W36: =W35+$W$2 -> 1214 | X36: S32 | Y36: ='Ek.3-A'!X1214 -> 0 | Z36: ='Ek.3-A'!Y1214 -> 0
A37: 1.37 | B37: YERLİ KATKI ORANI RAPORU | D37: 760200110000 | E37: 0.1 | W37: =W36+$W$2 -> 1252 | X37: S33 | Y37: ='Ek.3-A'!X1252 -> 0 | Z37: ='Ek.3-A'!Y1252 -> 0
A38: 1.38 | B38: YERLİ KATKI ORANI RAPORU | D38: 294110000011 | E38: 0.1 | W38: =W37+$W$2 -> 1290 | X38: S34 | Y38: ='Ek.3-A'!X1290 -> 0 | Z38: ='Ek.3-A'!Y1290 -> 0
A39: 1.39 | B39: YERLİ KATKI ORANI RAPORU | D39: 310540000011 | E39: 0.1 | W39: =W38+$W$2 -> 1328 | X39: S35 | Y39: ='Ek.3-A'!X1328 -> 0 | Z39: ='Ek.3-A'!Y1328 -> 0
A40: 1.4 | B40: YERLİ KATKI ORANI RAPORU | D40: 310221000000 | E40: 0.1 | W40: =W39+$W$2 -> 1366 | X40: S36 | Y40: ='Ek.3-A'!X1366 -> 0 | Z40: ='Ek.3-A'!Y1366 -> 0
...
